BEGIN:VCALENDAR
VERSION:2.0
PRODID:-//Canadian American Club - ECPv6.15.20//NONSGML v1.0//EN
CALSCALE:GREGORIAN
METHOD:PUBLISH
X-ORIGINAL-URL:https://canadianamericanclub.com
X-WR-CALDESC:Events for Canadian American Club
REFRESH-INTERVAL;VALUE=DURATION:PT1H
X-Robots-Tag:noindex
X-PUBLISHED-TTL:PT1H
BEGIN:VTIMEZONE
TZID:America/New_York
BEGIN:DAYLIGHT
TZOFFSETFROM:-0500
TZOFFSETTO:-0400
TZNAME:EDT
DTSTART:20240310T070000
END:DAYLIGHT
BEGIN:STANDARD
TZOFFSETFROM:-0400
TZOFFSETTO:-0500
TZNAME:EST
DTSTART:20241103T060000
END:STANDARD
BEGIN:DAYLIGHT
TZOFFSETFROM:-0500
TZOFFSETTO:-0400
TZNAME:EDT
DTSTART:20250309T070000
END:DAYLIGHT
BEGIN:STANDARD
TZOFFSETFROM:-0400
TZOFFSETTO:-0500
TZNAME:EST
DTSTART:20251102T060000
END:STANDARD
BEGIN:DAYLIGHT
TZOFFSETFROM:-0500
TZOFFSETTO:-0400
TZNAME:EDT
DTSTART:20260308T070000
END:DAYLIGHT
BEGIN:STANDARD
TZOFFSETFROM:-0400
TZOFFSETTO:-0500
TZNAME:EST
DTSTART:20261101T060000
END:STANDARD
END:VTIMEZONE
BEGIN:VEVENT
DTSTART;TZID=America/New_York:20251207T150000
DTEND;TZID=America/New_York:20251207T190000
DTSTAMP:20260425T193632
CREATED:20250308T010635Z
LAST-MODIFIED:20250308T010636Z
UID:10000760-1765119600-1765134000@canadianamericanclub.com
SUMMARY:Comhaltas Monthly Seisiún
DESCRIPTION:The Reynolds-Hanafin-Cooley branch holds monthly Seisiúns October through June.
URL:https://canadianamericanclub.com/event/comhaltas-monthly-seisiun-2/2025-12-07
LOCATION:Canadian American Club\, 202 Arlington Street\, Watertown\, MA\, United States
CATEGORIES:Irish,Session
END:VEVENT
BEGIN:VEVENT
DTSTART;TZID=America/New_York:20251202T193000
DTEND;TZID=America/New_York:20251202T210000
DTSTAMP:20260425T193632
CREATED:20240327T191347Z
LAST-MODIFIED:20240402T185757Z
UID:10000887-1764703800-1764709200@canadianamericanclub.com
SUMMARY:Irish Set Dancing workshop
DESCRIPTION:Watertown Set/Ceili Dance Workshop Tuesday evenings from 7:30pm- 9:00pm. Schedule can be found at ceboston.org/branch-activities
URL:https://canadianamericanclub.com/event/irish-set-dancing/2025-12-02
LOCATION:Canadian American Club\, 202 Arlington Street\, Watertown\, MA\, United States
CATEGORIES:Irish,workshop
END:VEVENT
BEGIN:VEVENT
DTSTART;TZID=America/New_York:20251125T193000
DTEND;TZID=America/New_York:20251125T210000
DTSTAMP:20260425T193632
CREATED:20240327T191347Z
LAST-MODIFIED:20240402T185757Z
UID:10000886-1764099000-1764104400@canadianamericanclub.com
SUMMARY:Irish Set Dancing workshop
DESCRIPTION:Watertown Set/Ceili Dance Workshop Tuesday evenings from 7:30pm- 9:00pm. Schedule can be found at ceboston.org/branch-activities
URL:https://canadianamericanclub.com/event/irish-set-dancing/2025-11-25
LOCATION:Canadian American Club\, 202 Arlington Street\, Watertown\, MA\, United States
CATEGORIES:Irish,workshop
END:VEVENT
BEGIN:VEVENT
DTSTART;TZID=America/New_York:20251118T193000
DTEND;TZID=America/New_York:20251118T210000
DTSTAMP:20260425T193632
CREATED:20240327T191347Z
LAST-MODIFIED:20240402T185757Z
UID:10000885-1763494200-1763499600@canadianamericanclub.com
SUMMARY:Irish Set Dancing workshop
DESCRIPTION:Watertown Set/Ceili Dance Workshop Tuesday evenings from 7:30pm- 9:00pm. Schedule can be found at ceboston.org/branch-activities
URL:https://canadianamericanclub.com/event/irish-set-dancing/2025-11-18
LOCATION:Canadian American Club\, 202 Arlington Street\, Watertown\, MA\, United States
CATEGORIES:Irish,workshop
END:VEVENT
BEGIN:VEVENT
DTSTART;TZID=America/New_York:20251111T193000
DTEND;TZID=America/New_York:20251111T210000
DTSTAMP:20260425T193632
CREATED:20240327T191347Z
LAST-MODIFIED:20240402T185757Z
UID:10000884-1762889400-1762894800@canadianamericanclub.com
SUMMARY:Irish Set Dancing workshop
DESCRIPTION:Watertown Set/Ceili Dance Workshop Tuesday evenings from 7:30pm- 9:00pm. Schedule can be found at ceboston.org/branch-activities
URL:https://canadianamericanclub.com/event/irish-set-dancing/2025-11-11
LOCATION:Canadian American Club\, 202 Arlington Street\, Watertown\, MA\, United States
CATEGORIES:Irish,workshop
END:VEVENT
BEGIN:VEVENT
DTSTART;TZID=America/New_York:20251104T193000
DTEND;TZID=America/New_York:20251104T210000
DTSTAMP:20260425T193632
CREATED:20240327T191347Z
LAST-MODIFIED:20240402T185757Z
UID:10000883-1762284600-1762290000@canadianamericanclub.com
SUMMARY:Irish Set Dancing workshop
DESCRIPTION:Watertown Set/Ceili Dance Workshop Tuesday evenings from 7:30pm- 9:00pm. Schedule can be found at ceboston.org/branch-activities
URL:https://canadianamericanclub.com/event/irish-set-dancing/2025-11-04
LOCATION:Canadian American Club\, 202 Arlington Street\, Watertown\, MA\, United States
CATEGORIES:Irish,workshop
END:VEVENT
BEGIN:VEVENT
DTSTART;TZID=America/New_York:20251102T150000
DTEND;TZID=America/New_York:20251102T190000
DTSTAMP:20260425T193632
CREATED:20250308T010635Z
LAST-MODIFIED:20250308T010636Z
UID:10000759-1762095600-1762110000@canadianamericanclub.com
SUMMARY:Comhaltas Monthly Seisiún
DESCRIPTION:The Reynolds-Hanafin-Cooley branch holds monthly Seisiúns October through June.
URL:https://canadianamericanclub.com/event/comhaltas-monthly-seisiun-2/2025-11-02
LOCATION:Canadian American Club\, 202 Arlington Street\, Watertown\, MA\, United States
CATEGORIES:Irish,Session
END:VEVENT
BEGIN:VEVENT
DTSTART;TZID=America/New_York:20251028T193000
DTEND;TZID=America/New_York:20251028T210000
DTSTAMP:20260425T193632
CREATED:20240327T191347Z
LAST-MODIFIED:20240402T185757Z
UID:10000882-1761679800-1761685200@canadianamericanclub.com
SUMMARY:Irish Set Dancing workshop
DESCRIPTION:Watertown Set/Ceili Dance Workshop Tuesday evenings from 7:30pm- 9:00pm. Schedule can be found at ceboston.org/branch-activities
URL:https://canadianamericanclub.com/event/irish-set-dancing/2025-10-28
LOCATION:Canadian American Club\, 202 Arlington Street\, Watertown\, MA\, United States
CATEGORIES:Irish,workshop
END:VEVENT
BEGIN:VEVENT
DTSTART;TZID=America/New_York:20251021T193000
DTEND;TZID=America/New_York:20251021T210000
DTSTAMP:20260425T193632
CREATED:20240327T191347Z
LAST-MODIFIED:20240402T185757Z
UID:10000881-1761075000-1761080400@canadianamericanclub.com
SUMMARY:Irish Set Dancing workshop
DESCRIPTION:Watertown Set/Ceili Dance Workshop Tuesday evenings from 7:30pm- 9:00pm. Schedule can be found at ceboston.org/branch-activities
URL:https://canadianamericanclub.com/event/irish-set-dancing/2025-10-21
LOCATION:Canadian American Club\, 202 Arlington Street\, Watertown\, MA\, United States
CATEGORIES:Irish,workshop
END:VEVENT
BEGIN:VEVENT
DTSTART;TZID=America/New_York:20251014T193000
DTEND;TZID=America/New_York:20251014T210000
DTSTAMP:20260425T193632
CREATED:20240327T191347Z
LAST-MODIFIED:20240402T185757Z
UID:10000880-1760470200-1760475600@canadianamericanclub.com
SUMMARY:Irish Set Dancing workshop
DESCRIPTION:Watertown Set/Ceili Dance Workshop Tuesday evenings from 7:30pm- 9:00pm. Schedule can be found at ceboston.org/branch-activities
URL:https://canadianamericanclub.com/event/irish-set-dancing/2025-10-14
LOCATION:Canadian American Club\, 202 Arlington Street\, Watertown\, MA\, United States
CATEGORIES:Irish,workshop
END:VEVENT
BEGIN:VEVENT
DTSTART;TZID=America/New_York:20251007T193000
DTEND;TZID=America/New_York:20251007T210000
DTSTAMP:20260425T193632
CREATED:20240327T191347Z
LAST-MODIFIED:20240402T185757Z
UID:10000879-1759865400-1759870800@canadianamericanclub.com
SUMMARY:Irish Set Dancing workshop
DESCRIPTION:Watertown Set/Ceili Dance Workshop Tuesday evenings from 7:30pm- 9:00pm. Schedule can be found at ceboston.org/branch-activities
URL:https://canadianamericanclub.com/event/irish-set-dancing/2025-10-07
LOCATION:Canadian American Club\, 202 Arlington Street\, Watertown\, MA\, United States
CATEGORIES:Irish,workshop
END:VEVENT
BEGIN:VEVENT
DTSTART;TZID=America/New_York:20251005T150000
DTEND;TZID=America/New_York:20251005T190000
DTSTAMP:20260425T193632
CREATED:20250308T010635Z
LAST-MODIFIED:20250308T010636Z
UID:10000758-1759676400-1759690800@canadianamericanclub.com
SUMMARY:Comhaltas Monthly Seisiún
DESCRIPTION:The Reynolds-Hanafin-Cooley branch holds monthly Seisiúns October through June.
URL:https://canadianamericanclub.com/event/comhaltas-monthly-seisiun-2/2025-10-05
LOCATION:Canadian American Club\, 202 Arlington Street\, Watertown\, MA\, United States
CATEGORIES:Irish,Session
END:VEVENT
BEGIN:VEVENT
DTSTART;TZID=America/New_York:20250930T193000
DTEND;TZID=America/New_York:20250930T210000
DTSTAMP:20260425T193632
CREATED:20240327T191347Z
LAST-MODIFIED:20240402T185757Z
UID:10000878-1759260600-1759266000@canadianamericanclub.com
SUMMARY:Irish Set Dancing workshop
DESCRIPTION:Watertown Set/Ceili Dance Workshop Tuesday evenings from 7:30pm- 9:00pm. Schedule can be found at ceboston.org/branch-activities
URL:https://canadianamericanclub.com/event/irish-set-dancing/2025-09-30
LOCATION:Canadian American Club\, 202 Arlington Street\, Watertown\, MA\, United States
CATEGORIES:Irish,workshop
END:VEVENT
BEGIN:VEVENT
DTSTART;TZID=America/New_York:20250923T193000
DTEND;TZID=America/New_York:20250923T210000
DTSTAMP:20260425T193632
CREATED:20240327T191347Z
LAST-MODIFIED:20240402T185757Z
UID:10000877-1758655800-1758661200@canadianamericanclub.com
SUMMARY:Irish Set Dancing workshop
DESCRIPTION:Watertown Set/Ceili Dance Workshop Tuesday evenings from 7:30pm- 9:00pm. Schedule can be found at ceboston.org/branch-activities
URL:https://canadianamericanclub.com/event/irish-set-dancing/2025-09-23
LOCATION:Canadian American Club\, 202 Arlington Street\, Watertown\, MA\, United States
CATEGORIES:Irish,workshop
END:VEVENT
BEGIN:VEVENT
DTSTART;TZID=America/New_York:20250916T193000
DTEND;TZID=America/New_York:20250916T210000
DTSTAMP:20260425T193632
CREATED:20240327T191347Z
LAST-MODIFIED:20240402T185757Z
UID:10000876-1758051000-1758056400@canadianamericanclub.com
SUMMARY:Irish Set Dancing workshop
DESCRIPTION:Watertown Set/Ceili Dance Workshop Tuesday evenings from 7:30pm- 9:00pm. Schedule can be found at ceboston.org/branch-activities
URL:https://canadianamericanclub.com/event/irish-set-dancing/2025-09-16
LOCATION:Canadian American Club\, 202 Arlington Street\, Watertown\, MA\, United States
CATEGORIES:Irish,workshop
END:VEVENT
BEGIN:VEVENT
DTSTART;TZID=America/New_York:20250909T193000
DTEND;TZID=America/New_York:20250909T210000
DTSTAMP:20260425T193632
CREATED:20240327T191347Z
LAST-MODIFIED:20240402T185757Z
UID:10000875-1757446200-1757451600@canadianamericanclub.com
SUMMARY:Irish Set Dancing workshop
DESCRIPTION:Watertown Set/Ceili Dance Workshop Tuesday evenings from 7:30pm- 9:00pm. Schedule can be found at ceboston.org/branch-activities
URL:https://canadianamericanclub.com/event/irish-set-dancing/2025-09-09
LOCATION:Canadian American Club\, 202 Arlington Street\, Watertown\, MA\, United States
CATEGORIES:Irish,workshop
END:VEVENT
BEGIN:VEVENT
DTSTART;TZID=America/New_York:20250907T150000
DTEND;TZID=America/New_York:20250907T190000
DTSTAMP:20260425T193632
CREATED:20250308T010635Z
LAST-MODIFIED:20250308T010636Z
UID:10000757-1757257200-1757271600@canadianamericanclub.com
SUMMARY:Comhaltas Monthly Seisiún
DESCRIPTION:The Reynolds-Hanafin-Cooley branch holds monthly Seisiúns October through June.
URL:https://canadianamericanclub.com/event/comhaltas-monthly-seisiun-2/2025-09-07
LOCATION:Canadian American Club\, 202 Arlington Street\, Watertown\, MA\, United States
CATEGORIES:Irish,Session
END:VEVENT
BEGIN:VEVENT
DTSTART;TZID=America/New_York:20250902T193000
DTEND;TZID=America/New_York:20250902T210000
DTSTAMP:20260425T193632
CREATED:20240327T191347Z
LAST-MODIFIED:20240402T185757Z
UID:10000874-1756841400-1756846800@canadianamericanclub.com
SUMMARY:Irish Set Dancing workshop
DESCRIPTION:Watertown Set/Ceili Dance Workshop Tuesday evenings from 7:30pm- 9:00pm. Schedule can be found at ceboston.org/branch-activities
URL:https://canadianamericanclub.com/event/irish-set-dancing/2025-09-02
LOCATION:Canadian American Club\, 202 Arlington Street\, Watertown\, MA\, United States
CATEGORIES:Irish,workshop
END:VEVENT
BEGIN:VEVENT
DTSTART;TZID=America/New_York:20250826T193000
DTEND;TZID=America/New_York:20250826T210000
DTSTAMP:20260425T193632
CREATED:20240327T191347Z
LAST-MODIFIED:20240402T185757Z
UID:10000873-1756236600-1756242000@canadianamericanclub.com
SUMMARY:Irish Set Dancing workshop
DESCRIPTION:Watertown Set/Ceili Dance Workshop Tuesday evenings from 7:30pm- 9:00pm. Schedule can be found at ceboston.org/branch-activities
URL:https://canadianamericanclub.com/event/irish-set-dancing/2025-08-26
LOCATION:Canadian American Club\, 202 Arlington Street\, Watertown\, MA\, United States
CATEGORIES:Irish,workshop
END:VEVENT
BEGIN:VEVENT
DTSTART;TZID=America/New_York:20250819T193000
DTEND;TZID=America/New_York:20250819T210000
DTSTAMP:20260425T193632
CREATED:20240327T191347Z
LAST-MODIFIED:20240402T185757Z
UID:10000872-1755631800-1755637200@canadianamericanclub.com
SUMMARY:Irish Set Dancing workshop
DESCRIPTION:Watertown Set/Ceili Dance Workshop Tuesday evenings from 7:30pm- 9:00pm. Schedule can be found at ceboston.org/branch-activities
URL:https://canadianamericanclub.com/event/irish-set-dancing/2025-08-19
LOCATION:Canadian American Club\, 202 Arlington Street\, Watertown\, MA\, United States
CATEGORIES:Irish,workshop
END:VEVENT
BEGIN:VEVENT
DTSTART;TZID=America/New_York:20250812T193000
DTEND;TZID=America/New_York:20250812T210000
DTSTAMP:20260425T193632
CREATED:20240327T191347Z
LAST-MODIFIED:20240402T185757Z
UID:10000871-1755027000-1755032400@canadianamericanclub.com
SUMMARY:Irish Set Dancing workshop
DESCRIPTION:Watertown Set/Ceili Dance Workshop Tuesday evenings from 7:30pm- 9:00pm. Schedule can be found at ceboston.org/branch-activities
URL:https://canadianamericanclub.com/event/irish-set-dancing/2025-08-12
LOCATION:Canadian American Club\, 202 Arlington Street\, Watertown\, MA\, United States
CATEGORIES:Irish,workshop
END:VEVENT
BEGIN:VEVENT
DTSTART;TZID=America/New_York:20250805T193000
DTEND;TZID=America/New_York:20250805T210000
DTSTAMP:20260425T193632
CREATED:20240327T191347Z
LAST-MODIFIED:20240402T185757Z
UID:10000870-1754422200-1754427600@canadianamericanclub.com
SUMMARY:Irish Set Dancing workshop
DESCRIPTION:Watertown Set/Ceili Dance Workshop Tuesday evenings from 7:30pm- 9:00pm. Schedule can be found at ceboston.org/branch-activities
URL:https://canadianamericanclub.com/event/irish-set-dancing/2025-08-05
LOCATION:Canadian American Club\, 202 Arlington Street\, Watertown\, MA\, United States
CATEGORIES:Irish,workshop
END:VEVENT
BEGIN:VEVENT
DTSTART;TZID=America/New_York:20250803T150000
DTEND;TZID=America/New_York:20250803T190000
DTSTAMP:20260425T193632
CREATED:20250308T010635Z
LAST-MODIFIED:20250308T010636Z
UID:10000756-1754233200-1754247600@canadianamericanclub.com
SUMMARY:Comhaltas Monthly Seisiún
DESCRIPTION:The Reynolds-Hanafin-Cooley branch holds monthly Seisiúns October through June.
URL:https://canadianamericanclub.com/event/comhaltas-monthly-seisiun-2/2025-08-03
LOCATION:Canadian American Club\, 202 Arlington Street\, Watertown\, MA\, United States
CATEGORIES:Irish,Session
END:VEVENT
BEGIN:VEVENT
DTSTART;TZID=America/New_York:20250729T193000
DTEND;TZID=America/New_York:20250729T210000
DTSTAMP:20260425T193632
CREATED:20240327T191347Z
LAST-MODIFIED:20240402T185757Z
UID:10000869-1753817400-1753822800@canadianamericanclub.com
SUMMARY:Irish Set Dancing workshop
DESCRIPTION:Watertown Set/Ceili Dance Workshop Tuesday evenings from 7:30pm- 9:00pm. Schedule can be found at ceboston.org/branch-activities
URL:https://canadianamericanclub.com/event/irish-set-dancing/2025-07-29
LOCATION:Canadian American Club\, 202 Arlington Street\, Watertown\, MA\, United States
CATEGORIES:Irish,workshop
END:VEVENT
BEGIN:VEVENT
DTSTART;TZID=America/New_York:20250722T193000
DTEND;TZID=America/New_York:20250722T210000
DTSTAMP:20260425T193632
CREATED:20240327T191347Z
LAST-MODIFIED:20240402T185757Z
UID:10000868-1753212600-1753218000@canadianamericanclub.com
SUMMARY:Irish Set Dancing workshop
DESCRIPTION:Watertown Set/Ceili Dance Workshop Tuesday evenings from 7:30pm- 9:00pm. Schedule can be found at ceboston.org/branch-activities
URL:https://canadianamericanclub.com/event/irish-set-dancing/2025-07-22
LOCATION:Canadian American Club\, 202 Arlington Street\, Watertown\, MA\, United States
CATEGORIES:Irish,workshop
END:VEVENT
BEGIN:VEVENT
DTSTART;TZID=America/New_York:20250715T193000
DTEND;TZID=America/New_York:20250715T210000
DTSTAMP:20260425T193632
CREATED:20240327T191347Z
LAST-MODIFIED:20240402T185757Z
UID:10000867-1752607800-1752613200@canadianamericanclub.com
SUMMARY:Irish Set Dancing workshop
DESCRIPTION:Watertown Set/Ceili Dance Workshop Tuesday evenings from 7:30pm- 9:00pm. Schedule can be found at ceboston.org/branch-activities
URL:https://canadianamericanclub.com/event/irish-set-dancing/2025-07-15
LOCATION:Canadian American Club\, 202 Arlington Street\, Watertown\, MA\, United States
CATEGORIES:Irish,workshop
END:VEVENT
BEGIN:VEVENT
DTSTART;TZID=America/New_York:20250708T193000
DTEND;TZID=America/New_York:20250708T210000
DTSTAMP:20260425T193632
CREATED:20240327T191347Z
LAST-MODIFIED:20240402T185757Z
UID:10000866-1752003000-1752008400@canadianamericanclub.com
SUMMARY:Irish Set Dancing workshop
DESCRIPTION:Watertown Set/Ceili Dance Workshop Tuesday evenings from 7:30pm- 9:00pm. Schedule can be found at ceboston.org/branch-activities
URL:https://canadianamericanclub.com/event/irish-set-dancing/2025-07-08
LOCATION:Canadian American Club\, 202 Arlington Street\, Watertown\, MA\, United States
CATEGORIES:Irish,workshop
END:VEVENT
BEGIN:VEVENT
DTSTART;TZID=America/New_York:20250706T150000
DTEND;TZID=America/New_York:20250706T190000
DTSTAMP:20260425T193632
CREATED:20250308T010635Z
LAST-MODIFIED:20250308T010636Z
UID:10000755-1751814000-1751828400@canadianamericanclub.com
SUMMARY:Comhaltas Monthly Seisiún
DESCRIPTION:The Reynolds-Hanafin-Cooley branch holds monthly Seisiúns October through June.
URL:https://canadianamericanclub.com/event/comhaltas-monthly-seisiun-2/2025-07-06
LOCATION:Canadian American Club\, 202 Arlington Street\, Watertown\, MA\, United States
CATEGORIES:Irish,Session
END:VEVENT
BEGIN:VEVENT
DTSTART;TZID=America/New_York:20250701T193000
DTEND;TZID=America/New_York:20250701T210000
DTSTAMP:20260425T193632
CREATED:20240327T191347Z
LAST-MODIFIED:20240402T185757Z
UID:10000865-1751398200-1751403600@canadianamericanclub.com
SUMMARY:Irish Set Dancing workshop
DESCRIPTION:Watertown Set/Ceili Dance Workshop Tuesday evenings from 7:30pm- 9:00pm. Schedule can be found at ceboston.org/branch-activities
URL:https://canadianamericanclub.com/event/irish-set-dancing/2025-07-01
LOCATION:Canadian American Club\, 202 Arlington Street\, Watertown\, MA\, United States
CATEGORIES:Irish,workshop
END:VEVENT
BEGIN:VEVENT
DTSTART;TZID=America/New_York:20250624T193000
DTEND;TZID=America/New_York:20250624T210000
DTSTAMP:20260425T193632
CREATED:20240327T191347Z
LAST-MODIFIED:20240402T185757Z
UID:10000864-1750793400-1750798800@canadianamericanclub.com
SUMMARY:Irish Set Dancing workshop
DESCRIPTION:Watertown Set/Ceili Dance Workshop Tuesday evenings from 7:30pm- 9:00pm. Schedule can be found at ceboston.org/branch-activities
URL:https://canadianamericanclub.com/event/irish-set-dancing/2025-06-24
LOCATION:Canadian American Club\, 202 Arlington Street\, Watertown\, MA\, United States
CATEGORIES:Irish,workshop
END:VEVENT
END:VCALENDAR