BEGIN:VCALENDAR
VERSION:2.0
PRODID:-//Canadian American Club - ECPv6.15.20//NONSGML v1.0//EN
CALSCALE:GREGORIAN
METHOD:PUBLISH
X-WR-CALNAME:Canadian American Club
X-ORIGINAL-URL:https://canadianamericanclub.com
X-WR-CALDESC:Events for Canadian American Club
REFRESH-INTERVAL;VALUE=DURATION:PT1H
X-Robots-Tag:noindex
X-PUBLISHED-TTL:PT1H
BEGIN:VTIMEZONE
TZID:America/New_York
BEGIN:DAYLIGHT
TZOFFSETFROM:-0500
TZOFFSETTO:-0400
TZNAME:EDT
DTSTART:20240310T070000
END:DAYLIGHT
BEGIN:STANDARD
TZOFFSETFROM:-0400
TZOFFSETTO:-0500
TZNAME:EST
DTSTART:20241103T060000
END:STANDARD
BEGIN:DAYLIGHT
TZOFFSETFROM:-0500
TZOFFSETTO:-0400
TZNAME:EDT
DTSTART:20250309T070000
END:DAYLIGHT
BEGIN:STANDARD
TZOFFSETFROM:-0400
TZOFFSETTO:-0500
TZNAME:EST
DTSTART:20251102T060000
END:STANDARD
BEGIN:DAYLIGHT
TZOFFSETFROM:-0500
TZOFFSETTO:-0400
TZNAME:EDT
DTSTART:20260308T070000
END:DAYLIGHT
BEGIN:STANDARD
TZOFFSETFROM:-0400
TZOFFSETTO:-0500
TZNAME:EST
DTSTART:20261101T060000
END:STANDARD
BEGIN:DAYLIGHT
TZOFFSETFROM:-0500
TZOFFSETTO:-0400
TZNAME:EDT
DTSTART:20270314T070000
END:DAYLIGHT
BEGIN:STANDARD
TZOFFSETFROM:-0400
TZOFFSETTO:-0500
TZNAME:EST
DTSTART:20271107T060000
END:STANDARD
END:VTIMEZONE
BEGIN:VEVENT
DTSTART;TZID=America/New_York:20260421T193000
DTEND;TZID=America/New_York:20260421T210000
DTSTAMP:20260425T140333
CREATED:20240327T191347Z
LAST-MODIFIED:20240402T185757Z
UID:10000907-1776799800-1776805200@canadianamericanclub.com
SUMMARY:Irish Set Dancing workshop
DESCRIPTION:Watertown Set/Ceili Dance Workshop Tuesday evenings from 7:30pm- 9:00pm. Schedule can be found at ceboston.org/branch-activities
URL:https://canadianamericanclub.com/event/irish-set-dancing/2026-04-21
LOCATION:Canadian American Club\, 202 Arlington Street\, Watertown\, MA\, United States
CATEGORIES:Irish,workshop
END:VEVENT
BEGIN:VEVENT
DTSTART;TZID=America/New_York:20260414T193000
DTEND;TZID=America/New_York:20260414T210000
DTSTAMP:20260425T140333
CREATED:20240327T191347Z
LAST-MODIFIED:20240402T185757Z
UID:10000906-1776195000-1776200400@canadianamericanclub.com
SUMMARY:Irish Set Dancing workshop
DESCRIPTION:Watertown Set/Ceili Dance Workshop Tuesday evenings from 7:30pm- 9:00pm. Schedule can be found at ceboston.org/branch-activities
URL:https://canadianamericanclub.com/event/irish-set-dancing/2026-04-14
LOCATION:Canadian American Club\, 202 Arlington Street\, Watertown\, MA\, United States
CATEGORIES:Irish,workshop
END:VEVENT
BEGIN:VEVENT
DTSTART;TZID=America/New_York:20260407T193000
DTEND;TZID=America/New_York:20260407T210000
DTSTAMP:20260425T140333
CREATED:20240327T191347Z
LAST-MODIFIED:20240402T185757Z
UID:10000905-1775590200-1775595600@canadianamericanclub.com
SUMMARY:Irish Set Dancing workshop
DESCRIPTION:Watertown Set/Ceili Dance Workshop Tuesday evenings from 7:30pm- 9:00pm. Schedule can be found at ceboston.org/branch-activities
URL:https://canadianamericanclub.com/event/irish-set-dancing/2026-04-07
LOCATION:Canadian American Club\, 202 Arlington Street\, Watertown\, MA\, United States
CATEGORIES:Irish,workshop
END:VEVENT
BEGIN:VEVENT
DTSTART;TZID=America/New_York:20260405T150000
DTEND;TZID=America/New_York:20260405T190000
DTSTAMP:20260425T140333
CREATED:20250308T010635Z
LAST-MODIFIED:20250308T010636Z
UID:10000764-1775401200-1775415600@canadianamericanclub.com
SUMMARY:Comhaltas Monthly Seisiún
DESCRIPTION:The Reynolds-Hanafin-Cooley branch holds monthly Seisiúns October through June.
URL:https://canadianamericanclub.com/event/comhaltas-monthly-seisiun-2/2026-04-05
LOCATION:Canadian American Club\, 202 Arlington Street\, Watertown\, MA\, United States
CATEGORIES:Irish,Session
END:VEVENT
BEGIN:VEVENT
DTSTART;TZID=America/New_York:20260331T193000
DTEND;TZID=America/New_York:20260331T210000
DTSTAMP:20260425T140333
CREATED:20240327T191347Z
LAST-MODIFIED:20240402T185757Z
UID:10000904-1774985400-1774990800@canadianamericanclub.com
SUMMARY:Irish Set Dancing workshop
DESCRIPTION:Watertown Set/Ceili Dance Workshop Tuesday evenings from 7:30pm- 9:00pm. Schedule can be found at ceboston.org/branch-activities
URL:https://canadianamericanclub.com/event/irish-set-dancing/2026-03-31
LOCATION:Canadian American Club\, 202 Arlington Street\, Watertown\, MA\, United States
CATEGORIES:Irish,workshop
END:VEVENT
BEGIN:VEVENT
DTSTART;TZID=America/New_York:20260324T193000
DTEND;TZID=America/New_York:20260324T210000
DTSTAMP:20260425T140333
CREATED:20240327T191347Z
LAST-MODIFIED:20240402T185757Z
UID:10000903-1774380600-1774386000@canadianamericanclub.com
SUMMARY:Irish Set Dancing workshop
DESCRIPTION:Watertown Set/Ceili Dance Workshop Tuesday evenings from 7:30pm- 9:00pm. Schedule can be found at ceboston.org/branch-activities
URL:https://canadianamericanclub.com/event/irish-set-dancing/2026-03-24
LOCATION:Canadian American Club\, 202 Arlington Street\, Watertown\, MA\, United States
CATEGORIES:Irish,workshop
END:VEVENT
BEGIN:VEVENT
DTSTART;TZID=America/New_York:20260317T193000
DTEND;TZID=America/New_York:20260317T210000
DTSTAMP:20260425T140333
CREATED:20240327T191347Z
LAST-MODIFIED:20240402T185757Z
UID:10000902-1773775800-1773781200@canadianamericanclub.com
SUMMARY:Irish Set Dancing workshop
DESCRIPTION:Watertown Set/Ceili Dance Workshop Tuesday evenings from 7:30pm- 9:00pm. Schedule can be found at ceboston.org/branch-activities
URL:https://canadianamericanclub.com/event/irish-set-dancing/2026-03-17
LOCATION:Canadian American Club\, 202 Arlington Street\, Watertown\, MA\, United States
CATEGORIES:Irish,workshop
END:VEVENT
BEGIN:VEVENT
DTSTART;TZID=America/New_York:20260310T193000
DTEND;TZID=America/New_York:20260310T210000
DTSTAMP:20260425T140333
CREATED:20240327T191347Z
LAST-MODIFIED:20240402T185757Z
UID:10000901-1773171000-1773176400@canadianamericanclub.com
SUMMARY:Irish Set Dancing workshop
DESCRIPTION:Watertown Set/Ceili Dance Workshop Tuesday evenings from 7:30pm- 9:00pm. Schedule can be found at ceboston.org/branch-activities
URL:https://canadianamericanclub.com/event/irish-set-dancing/2026-03-10
LOCATION:Canadian American Club\, 202 Arlington Street\, Watertown\, MA\, United States
CATEGORIES:Irish,workshop
END:VEVENT
BEGIN:VEVENT
DTSTART;TZID=America/New_York:20260303T193000
DTEND;TZID=America/New_York:20260303T210000
DTSTAMP:20260425T140333
CREATED:20240327T191347Z
LAST-MODIFIED:20240402T185757Z
UID:10000900-1772566200-1772571600@canadianamericanclub.com
SUMMARY:Irish Set Dancing workshop
DESCRIPTION:Watertown Set/Ceili Dance Workshop Tuesday evenings from 7:30pm- 9:00pm. Schedule can be found at ceboston.org/branch-activities
URL:https://canadianamericanclub.com/event/irish-set-dancing/2026-03-03
LOCATION:Canadian American Club\, 202 Arlington Street\, Watertown\, MA\, United States
CATEGORIES:Irish,workshop
END:VEVENT
BEGIN:VEVENT
DTSTART;TZID=America/New_York:20260301T150000
DTEND;TZID=America/New_York:20260301T190000
DTSTAMP:20260425T140333
CREATED:20250308T010635Z
LAST-MODIFIED:20250308T010636Z
UID:10000763-1772377200-1772391600@canadianamericanclub.com
SUMMARY:Comhaltas Monthly Seisiún
DESCRIPTION:The Reynolds-Hanafin-Cooley branch holds monthly Seisiúns October through June.
URL:https://canadianamericanclub.com/event/comhaltas-monthly-seisiun-2/2026-03-01
LOCATION:Canadian American Club\, 202 Arlington Street\, Watertown\, MA\, United States
CATEGORIES:Irish,Session
END:VEVENT
BEGIN:VEVENT
DTSTART;TZID=America/New_York:20260224T193000
DTEND;TZID=America/New_York:20260224T210000
DTSTAMP:20260425T140333
CREATED:20240327T191347Z
LAST-MODIFIED:20240402T185757Z
UID:10000899-1771961400-1771966800@canadianamericanclub.com
SUMMARY:Irish Set Dancing workshop
DESCRIPTION:Watertown Set/Ceili Dance Workshop Tuesday evenings from 7:30pm- 9:00pm. Schedule can be found at ceboston.org/branch-activities
URL:https://canadianamericanclub.com/event/irish-set-dancing/2026-02-24
LOCATION:Canadian American Club\, 202 Arlington Street\, Watertown\, MA\, United States
CATEGORIES:Irish,workshop
END:VEVENT
BEGIN:VEVENT
DTSTART;TZID=America/New_York:20260217T193000
DTEND;TZID=America/New_York:20260217T210000
DTSTAMP:20260425T140333
CREATED:20240327T191347Z
LAST-MODIFIED:20240402T185757Z
UID:10000898-1771356600-1771362000@canadianamericanclub.com
SUMMARY:Irish Set Dancing workshop
DESCRIPTION:Watertown Set/Ceili Dance Workshop Tuesday evenings from 7:30pm- 9:00pm. Schedule can be found at ceboston.org/branch-activities
URL:https://canadianamericanclub.com/event/irish-set-dancing/2026-02-17
LOCATION:Canadian American Club\, 202 Arlington Street\, Watertown\, MA\, United States
CATEGORIES:Irish,workshop
END:VEVENT
BEGIN:VEVENT
DTSTART;TZID=America/New_York:20260210T193000
DTEND;TZID=America/New_York:20260210T210000
DTSTAMP:20260425T140333
CREATED:20240327T191347Z
LAST-MODIFIED:20240402T185757Z
UID:10000897-1770751800-1770757200@canadianamericanclub.com
SUMMARY:Irish Set Dancing workshop
DESCRIPTION:Watertown Set/Ceili Dance Workshop Tuesday evenings from 7:30pm- 9:00pm. Schedule can be found at ceboston.org/branch-activities
URL:https://canadianamericanclub.com/event/irish-set-dancing/2026-02-10
LOCATION:Canadian American Club\, 202 Arlington Street\, Watertown\, MA\, United States
CATEGORIES:Irish,workshop
END:VEVENT
BEGIN:VEVENT
DTSTART;TZID=America/New_York:20260203T193000
DTEND;TZID=America/New_York:20260203T210000
DTSTAMP:20260425T140333
CREATED:20240327T191347Z
LAST-MODIFIED:20240402T185757Z
UID:10000896-1770147000-1770152400@canadianamericanclub.com
SUMMARY:Irish Set Dancing workshop
DESCRIPTION:Watertown Set/Ceili Dance Workshop Tuesday evenings from 7:30pm- 9:00pm. Schedule can be found at ceboston.org/branch-activities
URL:https://canadianamericanclub.com/event/irish-set-dancing/2026-02-03
LOCATION:Canadian American Club\, 202 Arlington Street\, Watertown\, MA\, United States
CATEGORIES:Irish,workshop
END:VEVENT
BEGIN:VEVENT
DTSTART;TZID=America/New_York:20260201T150000
DTEND;TZID=America/New_York:20260201T190000
DTSTAMP:20260425T140333
CREATED:20250308T010635Z
LAST-MODIFIED:20250308T010636Z
UID:10000762-1769958000-1769972400@canadianamericanclub.com
SUMMARY:Comhaltas Monthly Seisiún
DESCRIPTION:The Reynolds-Hanafin-Cooley branch holds monthly Seisiúns October through June.
URL:https://canadianamericanclub.com/event/comhaltas-monthly-seisiun-2/2026-02-01
LOCATION:Canadian American Club\, 202 Arlington Street\, Watertown\, MA\, United States
CATEGORIES:Irish,Session
END:VEVENT
BEGIN:VEVENT
DTSTART;TZID=America/New_York:20260127T193000
DTEND;TZID=America/New_York:20260127T210000
DTSTAMP:20260425T140333
CREATED:20240327T191347Z
LAST-MODIFIED:20240402T185757Z
UID:10000895-1769542200-1769547600@canadianamericanclub.com
SUMMARY:Irish Set Dancing workshop
DESCRIPTION:Watertown Set/Ceili Dance Workshop Tuesday evenings from 7:30pm- 9:00pm. Schedule can be found at ceboston.org/branch-activities
URL:https://canadianamericanclub.com/event/irish-set-dancing/2026-01-27
LOCATION:Canadian American Club\, 202 Arlington Street\, Watertown\, MA\, United States
CATEGORIES:Irish,workshop
END:VEVENT
BEGIN:VEVENT
DTSTART;TZID=America/New_York:20260120T193000
DTEND;TZID=America/New_York:20260120T210000
DTSTAMP:20260425T140333
CREATED:20240327T191347Z
LAST-MODIFIED:20240402T185757Z
UID:10000894-1768937400-1768942800@canadianamericanclub.com
SUMMARY:Irish Set Dancing workshop
DESCRIPTION:Watertown Set/Ceili Dance Workshop Tuesday evenings from 7:30pm- 9:00pm. Schedule can be found at ceboston.org/branch-activities
URL:https://canadianamericanclub.com/event/irish-set-dancing/2026-01-20
LOCATION:Canadian American Club\, 202 Arlington Street\, Watertown\, MA\, United States
CATEGORIES:Irish,workshop
END:VEVENT
BEGIN:VEVENT
DTSTART;TZID=America/New_York:20260113T193000
DTEND;TZID=America/New_York:20260113T210000
DTSTAMP:20260425T140333
CREATED:20240327T191347Z
LAST-MODIFIED:20240402T185757Z
UID:10000893-1768332600-1768338000@canadianamericanclub.com
SUMMARY:Irish Set Dancing workshop
DESCRIPTION:Watertown Set/Ceili Dance Workshop Tuesday evenings from 7:30pm- 9:00pm. Schedule can be found at ceboston.org/branch-activities
URL:https://canadianamericanclub.com/event/irish-set-dancing/2026-01-13
LOCATION:Canadian American Club\, 202 Arlington Street\, Watertown\, MA\, United States
CATEGORIES:Irish,workshop
END:VEVENT
BEGIN:VEVENT
DTSTART;TZID=America/New_York:20260106T193000
DTEND;TZID=America/New_York:20260106T210000
DTSTAMP:20260425T140333
CREATED:20240327T191347Z
LAST-MODIFIED:20240402T185757Z
UID:10000892-1767727800-1767733200@canadianamericanclub.com
SUMMARY:Irish Set Dancing workshop
DESCRIPTION:Watertown Set/Ceili Dance Workshop Tuesday evenings from 7:30pm- 9:00pm. Schedule can be found at ceboston.org/branch-activities
URL:https://canadianamericanclub.com/event/irish-set-dancing/2026-01-06
LOCATION:Canadian American Club\, 202 Arlington Street\, Watertown\, MA\, United States
CATEGORIES:Irish,workshop
END:VEVENT
BEGIN:VEVENT
DTSTART;TZID=America/New_York:20260104T150000
DTEND;TZID=America/New_York:20260104T190000
DTSTAMP:20260425T140333
CREATED:20250308T010635Z
LAST-MODIFIED:20250308T010636Z
UID:10000761-1767538800-1767553200@canadianamericanclub.com
SUMMARY:Comhaltas Monthly Seisiún
DESCRIPTION:The Reynolds-Hanafin-Cooley branch holds monthly Seisiúns October through June.
URL:https://canadianamericanclub.com/event/comhaltas-monthly-seisiun-2/2026-01-04
LOCATION:Canadian American Club\, 202 Arlington Street\, Watertown\, MA\, United States
CATEGORIES:Irish,Session
END:VEVENT
BEGIN:VEVENT
DTSTART;TZID=America/New_York:20251230T193000
DTEND;TZID=America/New_York:20251230T210000
DTSTAMP:20260425T140333
CREATED:20240327T191347Z
LAST-MODIFIED:20240402T185757Z
UID:10000891-1767123000-1767128400@canadianamericanclub.com
SUMMARY:Irish Set Dancing workshop
DESCRIPTION:Watertown Set/Ceili Dance Workshop Tuesday evenings from 7:30pm- 9:00pm. Schedule can be found at ceboston.org/branch-activities
URL:https://canadianamericanclub.com/event/irish-set-dancing/2025-12-30
LOCATION:Canadian American Club\, 202 Arlington Street\, Watertown\, MA\, United States
CATEGORIES:Irish,workshop
END:VEVENT
BEGIN:VEVENT
DTSTART;TZID=America/New_York:20251223T193000
DTEND;TZID=America/New_York:20251223T210000
DTSTAMP:20260425T140333
CREATED:20240327T191347Z
LAST-MODIFIED:20240402T185757Z
UID:10000890-1766518200-1766523600@canadianamericanclub.com
SUMMARY:Irish Set Dancing workshop
DESCRIPTION:Watertown Set/Ceili Dance Workshop Tuesday evenings from 7:30pm- 9:00pm. Schedule can be found at ceboston.org/branch-activities
URL:https://canadianamericanclub.com/event/irish-set-dancing/2025-12-23
LOCATION:Canadian American Club\, 202 Arlington Street\, Watertown\, MA\, United States
CATEGORIES:Irish,workshop
END:VEVENT
BEGIN:VEVENT
DTSTART;TZID=America/New_York:20251216T193000
DTEND;TZID=America/New_York:20251216T210000
DTSTAMP:20260425T140333
CREATED:20240327T191347Z
LAST-MODIFIED:20240402T185757Z
UID:10000889-1765913400-1765918800@canadianamericanclub.com
SUMMARY:Irish Set Dancing workshop
DESCRIPTION:Watertown Set/Ceili Dance Workshop Tuesday evenings from 7:30pm- 9:00pm. Schedule can be found at ceboston.org/branch-activities
URL:https://canadianamericanclub.com/event/irish-set-dancing/2025-12-16
LOCATION:Canadian American Club\, 202 Arlington Street\, Watertown\, MA\, United States
CATEGORIES:Irish,workshop
END:VEVENT
BEGIN:VEVENT
DTSTART;TZID=America/New_York:20251209T193000
DTEND;TZID=America/New_York:20251209T210000
DTSTAMP:20260425T140333
CREATED:20240327T191347Z
LAST-MODIFIED:20240402T185757Z
UID:10000888-1765308600-1765314000@canadianamericanclub.com
SUMMARY:Irish Set Dancing workshop
DESCRIPTION:Watertown Set/Ceili Dance Workshop Tuesday evenings from 7:30pm- 9:00pm. Schedule can be found at ceboston.org/branch-activities
URL:https://canadianamericanclub.com/event/irish-set-dancing/2025-12-09
LOCATION:Canadian American Club\, 202 Arlington Street\, Watertown\, MA\, United States
CATEGORIES:Irish,workshop
END:VEVENT
BEGIN:VEVENT
DTSTART;TZID=America/New_York:20251207T150000
DTEND;TZID=America/New_York:20251207T190000
DTSTAMP:20260425T140333
CREATED:20250308T010635Z
LAST-MODIFIED:20250308T010636Z
UID:10000760-1765119600-1765134000@canadianamericanclub.com
SUMMARY:Comhaltas Monthly Seisiún
DESCRIPTION:The Reynolds-Hanafin-Cooley branch holds monthly Seisiúns October through June.
URL:https://canadianamericanclub.com/event/comhaltas-monthly-seisiun-2/2025-12-07
LOCATION:Canadian American Club\, 202 Arlington Street\, Watertown\, MA\, United States
CATEGORIES:Irish,Session
END:VEVENT
BEGIN:VEVENT
DTSTART;TZID=America/New_York:20251202T193000
DTEND;TZID=America/New_York:20251202T210000
DTSTAMP:20260425T140333
CREATED:20240327T191347Z
LAST-MODIFIED:20240402T185757Z
UID:10000887-1764703800-1764709200@canadianamericanclub.com
SUMMARY:Irish Set Dancing workshop
DESCRIPTION:Watertown Set/Ceili Dance Workshop Tuesday evenings from 7:30pm- 9:00pm. Schedule can be found at ceboston.org/branch-activities
URL:https://canadianamericanclub.com/event/irish-set-dancing/2025-12-02
LOCATION:Canadian American Club\, 202 Arlington Street\, Watertown\, MA\, United States
CATEGORIES:Irish,workshop
END:VEVENT
BEGIN:VEVENT
DTSTART;TZID=America/New_York:20251125T193000
DTEND;TZID=America/New_York:20251125T210000
DTSTAMP:20260425T140333
CREATED:20240327T191347Z
LAST-MODIFIED:20240402T185757Z
UID:10000886-1764099000-1764104400@canadianamericanclub.com
SUMMARY:Irish Set Dancing workshop
DESCRIPTION:Watertown Set/Ceili Dance Workshop Tuesday evenings from 7:30pm- 9:00pm. Schedule can be found at ceboston.org/branch-activities
URL:https://canadianamericanclub.com/event/irish-set-dancing/2025-11-25
LOCATION:Canadian American Club\, 202 Arlington Street\, Watertown\, MA\, United States
CATEGORIES:Irish,workshop
END:VEVENT
BEGIN:VEVENT
DTSTART;TZID=America/New_York:20251118T193000
DTEND;TZID=America/New_York:20251118T210000
DTSTAMP:20260425T140333
CREATED:20240327T191347Z
LAST-MODIFIED:20240402T185757Z
UID:10000885-1763494200-1763499600@canadianamericanclub.com
SUMMARY:Irish Set Dancing workshop
DESCRIPTION:Watertown Set/Ceili Dance Workshop Tuesday evenings from 7:30pm- 9:00pm. Schedule can be found at ceboston.org/branch-activities
URL:https://canadianamericanclub.com/event/irish-set-dancing/2025-11-18
LOCATION:Canadian American Club\, 202 Arlington Street\, Watertown\, MA\, United States
CATEGORIES:Irish,workshop
END:VEVENT
BEGIN:VEVENT
DTSTART;TZID=America/New_York:20251111T193000
DTEND;TZID=America/New_York:20251111T210000
DTSTAMP:20260425T140333
CREATED:20240327T191347Z
LAST-MODIFIED:20240402T185757Z
UID:10000884-1762889400-1762894800@canadianamericanclub.com
SUMMARY:Irish Set Dancing workshop
DESCRIPTION:Watertown Set/Ceili Dance Workshop Tuesday evenings from 7:30pm- 9:00pm. Schedule can be found at ceboston.org/branch-activities
URL:https://canadianamericanclub.com/event/irish-set-dancing/2025-11-11
LOCATION:Canadian American Club\, 202 Arlington Street\, Watertown\, MA\, United States
CATEGORIES:Irish,workshop
END:VEVENT
BEGIN:VEVENT
DTSTART;TZID=America/New_York:20251104T193000
DTEND;TZID=America/New_York:20251104T210000
DTSTAMP:20260425T140333
CREATED:20240327T191347Z
LAST-MODIFIED:20240402T185757Z
UID:10000883-1762284600-1762290000@canadianamericanclub.com
SUMMARY:Irish Set Dancing workshop
DESCRIPTION:Watertown Set/Ceili Dance Workshop Tuesday evenings from 7:30pm- 9:00pm. Schedule can be found at ceboston.org/branch-activities
URL:https://canadianamericanclub.com/event/irish-set-dancing/2025-11-04
LOCATION:Canadian American Club\, 202 Arlington Street\, Watertown\, MA\, United States
CATEGORIES:Irish,workshop
END:VEVENT
END:VCALENDAR