BEGIN:VCALENDAR
VERSION:2.0
PRODID:-//Canadian American Club - ECPv6.15.20//NONSGML v1.0//EN
CALSCALE:GREGORIAN
METHOD:PUBLISH
X-WR-CALNAME:Canadian American Club
X-ORIGINAL-URL:https://canadianamericanclub.com
X-WR-CALDESC:Events for Canadian American Club
REFRESH-INTERVAL;VALUE=DURATION:PT1H
X-Robots-Tag:noindex
X-PUBLISHED-TTL:PT1H
BEGIN:VTIMEZONE
TZID:America/New_York
BEGIN:DAYLIGHT
TZOFFSETFROM:-0500
TZOFFSETTO:-0400
TZNAME:EDT
DTSTART:20270314T070000
END:DAYLIGHT
BEGIN:STANDARD
TZOFFSETFROM:-0400
TZOFFSETTO:-0500
TZNAME:EST
DTSTART:20271107T060000
END:STANDARD
BEGIN:DAYLIGHT
TZOFFSETFROM:-0500
TZOFFSETTO:-0400
TZNAME:EDT
DTSTART:20280312T070000
END:DAYLIGHT
BEGIN:STANDARD
TZOFFSETFROM:-0400
TZOFFSETTO:-0500
TZNAME:EST
DTSTART:20281105T060000
END:STANDARD
BEGIN:DAYLIGHT
TZOFFSETFROM:-0500
TZOFFSETTO:-0400
TZNAME:EDT
DTSTART:20290311T070000
END:DAYLIGHT
BEGIN:STANDARD
TZOFFSETFROM:-0400
TZOFFSETTO:-0500
TZNAME:EST
DTSTART:20291104T060000
END:STANDARD
BEGIN:DAYLIGHT
TZOFFSETFROM:-0500
TZOFFSETTO:-0400
TZNAME:EDT
DTSTART:20300310T070000
END:DAYLIGHT
BEGIN:STANDARD
TZOFFSETFROM:-0400
TZOFFSETTO:-0500
TZNAME:EST
DTSTART:20301103T060000
END:STANDARD
BEGIN:DAYLIGHT
TZOFFSETFROM:-0500
TZOFFSETTO:-0400
TZNAME:EDT
DTSTART:20310309T070000
END:DAYLIGHT
BEGIN:STANDARD
TZOFFSETFROM:-0400
TZOFFSETTO:-0500
TZNAME:EST
DTSTART:20311102T060000
END:STANDARD
END:VTIMEZONE
BEGIN:VEVENT
DTSTART;TZID=America/New_York:20280716T153000
DTEND;TZID=America/New_York:20280716T190000
DTSTAMP:20260425T162918
CREATED:20240327T182402Z
LAST-MODIFIED:20260315T114121Z
UID:10000734-1847374200-1847386800@canadianamericanclub.com
SUMMARY:Gaelic Club
DESCRIPTION:The Cape Breton Gaelic Club invites you to a Ceilidh every third Sunday (Sept through June) at 3:30pm. We will have live fiddle music\, Gaelic singing\, and probably a square set too! Bring your instruments if you play and a snack or dessert to share. The Bar will be open. $7 admission. \nIf you’d like to join the Gaelic singers\, please come early at 3:00 for practice.
URL:https://canadianamericanclub.com/event/gaelic-club/2028-07-16
LOCATION:Canadian American Club\, 202 Arlington Street\, Watertown\, MA\, United States
CATEGORIES:Cape Breton,Session
END:VEVENT
BEGIN:VEVENT
DTSTART;TZID=America/New_York:20280820T153000
DTEND;TZID=America/New_York:20280820T190000
DTSTAMP:20260425T162918
CREATED:20240327T182402Z
LAST-MODIFIED:20260315T114121Z
UID:10000735-1850398200-1850410800@canadianamericanclub.com
SUMMARY:Gaelic Club
DESCRIPTION:The Cape Breton Gaelic Club invites you to a Ceilidh every third Sunday (Sept through June) at 3:30pm. We will have live fiddle music\, Gaelic singing\, and probably a square set too! Bring your instruments if you play and a snack or dessert to share. The Bar will be open. $7 admission. \nIf you’d like to join the Gaelic singers\, please come early at 3:00 for practice.
URL:https://canadianamericanclub.com/event/gaelic-club/2028-08-20
LOCATION:Canadian American Club\, 202 Arlington Street\, Watertown\, MA\, United States
CATEGORIES:Cape Breton,Session
END:VEVENT
BEGIN:VEVENT
DTSTART;TZID=America/New_York:20280917T153000
DTEND;TZID=America/New_York:20280917T190000
DTSTAMP:20260425T162918
CREATED:20240327T182402Z
LAST-MODIFIED:20260315T114121Z
UID:10000736-1852817400-1852830000@canadianamericanclub.com
SUMMARY:Gaelic Club
DESCRIPTION:The Cape Breton Gaelic Club invites you to a Ceilidh every third Sunday (Sept through June) at 3:30pm. We will have live fiddle music\, Gaelic singing\, and probably a square set too! Bring your instruments if you play and a snack or dessert to share. The Bar will be open. $7 admission. \nIf you’d like to join the Gaelic singers\, please come early at 3:00 for practice.
URL:https://canadianamericanclub.com/event/gaelic-club/2028-09-17
LOCATION:Canadian American Club\, 202 Arlington Street\, Watertown\, MA\, United States
CATEGORIES:Cape Breton,Session
END:VEVENT
BEGIN:VEVENT
DTSTART;TZID=America/New_York:20281015T153000
DTEND;TZID=America/New_York:20281015T190000
DTSTAMP:20260425T162918
CREATED:20240327T182402Z
LAST-MODIFIED:20260315T114121Z
UID:10000737-1855236600-1855249200@canadianamericanclub.com
SUMMARY:Gaelic Club
DESCRIPTION:The Cape Breton Gaelic Club invites you to a Ceilidh every third Sunday (Sept through June) at 3:30pm. We will have live fiddle music\, Gaelic singing\, and probably a square set too! Bring your instruments if you play and a snack or dessert to share. The Bar will be open. $7 admission. \nIf you’d like to join the Gaelic singers\, please come early at 3:00 for practice.
URL:https://canadianamericanclub.com/event/gaelic-club/2028-10-15
LOCATION:Canadian American Club\, 202 Arlington Street\, Watertown\, MA\, United States
CATEGORIES:Cape Breton,Session
END:VEVENT
BEGIN:VEVENT
DTSTART;TZID=America/New_York:20281119T153000
DTEND;TZID=America/New_York:20281119T190000
DTSTAMP:20260425T162918
CREATED:20240327T182402Z
LAST-MODIFIED:20260315T114121Z
UID:10000738-1858260600-1858273200@canadianamericanclub.com
SUMMARY:Gaelic Club
DESCRIPTION:The Cape Breton Gaelic Club invites you to a Ceilidh every third Sunday (Sept through June) at 3:30pm. We will have live fiddle music\, Gaelic singing\, and probably a square set too! Bring your instruments if you play and a snack or dessert to share. The Bar will be open. $7 admission. \nIf you’d like to join the Gaelic singers\, please come early at 3:00 for practice.
URL:https://canadianamericanclub.com/event/gaelic-club/2028-11-19
LOCATION:Canadian American Club\, 202 Arlington Street\, Watertown\, MA\, United States
CATEGORIES:Cape Breton,Session
END:VEVENT
BEGIN:VEVENT
DTSTART;TZID=America/New_York:20281217T153000
DTEND;TZID=America/New_York:20281217T190000
DTSTAMP:20260425T162918
CREATED:20240327T182402Z
LAST-MODIFIED:20260315T114121Z
UID:10000739-1860679800-1860692400@canadianamericanclub.com
SUMMARY:Gaelic Club
DESCRIPTION:The Cape Breton Gaelic Club invites you to a Ceilidh every third Sunday (Sept through June) at 3:30pm. We will have live fiddle music\, Gaelic singing\, and probably a square set too! Bring your instruments if you play and a snack or dessert to share. The Bar will be open. $7 admission. \nIf you’d like to join the Gaelic singers\, please come early at 3:00 for practice.
URL:https://canadianamericanclub.com/event/gaelic-club/2028-12-17
LOCATION:Canadian American Club\, 202 Arlington Street\, Watertown\, MA\, United States
CATEGORIES:Cape Breton,Session
END:VEVENT
BEGIN:VEVENT
DTSTART;TZID=America/New_York:20290121T153000
DTEND;TZID=America/New_York:20290121T190000
DTSTAMP:20260425T162918
CREATED:20240327T182402Z
LAST-MODIFIED:20260315T114121Z
UID:10000740-1863703800-1863716400@canadianamericanclub.com
SUMMARY:Gaelic Club
DESCRIPTION:The Cape Breton Gaelic Club invites you to a Ceilidh every third Sunday (Sept through June) at 3:30pm. We will have live fiddle music\, Gaelic singing\, and probably a square set too! Bring your instruments if you play and a snack or dessert to share. The Bar will be open. $7 admission. \nIf you’d like to join the Gaelic singers\, please come early at 3:00 for practice.
URL:https://canadianamericanclub.com/event/gaelic-club/2029-01-21
LOCATION:Canadian American Club\, 202 Arlington Street\, Watertown\, MA\, United States
CATEGORIES:Cape Breton,Session
END:VEVENT
BEGIN:VEVENT
DTSTART;TZID=America/New_York:20290218T153000
DTEND;TZID=America/New_York:20290218T190000
DTSTAMP:20260425T162918
CREATED:20240327T182402Z
LAST-MODIFIED:20260315T114121Z
UID:10000741-1866123000-1866135600@canadianamericanclub.com
SUMMARY:Gaelic Club
DESCRIPTION:The Cape Breton Gaelic Club invites you to a Ceilidh every third Sunday (Sept through June) at 3:30pm. We will have live fiddle music\, Gaelic singing\, and probably a square set too! Bring your instruments if you play and a snack or dessert to share. The Bar will be open. $7 admission. \nIf you’d like to join the Gaelic singers\, please come early at 3:00 for practice.
URL:https://canadianamericanclub.com/event/gaelic-club/2029-02-18
LOCATION:Canadian American Club\, 202 Arlington Street\, Watertown\, MA\, United States
CATEGORIES:Cape Breton,Session
END:VEVENT
BEGIN:VEVENT
DTSTART;TZID=America/New_York:20290318T153000
DTEND;TZID=America/New_York:20290318T190000
DTSTAMP:20260425T162918
CREATED:20240327T182402Z
LAST-MODIFIED:20260315T114121Z
UID:10000742-1868542200-1868554800@canadianamericanclub.com
SUMMARY:Gaelic Club
DESCRIPTION:The Cape Breton Gaelic Club invites you to a Ceilidh every third Sunday (Sept through June) at 3:30pm. We will have live fiddle music\, Gaelic singing\, and probably a square set too! Bring your instruments if you play and a snack or dessert to share. The Bar will be open. $7 admission. \nIf you’d like to join the Gaelic singers\, please come early at 3:00 for practice.
URL:https://canadianamericanclub.com/event/gaelic-club/2029-03-18
LOCATION:Canadian American Club\, 202 Arlington Street\, Watertown\, MA\, United States
CATEGORIES:Cape Breton,Session
END:VEVENT
BEGIN:VEVENT
DTSTART;TZID=America/New_York:20290415T153000
DTEND;TZID=America/New_York:20290415T190000
DTSTAMP:20260425T162918
CREATED:20240327T182402Z
LAST-MODIFIED:20260315T114121Z
UID:10001381-1870961400-1870974000@canadianamericanclub.com
SUMMARY:Gaelic Club
DESCRIPTION:The Cape Breton Gaelic Club invites you to a Ceilidh every third Sunday (Sept through June) at 3:30pm. We will have live fiddle music\, Gaelic singing\, and probably a square set too! Bring your instruments if you play and a snack or dessert to share. The Bar will be open. $7 admission. \nIf you’d like to join the Gaelic singers\, please come early at 3:00 for practice.
URL:https://canadianamericanclub.com/event/gaelic-club/2029-04-15
LOCATION:Canadian American Club\, 202 Arlington Street\, Watertown\, MA\, United States
CATEGORIES:Cape Breton,Session
END:VEVENT
BEGIN:VEVENT
DTSTART;TZID=America/New_York:20290520T153000
DTEND;TZID=America/New_York:20290520T190000
DTSTAMP:20260425T162918
CREATED:20240327T182402Z
LAST-MODIFIED:20260315T114121Z
UID:10001382-1873985400-1873998000@canadianamericanclub.com
SUMMARY:Gaelic Club
DESCRIPTION:The Cape Breton Gaelic Club invites you to a Ceilidh every third Sunday (Sept through June) at 3:30pm. We will have live fiddle music\, Gaelic singing\, and probably a square set too! Bring your instruments if you play and a snack or dessert to share. The Bar will be open. $7 admission. \nIf you’d like to join the Gaelic singers\, please come early at 3:00 for practice.
URL:https://canadianamericanclub.com/event/gaelic-club/2029-05-20
LOCATION:Canadian American Club\, 202 Arlington Street\, Watertown\, MA\, United States
CATEGORIES:Cape Breton,Session
END:VEVENT
BEGIN:VEVENT
DTSTART;TZID=America/New_York:20290617T153000
DTEND;TZID=America/New_York:20290617T190000
DTSTAMP:20260425T162918
CREATED:20240327T182402Z
LAST-MODIFIED:20260315T114121Z
UID:10001383-1876404600-1876417200@canadianamericanclub.com
SUMMARY:Gaelic Club
DESCRIPTION:The Cape Breton Gaelic Club invites you to a Ceilidh every third Sunday (Sept through June) at 3:30pm. We will have live fiddle music\, Gaelic singing\, and probably a square set too! Bring your instruments if you play and a snack or dessert to share. The Bar will be open. $7 admission. \nIf you’d like to join the Gaelic singers\, please come early at 3:00 for practice.
URL:https://canadianamericanclub.com/event/gaelic-club/2029-06-17
LOCATION:Canadian American Club\, 202 Arlington Street\, Watertown\, MA\, United States
CATEGORIES:Cape Breton,Session
END:VEVENT
BEGIN:VEVENT
DTSTART;TZID=America/New_York:20290715T153000
DTEND;TZID=America/New_York:20290715T190000
DTSTAMP:20260425T162918
CREATED:20240327T182402Z
LAST-MODIFIED:20260315T114121Z
UID:10001384-1878823800-1878836400@canadianamericanclub.com
SUMMARY:Gaelic Club
DESCRIPTION:The Cape Breton Gaelic Club invites you to a Ceilidh every third Sunday (Sept through June) at 3:30pm. We will have live fiddle music\, Gaelic singing\, and probably a square set too! Bring your instruments if you play and a snack or dessert to share. The Bar will be open. $7 admission. \nIf you’d like to join the Gaelic singers\, please come early at 3:00 for practice.
URL:https://canadianamericanclub.com/event/gaelic-club/2029-07-15
LOCATION:Canadian American Club\, 202 Arlington Street\, Watertown\, MA\, United States
CATEGORIES:Cape Breton,Session
END:VEVENT
BEGIN:VEVENT
DTSTART;TZID=America/New_York:20290819T153000
DTEND;TZID=America/New_York:20290819T190000
DTSTAMP:20260425T162918
CREATED:20240327T182402Z
LAST-MODIFIED:20260315T114121Z
UID:10001385-1881847800-1881860400@canadianamericanclub.com
SUMMARY:Gaelic Club
DESCRIPTION:The Cape Breton Gaelic Club invites you to a Ceilidh every third Sunday (Sept through June) at 3:30pm. We will have live fiddle music\, Gaelic singing\, and probably a square set too! Bring your instruments if you play and a snack or dessert to share. The Bar will be open. $7 admission. \nIf you’d like to join the Gaelic singers\, please come early at 3:00 for practice.
URL:https://canadianamericanclub.com/event/gaelic-club/2029-08-19
LOCATION:Canadian American Club\, 202 Arlington Street\, Watertown\, MA\, United States
CATEGORIES:Cape Breton,Session
END:VEVENT
BEGIN:VEVENT
DTSTART;TZID=America/New_York:20290916T153000
DTEND;TZID=America/New_York:20290916T190000
DTSTAMP:20260425T162918
CREATED:20240327T182402Z
LAST-MODIFIED:20260315T114121Z
UID:10001386-1884267000-1884279600@canadianamericanclub.com
SUMMARY:Gaelic Club
DESCRIPTION:The Cape Breton Gaelic Club invites you to a Ceilidh every third Sunday (Sept through June) at 3:30pm. We will have live fiddle music\, Gaelic singing\, and probably a square set too! Bring your instruments if you play and a snack or dessert to share. The Bar will be open. $7 admission. \nIf you’d like to join the Gaelic singers\, please come early at 3:00 for practice.
URL:https://canadianamericanclub.com/event/gaelic-club/2029-09-16
LOCATION:Canadian American Club\, 202 Arlington Street\, Watertown\, MA\, United States
CATEGORIES:Cape Breton,Session
END:VEVENT
BEGIN:VEVENT
DTSTART;TZID=America/New_York:20291021T153000
DTEND;TZID=America/New_York:20291021T190000
DTSTAMP:20260425T162918
CREATED:20240327T182402Z
LAST-MODIFIED:20260315T114121Z
UID:10001387-1887291000-1887303600@canadianamericanclub.com
SUMMARY:Gaelic Club
DESCRIPTION:The Cape Breton Gaelic Club invites you to a Ceilidh every third Sunday (Sept through June) at 3:30pm. We will have live fiddle music\, Gaelic singing\, and probably a square set too! Bring your instruments if you play and a snack or dessert to share. The Bar will be open. $7 admission. \nIf you’d like to join the Gaelic singers\, please come early at 3:00 for practice.
URL:https://canadianamericanclub.com/event/gaelic-club/2029-10-21
LOCATION:Canadian American Club\, 202 Arlington Street\, Watertown\, MA\, United States
CATEGORIES:Cape Breton,Session
END:VEVENT
BEGIN:VEVENT
DTSTART;TZID=America/New_York:20291118T153000
DTEND;TZID=America/New_York:20291118T190000
DTSTAMP:20260425T162918
CREATED:20240327T182402Z
LAST-MODIFIED:20260315T114121Z
UID:10001388-1889710200-1889722800@canadianamericanclub.com
SUMMARY:Gaelic Club
DESCRIPTION:The Cape Breton Gaelic Club invites you to a Ceilidh every third Sunday (Sept through June) at 3:30pm. We will have live fiddle music\, Gaelic singing\, and probably a square set too! Bring your instruments if you play and a snack or dessert to share. The Bar will be open. $7 admission. \nIf you’d like to join the Gaelic singers\, please come early at 3:00 for practice.
URL:https://canadianamericanclub.com/event/gaelic-club/2029-11-18
LOCATION:Canadian American Club\, 202 Arlington Street\, Watertown\, MA\, United States
CATEGORIES:Cape Breton,Session
END:VEVENT
BEGIN:VEVENT
DTSTART;TZID=America/New_York:20291216T153000
DTEND;TZID=America/New_York:20291216T190000
DTSTAMP:20260425T162918
CREATED:20240327T182402Z
LAST-MODIFIED:20260315T114121Z
UID:10001389-1892129400-1892142000@canadianamericanclub.com
SUMMARY:Gaelic Club
DESCRIPTION:The Cape Breton Gaelic Club invites you to a Ceilidh every third Sunday (Sept through June) at 3:30pm. We will have live fiddle music\, Gaelic singing\, and probably a square set too! Bring your instruments if you play and a snack or dessert to share. The Bar will be open. $7 admission. \nIf you’d like to join the Gaelic singers\, please come early at 3:00 for practice.
URL:https://canadianamericanclub.com/event/gaelic-club/2029-12-16
LOCATION:Canadian American Club\, 202 Arlington Street\, Watertown\, MA\, United States
CATEGORIES:Cape Breton,Session
END:VEVENT
BEGIN:VEVENT
DTSTART;TZID=America/New_York:20300120T153000
DTEND;TZID=America/New_York:20300120T190000
DTSTAMP:20260425T162918
CREATED:20240327T182402Z
LAST-MODIFIED:20260315T114121Z
UID:10001390-1895153400-1895166000@canadianamericanclub.com
SUMMARY:Gaelic Club
DESCRIPTION:The Cape Breton Gaelic Club invites you to a Ceilidh every third Sunday (Sept through June) at 3:30pm. We will have live fiddle music\, Gaelic singing\, and probably a square set too! Bring your instruments if you play and a snack or dessert to share. The Bar will be open. $7 admission. \nIf you’d like to join the Gaelic singers\, please come early at 3:00 for practice.
URL:https://canadianamericanclub.com/event/gaelic-club/2030-01-20
LOCATION:Canadian American Club\, 202 Arlington Street\, Watertown\, MA\, United States
CATEGORIES:Cape Breton,Session
END:VEVENT
BEGIN:VEVENT
DTSTART;TZID=America/New_York:20300217T153000
DTEND;TZID=America/New_York:20300217T190000
DTSTAMP:20260425T162918
CREATED:20240327T182402Z
LAST-MODIFIED:20260315T114121Z
UID:10001391-1897572600-1897585200@canadianamericanclub.com
SUMMARY:Gaelic Club
DESCRIPTION:The Cape Breton Gaelic Club invites you to a Ceilidh every third Sunday (Sept through June) at 3:30pm. We will have live fiddle music\, Gaelic singing\, and probably a square set too! Bring your instruments if you play and a snack or dessert to share. The Bar will be open. $7 admission. \nIf you’d like to join the Gaelic singers\, please come early at 3:00 for practice.
URL:https://canadianamericanclub.com/event/gaelic-club/2030-02-17
LOCATION:Canadian American Club\, 202 Arlington Street\, Watertown\, MA\, United States
CATEGORIES:Cape Breton,Session
END:VEVENT
BEGIN:VEVENT
DTSTART;TZID=America/New_York:20300317T153000
DTEND;TZID=America/New_York:20300317T190000
DTSTAMP:20260425T162918
CREATED:20240327T182402Z
LAST-MODIFIED:20260315T114121Z
UID:10001392-1899991800-1900004400@canadianamericanclub.com
SUMMARY:Gaelic Club
DESCRIPTION:The Cape Breton Gaelic Club invites you to a Ceilidh every third Sunday (Sept through June) at 3:30pm. We will have live fiddle music\, Gaelic singing\, and probably a square set too! Bring your instruments if you play and a snack or dessert to share. The Bar will be open. $7 admission. \nIf you’d like to join the Gaelic singers\, please come early at 3:00 for practice.
URL:https://canadianamericanclub.com/event/gaelic-club/2030-03-17
LOCATION:Canadian American Club\, 202 Arlington Street\, Watertown\, MA\, United States
CATEGORIES:Cape Breton,Session
END:VEVENT
BEGIN:VEVENT
DTSTART;TZID=America/New_York:20300421T153000
DTEND;TZID=America/New_York:20300421T190000
DTSTAMP:20260425T162918
CREATED:20240327T182402Z
LAST-MODIFIED:20260315T114121Z
UID:10001393-1903015800-1903028400@canadianamericanclub.com
SUMMARY:Gaelic Club
DESCRIPTION:The Cape Breton Gaelic Club invites you to a Ceilidh every third Sunday (Sept through June) at 3:30pm. We will have live fiddle music\, Gaelic singing\, and probably a square set too! Bring your instruments if you play and a snack or dessert to share. The Bar will be open. $7 admission. \nIf you’d like to join the Gaelic singers\, please come early at 3:00 for practice.
URL:https://canadianamericanclub.com/event/gaelic-club/2030-04-21
LOCATION:Canadian American Club\, 202 Arlington Street\, Watertown\, MA\, United States
CATEGORIES:Cape Breton,Session
END:VEVENT
BEGIN:VEVENT
DTSTART;TZID=America/New_York:20300519T153000
DTEND;TZID=America/New_York:20300519T190000
DTSTAMP:20260425T162918
CREATED:20240327T182402Z
LAST-MODIFIED:20260315T114121Z
UID:10001394-1905435000-1905447600@canadianamericanclub.com
SUMMARY:Gaelic Club
DESCRIPTION:The Cape Breton Gaelic Club invites you to a Ceilidh every third Sunday (Sept through June) at 3:30pm. We will have live fiddle music\, Gaelic singing\, and probably a square set too! Bring your instruments if you play and a snack or dessert to share. The Bar will be open. $7 admission. \nIf you’d like to join the Gaelic singers\, please come early at 3:00 for practice.
URL:https://canadianamericanclub.com/event/gaelic-club/2030-05-19
LOCATION:Canadian American Club\, 202 Arlington Street\, Watertown\, MA\, United States
CATEGORIES:Cape Breton,Session
END:VEVENT
BEGIN:VEVENT
DTSTART;TZID=America/New_York:20300616T153000
DTEND;TZID=America/New_York:20300616T190000
DTSTAMP:20260425T162918
CREATED:20240327T182402Z
LAST-MODIFIED:20260315T114121Z
UID:10001395-1907854200-1907866800@canadianamericanclub.com
SUMMARY:Gaelic Club
DESCRIPTION:The Cape Breton Gaelic Club invites you to a Ceilidh every third Sunday (Sept through June) at 3:30pm. We will have live fiddle music\, Gaelic singing\, and probably a square set too! Bring your instruments if you play and a snack or dessert to share. The Bar will be open. $7 admission. \nIf you’d like to join the Gaelic singers\, please come early at 3:00 for practice.
URL:https://canadianamericanclub.com/event/gaelic-club/2030-06-16
LOCATION:Canadian American Club\, 202 Arlington Street\, Watertown\, MA\, United States
CATEGORIES:Cape Breton,Session
END:VEVENT
BEGIN:VEVENT
DTSTART;TZID=America/New_York:20300721T153000
DTEND;TZID=America/New_York:20300721T190000
DTSTAMP:20260425T162918
CREATED:20240327T182402Z
LAST-MODIFIED:20260315T114121Z
UID:10001396-1910878200-1910890800@canadianamericanclub.com
SUMMARY:Gaelic Club
DESCRIPTION:The Cape Breton Gaelic Club invites you to a Ceilidh every third Sunday (Sept through June) at 3:30pm. We will have live fiddle music\, Gaelic singing\, and probably a square set too! Bring your instruments if you play and a snack or dessert to share. The Bar will be open. $7 admission. \nIf you’d like to join the Gaelic singers\, please come early at 3:00 for practice.
URL:https://canadianamericanclub.com/event/gaelic-club/2030-07-21
LOCATION:Canadian American Club\, 202 Arlington Street\, Watertown\, MA\, United States
CATEGORIES:Cape Breton,Session
END:VEVENT
BEGIN:VEVENT
DTSTART;TZID=America/New_York:20300818T153000
DTEND;TZID=America/New_York:20300818T190000
DTSTAMP:20260425T162918
CREATED:20240327T182402Z
LAST-MODIFIED:20260315T114121Z
UID:10001397-1913297400-1913310000@canadianamericanclub.com
SUMMARY:Gaelic Club
DESCRIPTION:The Cape Breton Gaelic Club invites you to a Ceilidh every third Sunday (Sept through June) at 3:30pm. We will have live fiddle music\, Gaelic singing\, and probably a square set too! Bring your instruments if you play and a snack or dessert to share. The Bar will be open. $7 admission. \nIf you’d like to join the Gaelic singers\, please come early at 3:00 for practice.
URL:https://canadianamericanclub.com/event/gaelic-club/2030-08-18
LOCATION:Canadian American Club\, 202 Arlington Street\, Watertown\, MA\, United States
CATEGORIES:Cape Breton,Session
END:VEVENT
BEGIN:VEVENT
DTSTART;TZID=America/New_York:20300915T153000
DTEND;TZID=America/New_York:20300915T190000
DTSTAMP:20260425T162918
CREATED:20240327T182402Z
LAST-MODIFIED:20260315T114121Z
UID:10001398-1915716600-1915729200@canadianamericanclub.com
SUMMARY:Gaelic Club
DESCRIPTION:The Cape Breton Gaelic Club invites you to a Ceilidh every third Sunday (Sept through June) at 3:30pm. We will have live fiddle music\, Gaelic singing\, and probably a square set too! Bring your instruments if you play and a snack or dessert to share. The Bar will be open. $7 admission. \nIf you’d like to join the Gaelic singers\, please come early at 3:00 for practice.
URL:https://canadianamericanclub.com/event/gaelic-club/2030-09-15
LOCATION:Canadian American Club\, 202 Arlington Street\, Watertown\, MA\, United States
CATEGORIES:Cape Breton,Session
END:VEVENT
BEGIN:VEVENT
DTSTART;TZID=America/New_York:20301020T153000
DTEND;TZID=America/New_York:20301020T190000
DTSTAMP:20260425T162918
CREATED:20240327T182402Z
LAST-MODIFIED:20260315T114121Z
UID:10001399-1918740600-1918753200@canadianamericanclub.com
SUMMARY:Gaelic Club
DESCRIPTION:The Cape Breton Gaelic Club invites you to a Ceilidh every third Sunday (Sept through June) at 3:30pm. We will have live fiddle music\, Gaelic singing\, and probably a square set too! Bring your instruments if you play and a snack or dessert to share. The Bar will be open. $7 admission. \nIf you’d like to join the Gaelic singers\, please come early at 3:00 for practice.
URL:https://canadianamericanclub.com/event/gaelic-club/2030-10-20
LOCATION:Canadian American Club\, 202 Arlington Street\, Watertown\, MA\, United States
CATEGORIES:Cape Breton,Session
END:VEVENT
BEGIN:VEVENT
DTSTART;TZID=America/New_York:20301117T153000
DTEND;TZID=America/New_York:20301117T190000
DTSTAMP:20260425T162918
CREATED:20240327T182402Z
LAST-MODIFIED:20260315T114121Z
UID:10001400-1921159800-1921172400@canadianamericanclub.com
SUMMARY:Gaelic Club
DESCRIPTION:The Cape Breton Gaelic Club invites you to a Ceilidh every third Sunday (Sept through June) at 3:30pm. We will have live fiddle music\, Gaelic singing\, and probably a square set too! Bring your instruments if you play and a snack or dessert to share. The Bar will be open. $7 admission. \nIf you’d like to join the Gaelic singers\, please come early at 3:00 for practice.
URL:https://canadianamericanclub.com/event/gaelic-club/2030-11-17
LOCATION:Canadian American Club\, 202 Arlington Street\, Watertown\, MA\, United States
CATEGORIES:Cape Breton,Session
END:VEVENT
BEGIN:VEVENT
DTSTART;TZID=America/New_York:20301215T153000
DTEND;TZID=America/New_York:20301215T190000
DTSTAMP:20260425T162918
CREATED:20240327T182402Z
LAST-MODIFIED:20260315T114121Z
UID:10001401-1923579000-1923591600@canadianamericanclub.com
SUMMARY:Gaelic Club
DESCRIPTION:The Cape Breton Gaelic Club invites you to a Ceilidh every third Sunday (Sept through June) at 3:30pm. We will have live fiddle music\, Gaelic singing\, and probably a square set too! Bring your instruments if you play and a snack or dessert to share. The Bar will be open. $7 admission. \nIf you’d like to join the Gaelic singers\, please come early at 3:00 for practice.
URL:https://canadianamericanclub.com/event/gaelic-club/2030-12-15
LOCATION:Canadian American Club\, 202 Arlington Street\, Watertown\, MA\, United States
CATEGORIES:Cape Breton,Session
END:VEVENT
END:VCALENDAR