BEGIN:VCALENDAR
VERSION:2.0
PRODID:-//Canadian American Club - ECPv6.15.20//NONSGML v1.0//EN
CALSCALE:GREGORIAN
METHOD:PUBLISH
X-WR-CALNAME:Canadian American Club
X-ORIGINAL-URL:https://canadianamericanclub.com
X-WR-CALDESC:Events for Canadian American Club
REFRESH-INTERVAL;VALUE=DURATION:PT1H
X-Robots-Tag:noindex
X-PUBLISHED-TTL:PT1H
BEGIN:VTIMEZONE
TZID:America/New_York
BEGIN:DAYLIGHT
TZOFFSETFROM:-0500
TZOFFSETTO:-0400
TZNAME:EDT
DTSTART:20220313T070000
END:DAYLIGHT
BEGIN:STANDARD
TZOFFSETFROM:-0400
TZOFFSETTO:-0500
TZNAME:EST
DTSTART:20221106T060000
END:STANDARD
BEGIN:DAYLIGHT
TZOFFSETFROM:-0500
TZOFFSETTO:-0400
TZNAME:EDT
DTSTART:20230312T070000
END:DAYLIGHT
BEGIN:STANDARD
TZOFFSETFROM:-0400
TZOFFSETTO:-0500
TZNAME:EST
DTSTART:20231105T060000
END:STANDARD
BEGIN:DAYLIGHT
TZOFFSETFROM:-0500
TZOFFSETTO:-0400
TZNAME:EDT
DTSTART:20240310T070000
END:DAYLIGHT
BEGIN:STANDARD
TZOFFSETFROM:-0400
TZOFFSETTO:-0500
TZNAME:EST
DTSTART:20241103T060000
END:STANDARD
BEGIN:DAYLIGHT
TZOFFSETFROM:-0500
TZOFFSETTO:-0400
TZNAME:EDT
DTSTART:20250309T070000
END:DAYLIGHT
BEGIN:STANDARD
TZOFFSETFROM:-0400
TZOFFSETTO:-0500
TZNAME:EST
DTSTART:20251102T060000
END:STANDARD
END:VTIMEZONE
BEGIN:VTIMEZONE
TZID:America/New_York
BEGIN:DAYLIGHT
TZOFFSETFROM:-0500
TZOFFSETTO:-0400
TZNAME:EDT
DTSTART:20220313T070000
END:DAYLIGHT
BEGIN:STANDARD
TZOFFSETFROM:-0400
TZOFFSETTO:-0500
TZNAME:EST
DTSTART:20221106T060000
END:STANDARD
BEGIN:DAYLIGHT
TZOFFSETFROM:-0500
TZOFFSETTO:-0400
TZNAME:EDT
DTSTART:20230312T070000
END:DAYLIGHT
BEGIN:STANDARD
TZOFFSETFROM:-0400
TZOFFSETTO:-0500
TZNAME:EST
DTSTART:20231105T060000
END:STANDARD
BEGIN:DAYLIGHT
TZOFFSETFROM:-0500
TZOFFSETTO:-0400
TZNAME:EDT
DTSTART:20240310T070000
END:DAYLIGHT
BEGIN:STANDARD
TZOFFSETFROM:-0400
TZOFFSETTO:-0500
TZNAME:EST
DTSTART:20241103T060000
END:STANDARD
END:VTIMEZONE
BEGIN:VEVENT
DTSTART;VALUE=DATE:20240426
DTEND;VALUE=DATE:20240429
DTSTAMP:20260425T135207
CREATED:20240406T023950Z
LAST-MODIFIED:20240406T144355Z
UID:10001178-1714089600-1714348799@canadianamericanclub.com
SUMMARY:Patsy Touhey weekend
DESCRIPTION:A gathering to memorialize Patrick J. Touhey one of America’s finest Uilleann pipers. Workshops\, Presentations\, Concerts\, and Recitals given by some of the finest pipers and historians in America. Taking place in the American birthplace of Touhey\,  Boston Massachusetts. \nClick here for info and registration
URL:https://canadianamericanclub.com/event/patsy-touhey-weekend
LOCATION:Canadian American Club\, 202 Arlington Street\, Watertown\, MA\, United States
CATEGORIES:Concert,Irish,Session,workshop
ORGANIZER;CN="Boston Uilleann Pipers Club":MAILTO:bostonpipers@gmail.com
END:VEVENT
BEGIN:VEVENT
DTSTART;TZID=America/New_York:20240224T150000
DTEND;TZID=America/New_York:20240224T150000
DTSTAMP:20260425T135207
CREATED:20240216T190602Z
LAST-MODIFIED:20240216T190832Z
UID:10000039-1708786800-1708786800@canadianamericanclub.com
SUMMARY:Will Woodson and Caitlin Finley
DESCRIPTION:Workshop for pipers and fiddlers: 3-5pm. $30 general\, $15 Pipers Club members (please contact bostonpipers@gmail.com if interested)\n\nConcert: 8pm. $20 general\, $10 Pipers Club and Canadian American Club members. Tickets at door only.\n\nWill Woodson (flute\, uilleann pipes) and Caitlin Finley (fiddle) play sparky and driving traditional Irish music that’s grounded in the textures and rhythms of the rich Irish-American soundscape of the 1920s and 30s. With roots in the living Irish musical cultures of Boston\, New York City\, and Philadelphia\, and a tremendous admiration for the first generation of recorded Irish musicians\, the duo conjure up the sounds of the dance halls\, vaudeville theaters\, and house sessions central to Irish-American music from the first half of the twentieth century. Their 2019 debut album\, The Glory Reel\, recorded with the brilliant Chris “Junior” Stevens on piano and button accordion\, is full of swing\, lift\, and exuberance\, drawing largely upon the repertoires of North Connacht and Ulster\, regions that have had a significant impact upon the style and repertoire of the duo. The flute playing of John McKenna\, the piping of Michael Carney and Patsy Touhey\, the music of Donegal fiddle legends John and Mickey Doherty\, and of course the foundational 78s of Coleman\, Killoran\, and Morrison are all at play here; a diverse set of influences that are channeled by the two into punchy\, powerful\, and joyous music.\n\nNow residents of Portland\, Maine\, both members of the duo are natives of the East Coast of the United States\, and are products of the region’s rich heritage and living culture of Irish music. Will and Caitlin first began playing together in New York City\, but relocation to New England a few years later put them in the orbit of the thriving Boston scene. It was during this time that they established a compelling musical chemistry; a shared aural vocabulary and mental library of influences made their music come together in a way that felt easy and sounded right. A circuit of sessions and gigs between Boston and Portland\, Maine quickly developed\, and before long it became abundantly clear that the only thing to do was to record an album. The Glory Reel is the product.\n\nWorkshop description: Piping and Fiddling from the 1920s\nThe 1920s were a golden age for recordings of traditional Irish music in America\, and a number of truly excellent pipers and fiddlers are featured on the many 78 records from the era. We’ll listen to a selection of tracks featuring notable piping and fiddling\, both solo and in duet\, and learn a few tunes from them. Particular attention will be paid to the stylistic and technical features that are hallmarks of the era\, and we’ll look at the special relationship between the “American” style of pipers like Patsy Touhey\, Michael Carney\, and Tom Ennis\, and the holy trinity of Sligo fiddlers Michael Coleman\, James Morrison\, and Paddy Killoran. This workshop is open to both pipers and fiddlers.
URL:https://canadianamericanclub.com/event/will-woodson-and-caitlin-finley
LOCATION:Canadian American Club\, 202 Arlington Street\, Watertown\, MA\, United States
CATEGORIES:Concert,Irish,workshop
ORGANIZER;CN="Boston Uilleann Pipers Club":MAILTO:bostonpipers@gmail.com
END:VEVENT
BEGIN:VEVENT
DTSTART;TZID=America/New_York:20231104T140000
DTEND;TZID=America/New_York:20231104T170000
DTSTAMP:20260425T135207
CREATED:20231031T175441Z
LAST-MODIFIED:20231031T175540Z
UID:10000033-1699106400-1699117200@canadianamericanclub.com
SUMMARY:International Uilleann Piping Day with Jerry O'Sullivan
DESCRIPTION:All are invited to join the Boston Uilleann Pipers Club’s celebration of International Uilleann Piping Day this Saturday\, November 4 at the Canadian American Club\, 202 Arlington St.\, Watertown\, with special guest Jerry O’Sullivan: \n\nAt 2:00pm\, there will be an open session with pipers — but all instruments are welcome! There will also be an opportunity to try out the uilleann pipes for the curious and the brave. There is no charge for this event.\nAt 3:30pm\, Jerry O’Sullivan will be leading a workshop for pipers ($30 general/$15 Pipers Club members). Besides having a distinguished career as a piper\, he is an amazing teacher.\nAt 7:30pm\, Jerry will be giving a solo concert ($20 general/$10 Pipers Club and Canadian American Club members).
URL:https://canadianamericanclub.com/event/international-uilleann-piping-day-with-jerry-osullivan
LOCATION:Canadian American Club\, 202 Arlington Street\, Watertown\, MA\, United States
CATEGORIES:Concert,Irish,Session
ORGANIZER;CN="Boston Uilleann Pipers Club":MAILTO:bostonpipers@gmail.com
END:VEVENT
BEGIN:VEVENT
DTSTART;TZID=America/New_York:20230923T200000
DTEND;TZID=America/New_York:20230923T230000
DTSTAMP:20260425T135207
CREATED:20230910T022421Z
LAST-MODIFIED:20230910T225623Z
UID:10000026-1695499200-1695510000@canadianamericanclub.com
SUMMARY:Concert: Benedict Koehler and Hilari Farrington
DESCRIPTION:Tickets at door only.\nConcert: $20 general/$10 Pipers Club and Canadian American Club members\nPiping workshop with Benedict 9/23 at 3:00: $15 Pipers Club members/$30 non-members; please RSVP to bostonpipers@gmail.com.\nBenedict Koehler and Hilari Farrington are known across North America as teachers\, tradition-bearers\, and when pressed\, performers of Irish traditional music. The music they play was deeply influenced by players who came over to America in the 1940’s and 50’s such as Jack Coen\, Fr. Charlie Coen\, Mike Rafferty\, and Joe Madden from East Galway\, Eamon Flynn from West Limerick\, and Mike McHale from County Roscommon.\nFounders of the Vermont School of Irish Traditional Music\, this couple has helped to create a vibrant Irish music scene in Vermont. Over the years\, and partly as a result of Benedict’s work as a maker of uilleann pipes\, their kitchen in the hills of East Montpelier has welcomed hundreds of Irish musicians from all over the world.\n\nhttps://www.facebook.com/events/1244442406274790/
URL:https://canadianamericanclub.com/event/benedict-koehler-and-hilari-farrington
LOCATION:Canadian American Club\, 202 Arlington Street\, Watertown\, MA\, United States
CATEGORIES:Concert,Irish
ORGANIZER;CN="Boston Uilleann Pipers Club":MAILTO:bostonpipers@gmail.com
END:VEVENT
BEGIN:VEVENT
DTSTART;TZID=America/New_York:20230610T140000
DTEND;TZID=America/New_York:20230610T140000
DTSTAMP:20260425T135207
CREATED:20230521T202243Z
LAST-MODIFIED:20230521T205255Z
UID:10000015-1686405600-1686405600@canadianamericanclub.com
SUMMARY:The Piper's Chair
DESCRIPTION:An afternoon of uilleann piping\, food & drink\, raffle prizes\, camaraderie\, and general merriment.
URL:https://canadianamericanclub.com/event/the-pipers-chair
LOCATION:Canadian American Club\, 202 Arlington Street\, Watertown\, MA\, United States
CATEGORIES:Irish,Session
ORGANIZER;CN="Boston Uilleann Pipers Club":MAILTO:bostonpipers@gmail.com
END:VEVENT
BEGIN:VEVENT
DTSTART;TZID=America/New_York:20230520T200000
DTEND;TZID=America/New_York:20230520T223000
DTSTAMP:20260425T135207
CREATED:20230514T104654Z
LAST-MODIFIED:20230514T104757Z
UID:10000012-1684612800-1684621800@canadianamericanclub.com
SUMMARY:Ivan Goff & Katie Linnane
DESCRIPTION:Katie Linnane and Ivan Goff (fiddle and uilleann pipes/flute)\n\nKatie Linnane and Ivan Goff are stalwarts of that vibrant Irish traditional music scene in New York City. Their classic combination of fiddle and uilleann pipes in this duet delivers a sound rooted in the Irish traditional music scenes of North America and Ireland.\n\nKatie\, from Pearl River\, NY\, grew up surrounded by music in her childhood home\, also the venue for her mother\, Kathy’s music school. She studied for many years with fiddle great\, Willie Kelly and it is through Willie that Katie cultivated an affinity for Clare music and developed a keen ear for great repertoire. Immersed in New York City’s thriving Irish music scene and in demand as a teacher and performer across the tri-state area\, Katie has cultivated her style through playing with many of the top performers associated with the North East scene including Mike Rafferty\, Patrick Ourceau\, Eamon O’Leary\, John Morrow\, and Kevin Crawford.\n\nGrowing up in Dublin\, Ivan was mentored for several years by uilleann pipes great\, Mick O’Brien. Today Ivan is equally renowned for his flute and pipes playing. A member of Irish traditional band Danú\, he has also performed worldwide in duets and ensembles with many household names of Irish music including Iarla Ó Lionáird\, Mícheál Ó Raghallaigh\, Martin Hayes\, Eileen Ivers\, Dervish\, and Lúnasa and more recently with Irish Music Masters with John Doyle\, Seamus Egan\, John Williams\, and Cathie Ryan. Since arriving in New York over two decades ago\, Ivan’s credits range from film and theater\, to several well known Broadway productions\, to guest appearances with the New York Philharmonic. Individually\, Katie and Ivan have won plaudits for their music; together\, this musical power couple win over audiences with their deep affinities in repertoire\, style\, and musical experience.\n\nIvan and Katie – Tune Supply session: https://youtu.be/8KYYv93J-d4\nIvan performing with Danú: https://youtu.be/Xl1bkpCuP-0\n\nTickets at door only: $20 general/$10 Pipers Club and Canadian American Club members.\n\nhttps://bostonupc.wordpress.com/events
URL:https://canadianamericanclub.com/event/ivan-goff-katie-linnane
LOCATION:Canadian American Club\, 202 Arlington Street\, Watertown\, MA\, United States
ORGANIZER;CN="Boston Uilleann Pipers Club":MAILTO:bostonpipers@gmail.com
END:VEVENT
BEGIN:VEVENT
DTSTART;TZID=America/New_York:20230316T193000
DTEND;TZID=America/New_York:20230316T193000
DTSTAMP:20260425T135207
CREATED:20230303T213950Z
LAST-MODIFIED:20230303T214148Z
UID:10000010-1678995000-1678995000@canadianamericanclub.com
SUMMARY:Open the Door for Three
DESCRIPTION:$20 general admission\nRSVP requested: bostonpipers@gmail.com\nLiz\, Kieran\, and Pat have been mainstays of the Irish music scene around the world\, having distinguished themselves over the last two decades as soloists with Riverdance\, Cherish the Ladies\, String Sisters\, Secret Garden\, Anúna\, and The New York Pops. As a trio\, they have played to a wide range of audiences in venues large and small\, from Irish festivals\, to concert halls\, house concerts\, and pubs. They have performed around the world: on Broadway and at Carnegie Hall\, at L’Olympia and the Palais des Congrès in Paris\, in Malaysian rainforest festivals\, in theatres from Shanghai to São Paulo\, and even in a bullring in Mallorca. Most recently\, they have been featured at The Kennedy Center’s Ireland 100 festival\, the Celtic Colours festival in Cape Breton\, at The Milwaukee Irish Festival\, and in The Masters of Tradition series in Bantry\, County Cork\, Ireland.\nIrish music is a living\, breathing part of Irish and Irish-American culture\, and there is no single story that can sum up its history\, its charm\, grace\, and drive. The soul of Open the Door for Three’s music is filled with connections: the connections to people and places\, to teachers and heritage and audiences\, and to the stories and humor that bring us all together. From these connections comes inspiration\, which fills a bottomless well that keeps the trio coming back again and again – to refill\, refuel\, reinvent\, and share.
URL:https://canadianamericanclub.com/event/open-the-door-for-three
LOCATION:Canadian American Club\, 202 Arlington Street\, Watertown\, MA\, United States
ORGANIZER;CN="Boston Uilleann Pipers Club":MAILTO:bostonpipers@gmail.com
END:VEVENT
END:VCALENDAR