BEGIN:VCALENDAR
VERSION:2.0
PRODID:-//Canadian American Club - ECPv6.15.20//NONSGML v1.0//EN
CALSCALE:GREGORIAN
METHOD:PUBLISH
X-ORIGINAL-URL:https://canadianamericanclub.com
X-WR-CALDESC:Events for Canadian American Club
REFRESH-INTERVAL;VALUE=DURATION:PT1H
X-Robots-Tag:noindex
X-PUBLISHED-TTL:PT1H
BEGIN:VTIMEZONE
TZID:America/New_York
BEGIN:DAYLIGHT
TZOFFSETFROM:-0500
TZOFFSETTO:-0400
TZNAME:EDT
DTSTART:20240310T070000
END:DAYLIGHT
BEGIN:STANDARD
TZOFFSETFROM:-0400
TZOFFSETTO:-0500
TZNAME:EST
DTSTART:20241103T060000
END:STANDARD
BEGIN:DAYLIGHT
TZOFFSETFROM:-0500
TZOFFSETTO:-0400
TZNAME:EDT
DTSTART:20250309T070000
END:DAYLIGHT
BEGIN:STANDARD
TZOFFSETFROM:-0400
TZOFFSETTO:-0500
TZNAME:EST
DTSTART:20251102T060000
END:STANDARD
BEGIN:DAYLIGHT
TZOFFSETFROM:-0500
TZOFFSETTO:-0400
TZNAME:EDT
DTSTART:20260308T070000
END:DAYLIGHT
BEGIN:STANDARD
TZOFFSETFROM:-0400
TZOFFSETTO:-0500
TZNAME:EST
DTSTART:20261101T060000
END:STANDARD
END:VTIMEZONE
BEGIN:VEVENT
DTSTART;TZID=America/New_York:20251205T200000
DTEND;TZID=America/New_York:20251205T230000
DTSTAMP:20260425T181229
CREATED:20240326T234522Z
LAST-MODIFIED:20260101T032146Z
UID:10000131-1764964800-1764975600@canadianamericanclub.com
SUMMARY:Friday Pub Night
DESCRIPTION:The downstairs pub is open to the public most Friday nights! This low-key event is a chance for club members to socialize and enjoy some live music. If you’re new to the club\, this is a perfect time to stop in and introduce yourself! \nThis is an open-mic event. Everyone is invited to bring an instrument if you play\, or just hang out at the bar and enjoy good music and company. \nWord on the street is that we are the cheapest bar in town! Potluck snacks and desserts; no cover charge.
URL:https://canadianamericanclub.com/event/friday-pub-night-10/2025-12-05
LOCATION:Canadian American Club\, 202 Arlington Street\, Watertown\, MA\, United States
CATEGORIES:open mic
ORGANIZER;CN="Canadian American Club":MAILTO:Canadianamericanclub@gmail.com
END:VEVENT
BEGIN:VEVENT
DTSTART;TZID=America/New_York:20251212T200000
DTEND;TZID=America/New_York:20251212T230000
DTSTAMP:20260425T181229
CREATED:20240326T234522Z
LAST-MODIFIED:20260101T032146Z
UID:10000132-1765569600-1765580400@canadianamericanclub.com
SUMMARY:Friday Pub Night
DESCRIPTION:The downstairs pub is open to the public most Friday nights! This low-key event is a chance for club members to socialize and enjoy some live music. If you’re new to the club\, this is a perfect time to stop in and introduce yourself! \nThis is an open-mic event. Everyone is invited to bring an instrument if you play\, or just hang out at the bar and enjoy good music and company. \nWord on the street is that we are the cheapest bar in town! Potluck snacks and desserts; no cover charge.
URL:https://canadianamericanclub.com/event/friday-pub-night-10/2025-12-12
LOCATION:Canadian American Club\, 202 Arlington Street\, Watertown\, MA\, United States
CATEGORIES:open mic
ORGANIZER;CN="Canadian American Club":MAILTO:Canadianamericanclub@gmail.com
END:VEVENT
BEGIN:VEVENT
DTSTART;TZID=America/New_York:20251219T200000
DTEND;TZID=America/New_York:20251219T230000
DTSTAMP:20260425T181229
CREATED:20240326T234522Z
LAST-MODIFIED:20260101T032146Z
UID:10001372-1766174400-1766185200@canadianamericanclub.com
SUMMARY:Friday Pub Night
DESCRIPTION:The downstairs pub is open to the public most Friday nights! This low-key event is a chance for club members to socialize and enjoy some live music. If you’re new to the club\, this is a perfect time to stop in and introduce yourself! \nThis is an open-mic event. Everyone is invited to bring an instrument if you play\, or just hang out at the bar and enjoy good music and company. \nWord on the street is that we are the cheapest bar in town! Potluck snacks and desserts; no cover charge.
URL:https://canadianamericanclub.com/event/friday-pub-night-10/2025-12-19
LOCATION:Canadian American Club\, 202 Arlington Street\, Watertown\, MA\, United States
CATEGORIES:open mic
ORGANIZER;CN="Canadian American Club":MAILTO:Canadianamericanclub@gmail.com
END:VEVENT
BEGIN:VEVENT
DTSTART;TZID=America/New_York:20251219T200000
DTEND;TZID=America/New_York:20251219T230000
DTSTAMP:20260425T181229
CREATED:20251110T210036Z
LAST-MODIFIED:20251110T210656Z
UID:10000133-1766174400-1766185200@canadianamericanclub.com
SUMMARY:Can-Am Christmas Party
DESCRIPTION:Come celebrate the season with us at the Canadian American Club! This event will be a little different from the usual Friday pub nights with the addition of a Yankee swap\, carol singing\, and some delicious seasonal goodies! We’ll still have our usual great live music and open mic. Everyone is invited to bring an instrument if you play\, or just hang out at the bar and enjoy good music and company \nIf you’d like to participate in the Yankee swap\, please bring a wrapped gift with a value of around $20. \n 
URL:https://canadianamericanclub.com/event/friday-pub-night-10-5
LOCATION:Canadian American Club\, 202 Arlington Street\, Watertown\, MA\, United States
CATEGORIES:open mic,Party,pub night
ORGANIZER;CN="Canadian American Club":MAILTO:Canadianamericanclub@gmail.com
END:VEVENT
END:VCALENDAR