BEGIN:VCALENDAR
VERSION:2.0
PRODID:-//Canadian American Club - ECPv6.15.20//NONSGML v1.0//EN
CALSCALE:GREGORIAN
METHOD:PUBLISH
X-WR-CALNAME:Canadian American Club
X-ORIGINAL-URL:https://canadianamericanclub.com
X-WR-CALDESC:Events for Canadian American Club
REFRESH-INTERVAL;VALUE=DURATION:PT1H
X-Robots-Tag:noindex
X-PUBLISHED-TTL:PT1H
BEGIN:VTIMEZONE
TZID:America/New_York
BEGIN:DAYLIGHT
TZOFFSETFROM:-0500
TZOFFSETTO:-0400
TZNAME:EDT
DTSTART:20250309T070000
END:DAYLIGHT
BEGIN:STANDARD
TZOFFSETFROM:-0400
TZOFFSETTO:-0500
TZNAME:EST
DTSTART:20251102T060000
END:STANDARD
BEGIN:DAYLIGHT
TZOFFSETFROM:-0500
TZOFFSETTO:-0400
TZNAME:EDT
DTSTART:20260308T070000
END:DAYLIGHT
BEGIN:STANDARD
TZOFFSETFROM:-0400
TZOFFSETTO:-0500
TZNAME:EST
DTSTART:20261101T060000
END:STANDARD
BEGIN:DAYLIGHT
TZOFFSETFROM:-0500
TZOFFSETTO:-0400
TZNAME:EDT
DTSTART:20270314T070000
END:DAYLIGHT
BEGIN:STANDARD
TZOFFSETFROM:-0400
TZOFFSETTO:-0500
TZNAME:EST
DTSTART:20271107T060000
END:STANDARD
BEGIN:DAYLIGHT
TZOFFSETFROM:-0500
TZOFFSETTO:-0400
TZNAME:EDT
DTSTART:20280312T070000
END:DAYLIGHT
BEGIN:STANDARD
TZOFFSETFROM:-0400
TZOFFSETTO:-0500
TZNAME:EST
DTSTART:20281105T060000
END:STANDARD
BEGIN:DAYLIGHT
TZOFFSETFROM:-0500
TZOFFSETTO:-0400
TZNAME:EDT
DTSTART:20290311T070000
END:DAYLIGHT
BEGIN:STANDARD
TZOFFSETFROM:-0400
TZOFFSETTO:-0500
TZNAME:EST
DTSTART:20291104T060000
END:STANDARD
END:VTIMEZONE
BEGIN:VEVENT
DTSTART;TZID=America/New_York:20260503T150000
DTEND;TZID=America/New_York:20260503T190000
DTSTAMP:20260425T114813
CREATED:20250308T010635Z
LAST-MODIFIED:20250308T010636Z
UID:10000765-1777820400-1777834800@canadianamericanclub.com
SUMMARY:Comhaltas Monthly Seisiún
DESCRIPTION:The Reynolds-Hanafin-Cooley branch holds monthly Seisiúns October through June.
URL:https://canadianamericanclub.com/event/comhaltas-monthly-seisiun-2/2026-05-03
LOCATION:Canadian American Club\, 202 Arlington Street\, Watertown\, MA\, United States
CATEGORIES:Irish,Session
END:VEVENT
BEGIN:VEVENT
DTSTART;TZID=America/New_York:20260607T150000
DTEND;TZID=America/New_York:20260607T190000
DTSTAMP:20260425T114813
CREATED:20250308T010635Z
LAST-MODIFIED:20250308T010636Z
UID:10000766-1780844400-1780858800@canadianamericanclub.com
SUMMARY:Comhaltas Monthly Seisiún
DESCRIPTION:The Reynolds-Hanafin-Cooley branch holds monthly Seisiúns October through June.
URL:https://canadianamericanclub.com/event/comhaltas-monthly-seisiun-2/2026-06-07
LOCATION:Canadian American Club\, 202 Arlington Street\, Watertown\, MA\, United States
CATEGORIES:Irish,Session
END:VEVENT
BEGIN:VEVENT
DTSTART;TZID=America/New_York:20260705T150000
DTEND;TZID=America/New_York:20260705T190000
DTSTAMP:20260425T114813
CREATED:20250308T010635Z
LAST-MODIFIED:20250308T010636Z
UID:10000767-1783263600-1783278000@canadianamericanclub.com
SUMMARY:Comhaltas Monthly Seisiún
DESCRIPTION:The Reynolds-Hanafin-Cooley branch holds monthly Seisiúns October through June.
URL:https://canadianamericanclub.com/event/comhaltas-monthly-seisiun-2/2026-07-05
LOCATION:Canadian American Club\, 202 Arlington Street\, Watertown\, MA\, United States
CATEGORIES:Irish,Session
END:VEVENT
BEGIN:VEVENT
DTSTART;TZID=America/New_York:20260802T150000
DTEND;TZID=America/New_York:20260802T190000
DTSTAMP:20260425T114813
CREATED:20250308T010635Z
LAST-MODIFIED:20250308T010636Z
UID:10000768-1785682800-1785697200@canadianamericanclub.com
SUMMARY:Comhaltas Monthly Seisiún
DESCRIPTION:The Reynolds-Hanafin-Cooley branch holds monthly Seisiúns October through June.
URL:https://canadianamericanclub.com/event/comhaltas-monthly-seisiun-2/2026-08-02
LOCATION:Canadian American Club\, 202 Arlington Street\, Watertown\, MA\, United States
CATEGORIES:Irish,Session
END:VEVENT
BEGIN:VEVENT
DTSTART;TZID=America/New_York:20260906T150000
DTEND;TZID=America/New_York:20260906T190000
DTSTAMP:20260425T114813
CREATED:20250308T010635Z
LAST-MODIFIED:20250308T010636Z
UID:10000769-1788706800-1788721200@canadianamericanclub.com
SUMMARY:Comhaltas Monthly Seisiún
DESCRIPTION:The Reynolds-Hanafin-Cooley branch holds monthly Seisiúns October through June.
URL:https://canadianamericanclub.com/event/comhaltas-monthly-seisiun-2/2026-09-06
LOCATION:Canadian American Club\, 202 Arlington Street\, Watertown\, MA\, United States
CATEGORIES:Irish,Session
END:VEVENT
BEGIN:VEVENT
DTSTART;TZID=America/New_York:20261004T150000
DTEND;TZID=America/New_York:20261004T190000
DTSTAMP:20260425T114813
CREATED:20250308T010635Z
LAST-MODIFIED:20250308T010636Z
UID:10000770-1791126000-1791140400@canadianamericanclub.com
SUMMARY:Comhaltas Monthly Seisiún
DESCRIPTION:The Reynolds-Hanafin-Cooley branch holds monthly Seisiúns October through June.
URL:https://canadianamericanclub.com/event/comhaltas-monthly-seisiun-2/2026-10-04
LOCATION:Canadian American Club\, 202 Arlington Street\, Watertown\, MA\, United States
CATEGORIES:Irish,Session
END:VEVENT
BEGIN:VEVENT
DTSTART;TZID=America/New_York:20261101T150000
DTEND;TZID=America/New_York:20261101T190000
DTSTAMP:20260425T114813
CREATED:20250308T010635Z
LAST-MODIFIED:20250308T010636Z
UID:10000771-1793545200-1793559600@canadianamericanclub.com
SUMMARY:Comhaltas Monthly Seisiún
DESCRIPTION:The Reynolds-Hanafin-Cooley branch holds monthly Seisiúns October through June.
URL:https://canadianamericanclub.com/event/comhaltas-monthly-seisiun-2/2026-11-01
LOCATION:Canadian American Club\, 202 Arlington Street\, Watertown\, MA\, United States
CATEGORIES:Irish,Session
END:VEVENT
BEGIN:VEVENT
DTSTART;TZID=America/New_York:20261206T150000
DTEND;TZID=America/New_York:20261206T190000
DTSTAMP:20260425T114813
CREATED:20250308T010635Z
LAST-MODIFIED:20250308T010636Z
UID:10000772-1796569200-1796583600@canadianamericanclub.com
SUMMARY:Comhaltas Monthly Seisiún
DESCRIPTION:The Reynolds-Hanafin-Cooley branch holds monthly Seisiúns October through June.
URL:https://canadianamericanclub.com/event/comhaltas-monthly-seisiun-2/2026-12-06
LOCATION:Canadian American Club\, 202 Arlington Street\, Watertown\, MA\, United States
CATEGORIES:Irish,Session
END:VEVENT
BEGIN:VEVENT
DTSTART;TZID=America/New_York:20270103T150000
DTEND;TZID=America/New_York:20270103T190000
DTSTAMP:20260425T114813
CREATED:20250308T010635Z
LAST-MODIFIED:20250308T010636Z
UID:10000773-1798988400-1799002800@canadianamericanclub.com
SUMMARY:Comhaltas Monthly Seisiún
DESCRIPTION:The Reynolds-Hanafin-Cooley branch holds monthly Seisiúns October through June.
URL:https://canadianamericanclub.com/event/comhaltas-monthly-seisiun-2/2027-01-03
LOCATION:Canadian American Club\, 202 Arlington Street\, Watertown\, MA\, United States
CATEGORIES:Irish,Session
END:VEVENT
BEGIN:VEVENT
DTSTART;TZID=America/New_York:20270207T150000
DTEND;TZID=America/New_York:20270207T190000
DTSTAMP:20260425T114813
CREATED:20250308T010635Z
LAST-MODIFIED:20250308T010636Z
UID:10000774-1802012400-1802026800@canadianamericanclub.com
SUMMARY:Comhaltas Monthly Seisiún
DESCRIPTION:The Reynolds-Hanafin-Cooley branch holds monthly Seisiúns October through June.
URL:https://canadianamericanclub.com/event/comhaltas-monthly-seisiun-2/2027-02-07
LOCATION:Canadian American Club\, 202 Arlington Street\, Watertown\, MA\, United States
CATEGORIES:Irish,Session
END:VEVENT
BEGIN:VEVENT
DTSTART;TZID=America/New_York:20270307T150000
DTEND;TZID=America/New_York:20270307T190000
DTSTAMP:20260425T114813
CREATED:20250308T010635Z
LAST-MODIFIED:20250308T010636Z
UID:10000775-1804431600-1804446000@canadianamericanclub.com
SUMMARY:Comhaltas Monthly Seisiún
DESCRIPTION:The Reynolds-Hanafin-Cooley branch holds monthly Seisiúns October through June.
URL:https://canadianamericanclub.com/event/comhaltas-monthly-seisiun-2/2027-03-07
LOCATION:Canadian American Club\, 202 Arlington Street\, Watertown\, MA\, United States
CATEGORIES:Irish,Session
END:VEVENT
BEGIN:VEVENT
DTSTART;TZID=America/New_York:20270404T150000
DTEND;TZID=America/New_York:20270404T190000
DTSTAMP:20260425T114813
CREATED:20250308T010635Z
LAST-MODIFIED:20250308T010636Z
UID:10000776-1806850800-1806865200@canadianamericanclub.com
SUMMARY:Comhaltas Monthly Seisiún
DESCRIPTION:The Reynolds-Hanafin-Cooley branch holds monthly Seisiúns October through June.
URL:https://canadianamericanclub.com/event/comhaltas-monthly-seisiun-2/2027-04-04
LOCATION:Canadian American Club\, 202 Arlington Street\, Watertown\, MA\, United States
CATEGORIES:Irish,Session
END:VEVENT
BEGIN:VEVENT
DTSTART;TZID=America/New_York:20270502T150000
DTEND;TZID=America/New_York:20270502T190000
DTSTAMP:20260425T114813
CREATED:20250308T010635Z
LAST-MODIFIED:20250308T010636Z
UID:10000777-1809270000-1809284400@canadianamericanclub.com
SUMMARY:Comhaltas Monthly Seisiún
DESCRIPTION:The Reynolds-Hanafin-Cooley branch holds monthly Seisiúns October through June.
URL:https://canadianamericanclub.com/event/comhaltas-monthly-seisiun-2/2027-05-02
LOCATION:Canadian American Club\, 202 Arlington Street\, Watertown\, MA\, United States
CATEGORIES:Irish,Session
END:VEVENT
BEGIN:VEVENT
DTSTART;TZID=America/New_York:20270606T150000
DTEND;TZID=America/New_York:20270606T190000
DTSTAMP:20260425T114813
CREATED:20250308T010635Z
LAST-MODIFIED:20250308T010636Z
UID:10000778-1812294000-1812308400@canadianamericanclub.com
SUMMARY:Comhaltas Monthly Seisiún
DESCRIPTION:The Reynolds-Hanafin-Cooley branch holds monthly Seisiúns October through June.
URL:https://canadianamericanclub.com/event/comhaltas-monthly-seisiun-2/2027-06-06
LOCATION:Canadian American Club\, 202 Arlington Street\, Watertown\, MA\, United States
CATEGORIES:Irish,Session
END:VEVENT
BEGIN:VEVENT
DTSTART;TZID=America/New_York:20270704T150000
DTEND;TZID=America/New_York:20270704T190000
DTSTAMP:20260425T114813
CREATED:20250308T010635Z
LAST-MODIFIED:20250308T010636Z
UID:10000779-1814713200-1814727600@canadianamericanclub.com
SUMMARY:Comhaltas Monthly Seisiún
DESCRIPTION:The Reynolds-Hanafin-Cooley branch holds monthly Seisiúns October through June.
URL:https://canadianamericanclub.com/event/comhaltas-monthly-seisiun-2/2027-07-04
LOCATION:Canadian American Club\, 202 Arlington Street\, Watertown\, MA\, United States
CATEGORIES:Irish,Session
END:VEVENT
BEGIN:VEVENT
DTSTART;TZID=America/New_York:20270801T150000
DTEND;TZID=America/New_York:20270801T190000
DTSTAMP:20260425T114813
CREATED:20250308T010635Z
LAST-MODIFIED:20250308T010636Z
UID:10000780-1817132400-1817146800@canadianamericanclub.com
SUMMARY:Comhaltas Monthly Seisiún
DESCRIPTION:The Reynolds-Hanafin-Cooley branch holds monthly Seisiúns October through June.
URL:https://canadianamericanclub.com/event/comhaltas-monthly-seisiun-2/2027-08-01
LOCATION:Canadian American Club\, 202 Arlington Street\, Watertown\, MA\, United States
CATEGORIES:Irish,Session
END:VEVENT
BEGIN:VEVENT
DTSTART;TZID=America/New_York:20270905T150000
DTEND;TZID=America/New_York:20270905T190000
DTSTAMP:20260425T114813
CREATED:20250308T010635Z
LAST-MODIFIED:20250308T010636Z
UID:10000781-1820156400-1820170800@canadianamericanclub.com
SUMMARY:Comhaltas Monthly Seisiún
DESCRIPTION:The Reynolds-Hanafin-Cooley branch holds monthly Seisiúns October through June.
URL:https://canadianamericanclub.com/event/comhaltas-monthly-seisiun-2/2027-09-05
LOCATION:Canadian American Club\, 202 Arlington Street\, Watertown\, MA\, United States
CATEGORIES:Irish,Session
END:VEVENT
BEGIN:VEVENT
DTSTART;TZID=America/New_York:20271003T150000
DTEND;TZID=America/New_York:20271003T190000
DTSTAMP:20260425T114813
CREATED:20250308T010635Z
LAST-MODIFIED:20250308T010636Z
UID:10000782-1822575600-1822590000@canadianamericanclub.com
SUMMARY:Comhaltas Monthly Seisiún
DESCRIPTION:The Reynolds-Hanafin-Cooley branch holds monthly Seisiúns October through June.
URL:https://canadianamericanclub.com/event/comhaltas-monthly-seisiun-2/2027-10-03
LOCATION:Canadian American Club\, 202 Arlington Street\, Watertown\, MA\, United States
CATEGORIES:Irish,Session
END:VEVENT
BEGIN:VEVENT
DTSTART;TZID=America/New_York:20271107T150000
DTEND;TZID=America/New_York:20271107T190000
DTSTAMP:20260425T114813
CREATED:20250308T010635Z
LAST-MODIFIED:20250308T010636Z
UID:10000783-1825599600-1825614000@canadianamericanclub.com
SUMMARY:Comhaltas Monthly Seisiún
DESCRIPTION:The Reynolds-Hanafin-Cooley branch holds monthly Seisiúns October through June.
URL:https://canadianamericanclub.com/event/comhaltas-monthly-seisiun-2/2027-11-07
LOCATION:Canadian American Club\, 202 Arlington Street\, Watertown\, MA\, United States
CATEGORIES:Irish,Session
END:VEVENT
BEGIN:VEVENT
DTSTART;TZID=America/New_York:20271205T150000
DTEND;TZID=America/New_York:20271205T190000
DTSTAMP:20260425T114813
CREATED:20250308T010635Z
LAST-MODIFIED:20250308T010636Z
UID:10000784-1828018800-1828033200@canadianamericanclub.com
SUMMARY:Comhaltas Monthly Seisiún
DESCRIPTION:The Reynolds-Hanafin-Cooley branch holds monthly Seisiúns October through June.
URL:https://canadianamericanclub.com/event/comhaltas-monthly-seisiun-2/2027-12-05
LOCATION:Canadian American Club\, 202 Arlington Street\, Watertown\, MA\, United States
CATEGORIES:Irish,Session
END:VEVENT
BEGIN:VEVENT
DTSTART;TZID=America/New_York:20280102T150000
DTEND;TZID=America/New_York:20280102T190000
DTSTAMP:20260425T114813
CREATED:20250308T010635Z
LAST-MODIFIED:20250308T010636Z
UID:10000785-1830438000-1830452400@canadianamericanclub.com
SUMMARY:Comhaltas Monthly Seisiún
DESCRIPTION:The Reynolds-Hanafin-Cooley branch holds monthly Seisiúns October through June.
URL:https://canadianamericanclub.com/event/comhaltas-monthly-seisiun-2/2028-01-02
LOCATION:Canadian American Club\, 202 Arlington Street\, Watertown\, MA\, United States
CATEGORIES:Irish,Session
END:VEVENT
BEGIN:VEVENT
DTSTART;TZID=America/New_York:20280206T150000
DTEND;TZID=America/New_York:20280206T190000
DTSTAMP:20260425T114813
CREATED:20250308T010635Z
LAST-MODIFIED:20250308T010636Z
UID:10000786-1833462000-1833476400@canadianamericanclub.com
SUMMARY:Comhaltas Monthly Seisiún
DESCRIPTION:The Reynolds-Hanafin-Cooley branch holds monthly Seisiúns October through June.
URL:https://canadianamericanclub.com/event/comhaltas-monthly-seisiun-2/2028-02-06
LOCATION:Canadian American Club\, 202 Arlington Street\, Watertown\, MA\, United States
CATEGORIES:Irish,Session
END:VEVENT
BEGIN:VEVENT
DTSTART;TZID=America/New_York:20280305T150000
DTEND;TZID=America/New_York:20280305T190000
DTSTAMP:20260425T114813
CREATED:20250308T010635Z
LAST-MODIFIED:20250308T010636Z
UID:10000787-1835881200-1835895600@canadianamericanclub.com
SUMMARY:Comhaltas Monthly Seisiún
DESCRIPTION:The Reynolds-Hanafin-Cooley branch holds monthly Seisiúns October through June.
URL:https://canadianamericanclub.com/event/comhaltas-monthly-seisiun-2/2028-03-05
LOCATION:Canadian American Club\, 202 Arlington Street\, Watertown\, MA\, United States
CATEGORIES:Irish,Session
END:VEVENT
BEGIN:VEVENT
DTSTART;TZID=America/New_York:20280402T150000
DTEND;TZID=America/New_York:20280402T190000
DTSTAMP:20260425T114813
CREATED:20250308T010635Z
LAST-MODIFIED:20250308T010636Z
UID:10000788-1838300400-1838314800@canadianamericanclub.com
SUMMARY:Comhaltas Monthly Seisiún
DESCRIPTION:The Reynolds-Hanafin-Cooley branch holds monthly Seisiúns October through June.
URL:https://canadianamericanclub.com/event/comhaltas-monthly-seisiun-2/2028-04-02
LOCATION:Canadian American Club\, 202 Arlington Street\, Watertown\, MA\, United States
CATEGORIES:Irish,Session
END:VEVENT
BEGIN:VEVENT
DTSTART;TZID=America/New_York:20280507T150000
DTEND;TZID=America/New_York:20280507T190000
DTSTAMP:20260425T114813
CREATED:20250308T010635Z
LAST-MODIFIED:20250308T010636Z
UID:10000789-1841324400-1841338800@canadianamericanclub.com
SUMMARY:Comhaltas Monthly Seisiún
DESCRIPTION:The Reynolds-Hanafin-Cooley branch holds monthly Seisiúns October through June.
URL:https://canadianamericanclub.com/event/comhaltas-monthly-seisiun-2/2028-05-07
LOCATION:Canadian American Club\, 202 Arlington Street\, Watertown\, MA\, United States
CATEGORIES:Irish,Session
END:VEVENT
BEGIN:VEVENT
DTSTART;TZID=America/New_York:20280604T150000
DTEND;TZID=America/New_York:20280604T190000
DTSTAMP:20260425T114813
CREATED:20250308T010635Z
LAST-MODIFIED:20250308T010636Z
UID:10000790-1843743600-1843758000@canadianamericanclub.com
SUMMARY:Comhaltas Monthly Seisiún
DESCRIPTION:The Reynolds-Hanafin-Cooley branch holds monthly Seisiúns October through June.
URL:https://canadianamericanclub.com/event/comhaltas-monthly-seisiun-2/2028-06-04
LOCATION:Canadian American Club\, 202 Arlington Street\, Watertown\, MA\, United States
CATEGORIES:Irish,Session
END:VEVENT
BEGIN:VEVENT
DTSTART;TZID=America/New_York:20280702T150000
DTEND;TZID=America/New_York:20280702T190000
DTSTAMP:20260425T114813
CREATED:20250308T010635Z
LAST-MODIFIED:20250308T010636Z
UID:10000791-1846162800-1846177200@canadianamericanclub.com
SUMMARY:Comhaltas Monthly Seisiún
DESCRIPTION:The Reynolds-Hanafin-Cooley branch holds monthly Seisiúns October through June.
URL:https://canadianamericanclub.com/event/comhaltas-monthly-seisiun-2/2028-07-02
LOCATION:Canadian American Club\, 202 Arlington Street\, Watertown\, MA\, United States
CATEGORIES:Irish,Session
END:VEVENT
BEGIN:VEVENT
DTSTART;TZID=America/New_York:20280806T150000
DTEND;TZID=America/New_York:20280806T190000
DTSTAMP:20260425T114813
CREATED:20250308T010635Z
LAST-MODIFIED:20250308T010636Z
UID:10000792-1849186800-1849201200@canadianamericanclub.com
SUMMARY:Comhaltas Monthly Seisiún
DESCRIPTION:The Reynolds-Hanafin-Cooley branch holds monthly Seisiúns October through June.
URL:https://canadianamericanclub.com/event/comhaltas-monthly-seisiun-2/2028-08-06
LOCATION:Canadian American Club\, 202 Arlington Street\, Watertown\, MA\, United States
CATEGORIES:Irish,Session
END:VEVENT
BEGIN:VEVENT
DTSTART;TZID=America/New_York:20280903T150000
DTEND;TZID=America/New_York:20280903T190000
DTSTAMP:20260425T114813
CREATED:20250308T010635Z
LAST-MODIFIED:20250308T010636Z
UID:10000793-1851606000-1851620400@canadianamericanclub.com
SUMMARY:Comhaltas Monthly Seisiún
DESCRIPTION:The Reynolds-Hanafin-Cooley branch holds monthly Seisiúns October through June.
URL:https://canadianamericanclub.com/event/comhaltas-monthly-seisiun-2/2028-09-03
LOCATION:Canadian American Club\, 202 Arlington Street\, Watertown\, MA\, United States
CATEGORIES:Irish,Session
END:VEVENT
BEGIN:VEVENT
DTSTART;TZID=America/New_York:20281001T150000
DTEND;TZID=America/New_York:20281001T190000
DTSTAMP:20260425T114813
CREATED:20250308T010635Z
LAST-MODIFIED:20250308T010636Z
UID:10000794-1854025200-1854039600@canadianamericanclub.com
SUMMARY:Comhaltas Monthly Seisiún
DESCRIPTION:The Reynolds-Hanafin-Cooley branch holds monthly Seisiúns October through June.
URL:https://canadianamericanclub.com/event/comhaltas-monthly-seisiun-2/2028-10-01
LOCATION:Canadian American Club\, 202 Arlington Street\, Watertown\, MA\, United States
CATEGORIES:Irish,Session
END:VEVENT
END:VCALENDAR