BEGIN:VCALENDAR
VERSION:2.0
PRODID:-//Canadian American Club - ECPv6.15.20//NONSGML v1.0//EN
CALSCALE:GREGORIAN
METHOD:PUBLISH
X-WR-CALNAME:Canadian American Club
X-ORIGINAL-URL:https://canadianamericanclub.com
X-WR-CALDESC:Events for Canadian American Club
REFRESH-INTERVAL;VALUE=DURATION:PT1H
X-Robots-Tag:noindex
X-PUBLISHED-TTL:PT1H
BEGIN:VTIMEZONE
TZID:America/New_York
BEGIN:DAYLIGHT
TZOFFSETFROM:-0500
TZOFFSETTO:-0400
TZNAME:EDT
DTSTART:20250309T070000
END:DAYLIGHT
BEGIN:STANDARD
TZOFFSETFROM:-0400
TZOFFSETTO:-0500
TZNAME:EST
DTSTART:20251102T060000
END:STANDARD
BEGIN:DAYLIGHT
TZOFFSETFROM:-0500
TZOFFSETTO:-0400
TZNAME:EDT
DTSTART:20260308T070000
END:DAYLIGHT
BEGIN:STANDARD
TZOFFSETFROM:-0400
TZOFFSETTO:-0500
TZNAME:EST
DTSTART:20261101T060000
END:STANDARD
BEGIN:DAYLIGHT
TZOFFSETFROM:-0500
TZOFFSETTO:-0400
TZNAME:EDT
DTSTART:20270314T070000
END:DAYLIGHT
BEGIN:STANDARD
TZOFFSETFROM:-0400
TZOFFSETTO:-0500
TZNAME:EST
DTSTART:20271107T060000
END:STANDARD
BEGIN:DAYLIGHT
TZOFFSETFROM:-0500
TZOFFSETTO:-0400
TZNAME:EDT
DTSTART:20280312T070000
END:DAYLIGHT
BEGIN:STANDARD
TZOFFSETFROM:-0400
TZOFFSETTO:-0500
TZNAME:EST
DTSTART:20281105T060000
END:STANDARD
BEGIN:DAYLIGHT
TZOFFSETFROM:-0500
TZOFFSETTO:-0400
TZNAME:EDT
DTSTART:20290311T070000
END:DAYLIGHT
BEGIN:STANDARD
TZOFFSETFROM:-0400
TZOFFSETTO:-0500
TZNAME:EST
DTSTART:20291104T060000
END:STANDARD
END:VTIMEZONE
BEGIN:VEVENT
DTSTART;TZID=America/New_York:20260507T193000
DTEND;TZID=America/New_York:20260507T220000
DTSTAMP:20260425T114344
CREATED:20240327T181228Z
LAST-MODIFIED:20250113T012130Z
UID:10001262-1778182200-1778191200@canadianamericanclub.com
SUMMARY:First Thursday Irish session
DESCRIPTION:
URL:https://canadianamericanclub.com/event/first-thursday-irish-session/2026-05-07
LOCATION:Canadian American Club\, 202 Arlington Street\, Watertown\, MA\, United States
CATEGORIES:Irish,Session
END:VEVENT
BEGIN:VEVENT
DTSTART;TZID=America/New_York:20260604T193000
DTEND;TZID=America/New_York:20260604T220000
DTSTAMP:20260425T114344
CREATED:20240327T181228Z
LAST-MODIFIED:20250113T012130Z
UID:10001263-1780601400-1780610400@canadianamericanclub.com
SUMMARY:First Thursday Irish session
DESCRIPTION:
URL:https://canadianamericanclub.com/event/first-thursday-irish-session/2026-06-04
LOCATION:Canadian American Club\, 202 Arlington Street\, Watertown\, MA\, United States
CATEGORIES:Irish,Session
END:VEVENT
BEGIN:VEVENT
DTSTART;TZID=America/New_York:20260702T193000
DTEND;TZID=America/New_York:20260702T220000
DTSTAMP:20260425T114344
CREATED:20240327T181228Z
LAST-MODIFIED:20250113T012130Z
UID:10001264-1783020600-1783029600@canadianamericanclub.com
SUMMARY:First Thursday Irish session
DESCRIPTION:
URL:https://canadianamericanclub.com/event/first-thursday-irish-session/2026-07-02
LOCATION:Canadian American Club\, 202 Arlington Street\, Watertown\, MA\, United States
CATEGORIES:Irish,Session
END:VEVENT
BEGIN:VEVENT
DTSTART;TZID=America/New_York:20260806T193000
DTEND;TZID=America/New_York:20260806T220000
DTSTAMP:20260425T114344
CREATED:20240327T181228Z
LAST-MODIFIED:20250113T012130Z
UID:10001265-1786044600-1786053600@canadianamericanclub.com
SUMMARY:First Thursday Irish session
DESCRIPTION:
URL:https://canadianamericanclub.com/event/first-thursday-irish-session/2026-08-06
LOCATION:Canadian American Club\, 202 Arlington Street\, Watertown\, MA\, United States
CATEGORIES:Irish,Session
END:VEVENT
BEGIN:VEVENT
DTSTART;TZID=America/New_York:20260903T193000
DTEND;TZID=America/New_York:20260903T220000
DTSTAMP:20260425T114344
CREATED:20240327T181228Z
LAST-MODIFIED:20250113T012130Z
UID:10001266-1788463800-1788472800@canadianamericanclub.com
SUMMARY:First Thursday Irish session
DESCRIPTION:
URL:https://canadianamericanclub.com/event/first-thursday-irish-session/2026-09-03
LOCATION:Canadian American Club\, 202 Arlington Street\, Watertown\, MA\, United States
CATEGORIES:Irish,Session
END:VEVENT
BEGIN:VEVENT
DTSTART;TZID=America/New_York:20261001T193000
DTEND;TZID=America/New_York:20261001T220000
DTSTAMP:20260425T114344
CREATED:20240327T181228Z
LAST-MODIFIED:20250113T012130Z
UID:10001267-1790883000-1790892000@canadianamericanclub.com
SUMMARY:First Thursday Irish session
DESCRIPTION:
URL:https://canadianamericanclub.com/event/first-thursday-irish-session/2026-10-01
LOCATION:Canadian American Club\, 202 Arlington Street\, Watertown\, MA\, United States
CATEGORIES:Irish,Session
END:VEVENT
BEGIN:VEVENT
DTSTART;TZID=America/New_York:20261105T193000
DTEND;TZID=America/New_York:20261105T220000
DTSTAMP:20260425T114344
CREATED:20240327T181228Z
LAST-MODIFIED:20250113T012130Z
UID:10001268-1793907000-1793916000@canadianamericanclub.com
SUMMARY:First Thursday Irish session
DESCRIPTION:
URL:https://canadianamericanclub.com/event/first-thursday-irish-session/2026-11-05
LOCATION:Canadian American Club\, 202 Arlington Street\, Watertown\, MA\, United States
CATEGORIES:Irish,Session
END:VEVENT
BEGIN:VEVENT
DTSTART;TZID=America/New_York:20261203T193000
DTEND;TZID=America/New_York:20261203T220000
DTSTAMP:20260425T114344
CREATED:20240327T181228Z
LAST-MODIFIED:20250113T012130Z
UID:10001269-1796326200-1796335200@canadianamericanclub.com
SUMMARY:First Thursday Irish session
DESCRIPTION:
URL:https://canadianamericanclub.com/event/first-thursday-irish-session/2026-12-03
LOCATION:Canadian American Club\, 202 Arlington Street\, Watertown\, MA\, United States
CATEGORIES:Irish,Session
END:VEVENT
BEGIN:VEVENT
DTSTART;TZID=America/New_York:20270107T193000
DTEND;TZID=America/New_York:20270107T220000
DTSTAMP:20260425T114344
CREATED:20240327T181228Z
LAST-MODIFIED:20250113T012130Z
UID:10001270-1799350200-1799359200@canadianamericanclub.com
SUMMARY:First Thursday Irish session
DESCRIPTION:
URL:https://canadianamericanclub.com/event/first-thursday-irish-session/2027-01-07
LOCATION:Canadian American Club\, 202 Arlington Street\, Watertown\, MA\, United States
CATEGORIES:Irish,Session
END:VEVENT
BEGIN:VEVENT
DTSTART;TZID=America/New_York:20270204T193000
DTEND;TZID=America/New_York:20270204T220000
DTSTAMP:20260425T114344
CREATED:20240327T181228Z
LAST-MODIFIED:20250113T012130Z
UID:10001271-1801769400-1801778400@canadianamericanclub.com
SUMMARY:First Thursday Irish session
DESCRIPTION:
URL:https://canadianamericanclub.com/event/first-thursday-irish-session/2027-02-04
LOCATION:Canadian American Club\, 202 Arlington Street\, Watertown\, MA\, United States
CATEGORIES:Irish,Session
END:VEVENT
BEGIN:VEVENT
DTSTART;TZID=America/New_York:20270304T193000
DTEND;TZID=America/New_York:20270304T220000
DTSTAMP:20260425T114344
CREATED:20240327T181228Z
LAST-MODIFIED:20250113T012130Z
UID:10001272-1804188600-1804197600@canadianamericanclub.com
SUMMARY:First Thursday Irish session
DESCRIPTION:
URL:https://canadianamericanclub.com/event/first-thursday-irish-session/2027-03-04
LOCATION:Canadian American Club\, 202 Arlington Street\, Watertown\, MA\, United States
CATEGORIES:Irish,Session
END:VEVENT
BEGIN:VEVENT
DTSTART;TZID=America/New_York:20270401T193000
DTEND;TZID=America/New_York:20270401T220000
DTSTAMP:20260425T114344
CREATED:20240327T181228Z
LAST-MODIFIED:20250113T012130Z
UID:10001273-1806607800-1806616800@canadianamericanclub.com
SUMMARY:First Thursday Irish session
DESCRIPTION:
URL:https://canadianamericanclub.com/event/first-thursday-irish-session/2027-04-01
LOCATION:Canadian American Club\, 202 Arlington Street\, Watertown\, MA\, United States
CATEGORIES:Irish,Session
END:VEVENT
BEGIN:VEVENT
DTSTART;TZID=America/New_York:20270506T193000
DTEND;TZID=America/New_York:20270506T220000
DTSTAMP:20260425T114344
CREATED:20240327T181228Z
LAST-MODIFIED:20250113T012130Z
UID:10001274-1809631800-1809640800@canadianamericanclub.com
SUMMARY:First Thursday Irish session
DESCRIPTION:
URL:https://canadianamericanclub.com/event/first-thursday-irish-session/2027-05-06
LOCATION:Canadian American Club\, 202 Arlington Street\, Watertown\, MA\, United States
CATEGORIES:Irish,Session
END:VEVENT
BEGIN:VEVENT
DTSTART;TZID=America/New_York:20270603T193000
DTEND;TZID=America/New_York:20270603T220000
DTSTAMP:20260425T114344
CREATED:20240327T181228Z
LAST-MODIFIED:20250113T012130Z
UID:10001275-1812051000-1812060000@canadianamericanclub.com
SUMMARY:First Thursday Irish session
DESCRIPTION:
URL:https://canadianamericanclub.com/event/first-thursday-irish-session/2027-06-03
LOCATION:Canadian American Club\, 202 Arlington Street\, Watertown\, MA\, United States
CATEGORIES:Irish,Session
END:VEVENT
BEGIN:VEVENT
DTSTART;TZID=America/New_York:20270701T193000
DTEND;TZID=America/New_York:20270701T220000
DTSTAMP:20260425T114344
CREATED:20240327T181228Z
LAST-MODIFIED:20250113T012130Z
UID:10001276-1814470200-1814479200@canadianamericanclub.com
SUMMARY:First Thursday Irish session
DESCRIPTION:
URL:https://canadianamericanclub.com/event/first-thursday-irish-session/2027-07-01
LOCATION:Canadian American Club\, 202 Arlington Street\, Watertown\, MA\, United States
CATEGORIES:Irish,Session
END:VEVENT
BEGIN:VEVENT
DTSTART;TZID=America/New_York:20270805T193000
DTEND;TZID=America/New_York:20270805T220000
DTSTAMP:20260425T114344
CREATED:20240327T181228Z
LAST-MODIFIED:20250113T012130Z
UID:10001277-1817494200-1817503200@canadianamericanclub.com
SUMMARY:First Thursday Irish session
DESCRIPTION:
URL:https://canadianamericanclub.com/event/first-thursday-irish-session/2027-08-05
LOCATION:Canadian American Club\, 202 Arlington Street\, Watertown\, MA\, United States
CATEGORIES:Irish,Session
END:VEVENT
BEGIN:VEVENT
DTSTART;TZID=America/New_York:20270902T193000
DTEND;TZID=America/New_York:20270902T220000
DTSTAMP:20260425T114344
CREATED:20240327T181228Z
LAST-MODIFIED:20250113T012130Z
UID:10001278-1819913400-1819922400@canadianamericanclub.com
SUMMARY:First Thursday Irish session
DESCRIPTION:
URL:https://canadianamericanclub.com/event/first-thursday-irish-session/2027-09-02
LOCATION:Canadian American Club\, 202 Arlington Street\, Watertown\, MA\, United States
CATEGORIES:Irish,Session
END:VEVENT
BEGIN:VEVENT
DTSTART;TZID=America/New_York:20271007T193000
DTEND;TZID=America/New_York:20271007T220000
DTSTAMP:20260425T114344
CREATED:20240327T181228Z
LAST-MODIFIED:20250113T012130Z
UID:10001279-1822937400-1822946400@canadianamericanclub.com
SUMMARY:First Thursday Irish session
DESCRIPTION:
URL:https://canadianamericanclub.com/event/first-thursday-irish-session/2027-10-07
LOCATION:Canadian American Club\, 202 Arlington Street\, Watertown\, MA\, United States
CATEGORIES:Irish,Session
END:VEVENT
BEGIN:VEVENT
DTSTART;TZID=America/New_York:20271104T193000
DTEND;TZID=America/New_York:20271104T220000
DTSTAMP:20260425T114344
CREATED:20240327T181228Z
LAST-MODIFIED:20250113T012130Z
UID:10001280-1825356600-1825365600@canadianamericanclub.com
SUMMARY:First Thursday Irish session
DESCRIPTION:
URL:https://canadianamericanclub.com/event/first-thursday-irish-session/2027-11-04
LOCATION:Canadian American Club\, 202 Arlington Street\, Watertown\, MA\, United States
CATEGORIES:Irish,Session
END:VEVENT
BEGIN:VEVENT
DTSTART;TZID=America/New_York:20271202T193000
DTEND;TZID=America/New_York:20271202T220000
DTSTAMP:20260425T114344
CREATED:20240327T181228Z
LAST-MODIFIED:20250113T012130Z
UID:10001281-1827775800-1827784800@canadianamericanclub.com
SUMMARY:First Thursday Irish session
DESCRIPTION:
URL:https://canadianamericanclub.com/event/first-thursday-irish-session/2027-12-02
LOCATION:Canadian American Club\, 202 Arlington Street\, Watertown\, MA\, United States
CATEGORIES:Irish,Session
END:VEVENT
BEGIN:VEVENT
DTSTART;TZID=America/New_York:20280106T193000
DTEND;TZID=America/New_York:20280106T220000
DTSTAMP:20260425T114344
CREATED:20240327T181228Z
LAST-MODIFIED:20250113T012130Z
UID:10001282-1830799800-1830808800@canadianamericanclub.com
SUMMARY:First Thursday Irish session
DESCRIPTION:
URL:https://canadianamericanclub.com/event/first-thursday-irish-session/2028-01-06
LOCATION:Canadian American Club\, 202 Arlington Street\, Watertown\, MA\, United States
CATEGORIES:Irish,Session
END:VEVENT
BEGIN:VEVENT
DTSTART;TZID=America/New_York:20280203T193000
DTEND;TZID=America/New_York:20280203T220000
DTSTAMP:20260425T114344
CREATED:20240327T181228Z
LAST-MODIFIED:20250113T012130Z
UID:10001283-1833219000-1833228000@canadianamericanclub.com
SUMMARY:First Thursday Irish session
DESCRIPTION:
URL:https://canadianamericanclub.com/event/first-thursday-irish-session/2028-02-03
LOCATION:Canadian American Club\, 202 Arlington Street\, Watertown\, MA\, United States
CATEGORIES:Irish,Session
END:VEVENT
BEGIN:VEVENT
DTSTART;TZID=America/New_York:20280302T193000
DTEND;TZID=America/New_York:20280302T220000
DTSTAMP:20260425T114344
CREATED:20240327T181228Z
LAST-MODIFIED:20250113T012130Z
UID:10001284-1835638200-1835647200@canadianamericanclub.com
SUMMARY:First Thursday Irish session
DESCRIPTION:
URL:https://canadianamericanclub.com/event/first-thursday-irish-session/2028-03-02
LOCATION:Canadian American Club\, 202 Arlington Street\, Watertown\, MA\, United States
CATEGORIES:Irish,Session
END:VEVENT
BEGIN:VEVENT
DTSTART;TZID=America/New_York:20280406T193000
DTEND;TZID=America/New_York:20280406T220000
DTSTAMP:20260425T114344
CREATED:20240327T181228Z
LAST-MODIFIED:20250113T012130Z
UID:10001285-1838662200-1838671200@canadianamericanclub.com
SUMMARY:First Thursday Irish session
DESCRIPTION:
URL:https://canadianamericanclub.com/event/first-thursday-irish-session/2028-04-06
LOCATION:Canadian American Club\, 202 Arlington Street\, Watertown\, MA\, United States
CATEGORIES:Irish,Session
END:VEVENT
BEGIN:VEVENT
DTSTART;TZID=America/New_York:20280504T193000
DTEND;TZID=America/New_York:20280504T220000
DTSTAMP:20260425T114344
CREATED:20240327T181228Z
LAST-MODIFIED:20250113T012130Z
UID:10001286-1841081400-1841090400@canadianamericanclub.com
SUMMARY:First Thursday Irish session
DESCRIPTION:
URL:https://canadianamericanclub.com/event/first-thursday-irish-session/2028-05-04
LOCATION:Canadian American Club\, 202 Arlington Street\, Watertown\, MA\, United States
CATEGORIES:Irish,Session
END:VEVENT
BEGIN:VEVENT
DTSTART;TZID=America/New_York:20280601T193000
DTEND;TZID=America/New_York:20280601T220000
DTSTAMP:20260425T114344
CREATED:20240327T181228Z
LAST-MODIFIED:20250113T012130Z
UID:10001287-1843500600-1843509600@canadianamericanclub.com
SUMMARY:First Thursday Irish session
DESCRIPTION:
URL:https://canadianamericanclub.com/event/first-thursday-irish-session/2028-06-01
LOCATION:Canadian American Club\, 202 Arlington Street\, Watertown\, MA\, United States
CATEGORIES:Irish,Session
END:VEVENT
BEGIN:VEVENT
DTSTART;TZID=America/New_York:20280706T193000
DTEND;TZID=America/New_York:20280706T220000
DTSTAMP:20260425T114344
CREATED:20240327T181228Z
LAST-MODIFIED:20250113T012130Z
UID:10001288-1846524600-1846533600@canadianamericanclub.com
SUMMARY:First Thursday Irish session
DESCRIPTION:
URL:https://canadianamericanclub.com/event/first-thursday-irish-session/2028-07-06
LOCATION:Canadian American Club\, 202 Arlington Street\, Watertown\, MA\, United States
CATEGORIES:Irish,Session
END:VEVENT
BEGIN:VEVENT
DTSTART;TZID=America/New_York:20280803T193000
DTEND;TZID=America/New_York:20280803T220000
DTSTAMP:20260425T114344
CREATED:20240327T181228Z
LAST-MODIFIED:20250113T012130Z
UID:10001289-1848943800-1848952800@canadianamericanclub.com
SUMMARY:First Thursday Irish session
DESCRIPTION:
URL:https://canadianamericanclub.com/event/first-thursday-irish-session/2028-08-03
LOCATION:Canadian American Club\, 202 Arlington Street\, Watertown\, MA\, United States
CATEGORIES:Irish,Session
END:VEVENT
BEGIN:VEVENT
DTSTART;TZID=America/New_York:20280907T193000
DTEND;TZID=America/New_York:20280907T220000
DTSTAMP:20260425T114344
CREATED:20240327T181228Z
LAST-MODIFIED:20250113T012130Z
UID:10001290-1851967800-1851976800@canadianamericanclub.com
SUMMARY:First Thursday Irish session
DESCRIPTION:
URL:https://canadianamericanclub.com/event/first-thursday-irish-session/2028-09-07
LOCATION:Canadian American Club\, 202 Arlington Street\, Watertown\, MA\, United States
CATEGORIES:Irish,Session
END:VEVENT
BEGIN:VEVENT
DTSTART;TZID=America/New_York:20281005T193000
DTEND;TZID=America/New_York:20281005T220000
DTSTAMP:20260425T114344
CREATED:20240327T181228Z
LAST-MODIFIED:20250113T012130Z
UID:10001291-1854387000-1854396000@canadianamericanclub.com
SUMMARY:First Thursday Irish session
DESCRIPTION:
URL:https://canadianamericanclub.com/event/first-thursday-irish-session/2028-10-05
LOCATION:Canadian American Club\, 202 Arlington Street\, Watertown\, MA\, United States
CATEGORIES:Irish,Session
END:VEVENT
END:VCALENDAR