BEGIN:VCALENDAR
VERSION:2.0
PRODID:-//Canadian American Club - ECPv6.15.20//NONSGML v1.0//EN
CALSCALE:GREGORIAN
METHOD:PUBLISH
X-WR-CALNAME:Canadian American Club
X-ORIGINAL-URL:https://canadianamericanclub.com
X-WR-CALDESC:Events for Canadian American Club
REFRESH-INTERVAL;VALUE=DURATION:PT1H
X-Robots-Tag:noindex
X-PUBLISHED-TTL:PT1H
BEGIN:VTIMEZONE
TZID:America/New_York
BEGIN:DAYLIGHT
TZOFFSETFROM:-0500
TZOFFSETTO:-0400
TZNAME:EDT
DTSTART:20250309T070000
END:DAYLIGHT
BEGIN:STANDARD
TZOFFSETFROM:-0400
TZOFFSETTO:-0500
TZNAME:EST
DTSTART:20251102T060000
END:STANDARD
BEGIN:DAYLIGHT
TZOFFSETFROM:-0500
TZOFFSETTO:-0400
TZNAME:EDT
DTSTART:20260308T070000
END:DAYLIGHT
BEGIN:STANDARD
TZOFFSETFROM:-0400
TZOFFSETTO:-0500
TZNAME:EST
DTSTART:20261101T060000
END:STANDARD
BEGIN:DAYLIGHT
TZOFFSETFROM:-0500
TZOFFSETTO:-0400
TZNAME:EDT
DTSTART:20270314T070000
END:DAYLIGHT
BEGIN:STANDARD
TZOFFSETFROM:-0400
TZOFFSETTO:-0500
TZNAME:EST
DTSTART:20271107T060000
END:STANDARD
END:VTIMEZONE
BEGIN:VEVENT
DTSTART;TZID=America/New_York:20260301T150000
DTEND;TZID=America/New_York:20260301T190000
DTSTAMP:20260425T113822
CREATED:20250308T010635Z
LAST-MODIFIED:20250308T010636Z
UID:10000763-1772377200-1772391600@canadianamericanclub.com
SUMMARY:Comhaltas Monthly Seisiún
DESCRIPTION:The Reynolds-Hanafin-Cooley branch holds monthly Seisiúns October through June.
URL:https://canadianamericanclub.com/event/comhaltas-monthly-seisiun-2/2026-03-01
LOCATION:Canadian American Club\, 202 Arlington Street\, Watertown\, MA\, United States
CATEGORIES:Irish,Session
END:VEVENT
BEGIN:VEVENT
DTSTART;TZID=America/New_York:20260302T194500
DTEND;TZID=America/New_York:20260302T220000
DTSTAMP:20260425T113822
CREATED:20240327T180336Z
LAST-MODIFIED:20240327T180512Z
UID:10000404-1772480700-1772488800@canadianamericanclub.com
SUMMARY:Scottish Country Dancing
DESCRIPTION:Scottish Country Dancing with RSCDS Cambridge Class. \nEvery Monday night\, 7:45 to 10:00
URL:https://canadianamericanclub.com/event/scottish-country-dancing/2026-03-02
LOCATION:Canadian American Club\, 202 Arlington Street\, Watertown\, MA\, United States
CATEGORIES:Dance,Scottish
END:VEVENT
BEGIN:VEVENT
DTSTART;TZID=America/New_York:20260303T193000
DTEND;TZID=America/New_York:20260303T210000
DTSTAMP:20260425T113822
CREATED:20240327T191347Z
LAST-MODIFIED:20240402T185757Z
UID:10000900-1772566200-1772571600@canadianamericanclub.com
SUMMARY:Irish Set Dancing workshop
DESCRIPTION:Watertown Set/Ceili Dance Workshop Tuesday evenings from 7:30pm- 9:00pm. Schedule can be found at ceboston.org/branch-activities
URL:https://canadianamericanclub.com/event/irish-set-dancing/2026-03-03
LOCATION:Canadian American Club\, 202 Arlington Street\, Watertown\, MA\, United States
CATEGORIES:Irish,workshop
END:VEVENT
BEGIN:VEVENT
DTSTART;TZID=America/New_York:20260305T193000
DTEND;TZID=America/New_York:20260305T220000
DTSTAMP:20260425T113822
CREATED:20240327T181228Z
LAST-MODIFIED:20250113T012130Z
UID:10001260-1772739000-1772748000@canadianamericanclub.com
SUMMARY:First Thursday Irish session
DESCRIPTION:
URL:https://canadianamericanclub.com/event/first-thursday-irish-session/2026-03-05
LOCATION:Canadian American Club\, 202 Arlington Street\, Watertown\, MA\, United States
CATEGORIES:Irish,Session
END:VEVENT
BEGIN:VEVENT
DTSTART;TZID=America/New_York:20260306T200000
DTEND;TZID=America/New_York:20260306T230000
DTSTAMP:20260425T113822
CREATED:20240326T234522Z
LAST-MODIFIED:20260101T032146Z
UID:10000144-1772827200-1772838000@canadianamericanclub.com
SUMMARY:Friday Pub Night
DESCRIPTION:The downstairs pub is open to the public most Friday nights! This low-key event is a chance for club members to socialize and enjoy some live music. If you’re new to the club\, this is a perfect time to stop in and introduce yourself! \nThis is an open-mic event. Everyone is invited to bring an instrument if you play\, or just hang out at the bar and enjoy good music and company. \nWord on the street is that we are the cheapest bar in town! Potluck snacks and desserts; no cover charge.
URL:https://canadianamericanclub.com/event/friday-pub-night-10/2026-03-06
LOCATION:Canadian American Club\, 202 Arlington Street\, Watertown\, MA\, United States
CATEGORIES:open mic
ORGANIZER;CN="Canadian American Club":MAILTO:Canadianamericanclub@gmail.com
END:VEVENT
BEGIN:VEVENT
DTSTART;TZID=America/New_York:20260309T194500
DTEND;TZID=America/New_York:20260309T220000
DTSTAMP:20260425T113822
CREATED:20240327T180336Z
LAST-MODIFIED:20240327T180512Z
UID:10000405-1773085500-1773093600@canadianamericanclub.com
SUMMARY:Scottish Country Dancing
DESCRIPTION:Scottish Country Dancing with RSCDS Cambridge Class. \nEvery Monday night\, 7:45 to 10:00
URL:https://canadianamericanclub.com/event/scottish-country-dancing/2026-03-09
LOCATION:Canadian American Club\, 202 Arlington Street\, Watertown\, MA\, United States
CATEGORIES:Dance,Scottish
END:VEVENT
BEGIN:VEVENT
DTSTART;TZID=America/New_York:20260310T193000
DTEND;TZID=America/New_York:20260310T210000
DTSTAMP:20260425T113822
CREATED:20240327T191347Z
LAST-MODIFIED:20240402T185757Z
UID:10000901-1773171000-1773176400@canadianamericanclub.com
SUMMARY:Irish Set Dancing workshop
DESCRIPTION:Watertown Set/Ceili Dance Workshop Tuesday evenings from 7:30pm- 9:00pm. Schedule can be found at ceboston.org/branch-activities
URL:https://canadianamericanclub.com/event/irish-set-dancing/2026-03-10
LOCATION:Canadian American Club\, 202 Arlington Street\, Watertown\, MA\, United States
CATEGORIES:Irish,workshop
END:VEVENT
BEGIN:VEVENT
DTSTART;TZID=America/New_York:20260311T190000
DTEND;TZID=America/New_York:20260311T220000
DTSTAMP:20260425T113822
CREATED:20240327T181714Z
LAST-MODIFIED:20240327T181714Z
UID:10000648-1773255600-1773266400@canadianamericanclub.com
SUMMARY:Quebecois Session
DESCRIPTION:Every second Wednesday from 7 to 10 pm.
URL:https://canadianamericanclub.com/event/quebecois-session-2/2026-03-11
LOCATION:Canadian American Club\, 202 Arlington Street\, Watertown\, MA\, United States
CATEGORIES:Quebecois,Session
END:VEVENT
BEGIN:VEVENT
DTSTART;TZID=America/New_York:20260313T200000
DTEND;TZID=America/New_York:20260313T230000
DTSTAMP:20260425T113822
CREATED:20240326T234522Z
LAST-MODIFIED:20260101T032146Z
UID:10000145-1773432000-1773442800@canadianamericanclub.com
SUMMARY:Friday Pub Night
DESCRIPTION:The downstairs pub is open to the public most Friday nights! This low-key event is a chance for club members to socialize and enjoy some live music. If you’re new to the club\, this is a perfect time to stop in and introduce yourself! \nThis is an open-mic event. Everyone is invited to bring an instrument if you play\, or just hang out at the bar and enjoy good music and company. \nWord on the street is that we are the cheapest bar in town! Potluck snacks and desserts; no cover charge.
URL:https://canadianamericanclub.com/event/friday-pub-night-10/2026-03-13
LOCATION:Canadian American Club\, 202 Arlington Street\, Watertown\, MA\, United States
CATEGORIES:open mic
ORGANIZER;CN="Canadian American Club":MAILTO:Canadianamericanclub@gmail.com
END:VEVENT
BEGIN:VEVENT
DTSTART;TZID=America/New_York:20260315T153000
DTEND;TZID=America/New_York:20260315T190000
DTSTAMP:20260425T113822
CREATED:20240327T182402Z
LAST-MODIFIED:20260315T114121Z
UID:10000706-1773588600-1773601200@canadianamericanclub.com
SUMMARY:Gaelic Club
DESCRIPTION:The Cape Breton Gaelic Club invites you to a Ceilidh every third Sunday (Sept through June) at 3:30pm. We will have live fiddle music\, Gaelic singing\, and probably a square set too! Bring your instruments if you play and a snack or dessert to share. The Bar will be open. $7 admission. \nIf you’d like to join the Gaelic singers\, please come early at 3:00 for practice.
URL:https://canadianamericanclub.com/event/gaelic-club/2026-03-15
LOCATION:Canadian American Club\, 202 Arlington Street\, Watertown\, MA\, United States
CATEGORIES:Cape Breton,Session
END:VEVENT
BEGIN:VEVENT
DTSTART;TZID=America/New_York:20260316T194500
DTEND;TZID=America/New_York:20260316T220000
DTSTAMP:20260425T113822
CREATED:20240327T180336Z
LAST-MODIFIED:20240327T180512Z
UID:10000406-1773690300-1773698400@canadianamericanclub.com
SUMMARY:Scottish Country Dancing
DESCRIPTION:Scottish Country Dancing with RSCDS Cambridge Class. \nEvery Monday night\, 7:45 to 10:00
URL:https://canadianamericanclub.com/event/scottish-country-dancing/2026-03-16
LOCATION:Canadian American Club\, 202 Arlington Street\, Watertown\, MA\, United States
CATEGORIES:Dance,Scottish
END:VEVENT
BEGIN:VEVENT
DTSTART;TZID=America/New_York:20260317T193000
DTEND;TZID=America/New_York:20260317T210000
DTSTAMP:20260425T113822
CREATED:20240327T191347Z
LAST-MODIFIED:20240402T185757Z
UID:10000902-1773775800-1773781200@canadianamericanclub.com
SUMMARY:Irish Set Dancing workshop
DESCRIPTION:Watertown Set/Ceili Dance Workshop Tuesday evenings from 7:30pm- 9:00pm. Schedule can be found at ceboston.org/branch-activities
URL:https://canadianamericanclub.com/event/irish-set-dancing/2026-03-17
LOCATION:Canadian American Club\, 202 Arlington Street\, Watertown\, MA\, United States
CATEGORIES:Irish,workshop
END:VEVENT
BEGIN:VEVENT
DTSTART;TZID=America/New_York:20260318T193000
DTEND;TZID=America/New_York:20260318T220000
DTSTAMP:20260425T113822
CREATED:20240402T131820Z
LAST-MODIFIED:20240402T152903Z
UID:10001140-1773862200-1773871200@canadianamericanclub.com
SUMMARY:Scottish Session
DESCRIPTION:The Boston Scottish Fiddle Club sponsors these Scottish and Cape Breton jam sessions.  The energetic sessions have become quite popular and there is always room for more.  Come and play your favorite tunes with old and new friends. \nhttps://www.bsfc.org/our-activities/wednesday-night-sessions/
URL:https://canadianamericanclub.com/event/1639/2026-03-18
LOCATION:Canadian American Club\, 202 Arlington Street\, Watertown\, MA\, United States
CATEGORIES:Scottish,Session
END:VEVENT
BEGIN:VEVENT
DTSTART;TZID=America/New_York:20260320T200000
DTEND;TZID=America/New_York:20260320T230000
DTSTAMP:20260425T113822
CREATED:20240326T234522Z
LAST-MODIFIED:20260101T032146Z
UID:10000146-1774036800-1774047600@canadianamericanclub.com
SUMMARY:Friday Pub Night
DESCRIPTION:The downstairs pub is open to the public most Friday nights! This low-key event is a chance for club members to socialize and enjoy some live music. If you’re new to the club\, this is a perfect time to stop in and introduce yourself! \nThis is an open-mic event. Everyone is invited to bring an instrument if you play\, or just hang out at the bar and enjoy good music and company. \nWord on the street is that we are the cheapest bar in town! Potluck snacks and desserts; no cover charge.
URL:https://canadianamericanclub.com/event/friday-pub-night-10/2026-03-20
LOCATION:Canadian American Club\, 202 Arlington Street\, Watertown\, MA\, United States
CATEGORIES:open mic
ORGANIZER;CN="Canadian American Club":MAILTO:Canadianamericanclub@gmail.com
END:VEVENT
BEGIN:VEVENT
DTSTART;TZID=America/New_York:20260323T194500
DTEND;TZID=America/New_York:20260323T220000
DTSTAMP:20260425T113822
CREATED:20240327T180336Z
LAST-MODIFIED:20240327T180512Z
UID:10000407-1774295100-1774303200@canadianamericanclub.com
SUMMARY:Scottish Country Dancing
DESCRIPTION:Scottish Country Dancing with RSCDS Cambridge Class. \nEvery Monday night\, 7:45 to 10:00
URL:https://canadianamericanclub.com/event/scottish-country-dancing/2026-03-23
LOCATION:Canadian American Club\, 202 Arlington Street\, Watertown\, MA\, United States
CATEGORIES:Dance,Scottish
END:VEVENT
BEGIN:VEVENT
DTSTART;TZID=America/New_York:20260324T193000
DTEND;TZID=America/New_York:20260324T210000
DTSTAMP:20260425T113822
CREATED:20240327T191347Z
LAST-MODIFIED:20240402T185757Z
UID:10000903-1774380600-1774386000@canadianamericanclub.com
SUMMARY:Irish Set Dancing workshop
DESCRIPTION:Watertown Set/Ceili Dance Workshop Tuesday evenings from 7:30pm- 9:00pm. Schedule can be found at ceboston.org/branch-activities
URL:https://canadianamericanclub.com/event/irish-set-dancing/2026-03-24
LOCATION:Canadian American Club\, 202 Arlington Street\, Watertown\, MA\, United States
CATEGORIES:Irish,workshop
END:VEVENT
BEGIN:VEVENT
DTSTART;TZID=America/New_York:20260327T200000
DTEND;TZID=America/New_York:20260327T230000
DTSTAMP:20260425T113822
CREATED:20240326T234522Z
LAST-MODIFIED:20260101T032146Z
UID:10000147-1774641600-1774652400@canadianamericanclub.com
SUMMARY:Friday Pub Night
DESCRIPTION:The downstairs pub is open to the public most Friday nights! This low-key event is a chance for club members to socialize and enjoy some live music. If you’re new to the club\, this is a perfect time to stop in and introduce yourself! \nThis is an open-mic event. Everyone is invited to bring an instrument if you play\, or just hang out at the bar and enjoy good music and company. \nWord on the street is that we are the cheapest bar in town! Potluck snacks and desserts; no cover charge.
URL:https://canadianamericanclub.com/event/friday-pub-night-10/2026-03-27
LOCATION:Canadian American Club\, 202 Arlington Street\, Watertown\, MA\, United States
CATEGORIES:open mic
ORGANIZER;CN="Canadian American Club":MAILTO:Canadianamericanclub@gmail.com
END:VEVENT
BEGIN:VEVENT
DTSTART;TZID=America/New_York:20260330T194500
DTEND;TZID=America/New_York:20260330T220000
DTSTAMP:20260425T113822
CREATED:20240327T180336Z
LAST-MODIFIED:20240327T180512Z
UID:10000408-1774899900-1774908000@canadianamericanclub.com
SUMMARY:Scottish Country Dancing
DESCRIPTION:Scottish Country Dancing with RSCDS Cambridge Class. \nEvery Monday night\, 7:45 to 10:00
URL:https://canadianamericanclub.com/event/scottish-country-dancing/2026-03-30
LOCATION:Canadian American Club\, 202 Arlington Street\, Watertown\, MA\, United States
CATEGORIES:Dance,Scottish
END:VEVENT
BEGIN:VEVENT
DTSTART;TZID=America/New_York:20260331T193000
DTEND;TZID=America/New_York:20260331T210000
DTSTAMP:20260425T113822
CREATED:20240327T191347Z
LAST-MODIFIED:20240402T185757Z
UID:10000904-1774985400-1774990800@canadianamericanclub.com
SUMMARY:Irish Set Dancing workshop
DESCRIPTION:Watertown Set/Ceili Dance Workshop Tuesday evenings from 7:30pm- 9:00pm. Schedule can be found at ceboston.org/branch-activities
URL:https://canadianamericanclub.com/event/irish-set-dancing/2026-03-31
LOCATION:Canadian American Club\, 202 Arlington Street\, Watertown\, MA\, United States
CATEGORIES:Irish,workshop
END:VEVENT
END:VCALENDAR