BEGIN:VCALENDAR
VERSION:2.0
PRODID:-//Canadian American Club - ECPv6.15.20//NONSGML v1.0//EN
CALSCALE:GREGORIAN
METHOD:PUBLISH
X-ORIGINAL-URL:https://canadianamericanclub.com
X-WR-CALDESC:Events for Canadian American Club
REFRESH-INTERVAL;VALUE=DURATION:PT1H
X-Robots-Tag:noindex
X-PUBLISHED-TTL:PT1H
BEGIN:VTIMEZONE
TZID:America/New_York
BEGIN:DAYLIGHT
TZOFFSETFROM:-0500
TZOFFSETTO:-0400
TZNAME:EDT
DTSTART:20250309T070000
END:DAYLIGHT
BEGIN:STANDARD
TZOFFSETFROM:-0400
TZOFFSETTO:-0500
TZNAME:EST
DTSTART:20251102T060000
END:STANDARD
BEGIN:DAYLIGHT
TZOFFSETFROM:-0500
TZOFFSETTO:-0400
TZNAME:EDT
DTSTART:20260308T070000
END:DAYLIGHT
BEGIN:STANDARD
TZOFFSETFROM:-0400
TZOFFSETTO:-0500
TZNAME:EST
DTSTART:20261101T060000
END:STANDARD
BEGIN:DAYLIGHT
TZOFFSETFROM:-0500
TZOFFSETTO:-0400
TZNAME:EDT
DTSTART:20270314T070000
END:DAYLIGHT
BEGIN:STANDARD
TZOFFSETFROM:-0400
TZOFFSETTO:-0500
TZNAME:EST
DTSTART:20271107T060000
END:STANDARD
END:VTIMEZONE
BEGIN:VEVENT
DTSTART;TZID=America/New_York:20260619T200000
DTEND;TZID=America/New_York:20260619T230000
DTSTAMP:20260425T223029
CREATED:20240326T234522Z
LAST-MODIFIED:20260101T032146Z
UID:10000159-1781899200-1781910000@canadianamericanclub.com
SUMMARY:Friday Pub Night
DESCRIPTION:The downstairs pub is open to the public most Friday nights! This low-key event is a chance for club members to socialize and enjoy some live music. If you’re new to the club\, this is a perfect time to stop in and introduce yourself! \nThis is an open-mic event. Everyone is invited to bring an instrument if you play\, or just hang out at the bar and enjoy good music and company. \nWord on the street is that we are the cheapest bar in town! Potluck snacks and desserts; no cover charge.
URL:https://canadianamericanclub.com/event/friday-pub-night-10/2026-06-19
LOCATION:Canadian American Club\, 202 Arlington Street\, Watertown\, MA\, United States
CATEGORIES:open mic
ORGANIZER;CN="Canadian American Club":MAILTO:Canadianamericanclub@gmail.com
END:VEVENT
BEGIN:VEVENT
DTSTART;TZID=America/New_York:20260621T153000
DTEND;TZID=America/New_York:20260621T190000
DTSTAMP:20260425T223029
CREATED:20240327T182402Z
LAST-MODIFIED:20260315T114121Z
UID:10000709-1782055800-1782068400@canadianamericanclub.com
SUMMARY:Gaelic Club
DESCRIPTION:The Cape Breton Gaelic Club invites you to a Ceilidh every third Sunday (Sept through June) at 3:30pm. We will have live fiddle music\, Gaelic singing\, and probably a square set too! Bring your instruments if you play and a snack or dessert to share. The Bar will be open. $7 admission. \nIf you’d like to join the Gaelic singers\, please come early at 3:00 for practice.
URL:https://canadianamericanclub.com/event/gaelic-club/2026-06-21
LOCATION:Canadian American Club\, 202 Arlington Street\, Watertown\, MA\, United States
CATEGORIES:Cape Breton,Session
END:VEVENT
BEGIN:VEVENT
DTSTART;TZID=America/New_York:20260622T194500
DTEND;TZID=America/New_York:20260622T220000
DTSTAMP:20260425T223029
CREATED:20240327T180336Z
LAST-MODIFIED:20240327T180512Z
UID:10000420-1782157500-1782165600@canadianamericanclub.com
SUMMARY:Scottish Country Dancing
DESCRIPTION:Scottish Country Dancing with RSCDS Cambridge Class. \nEvery Monday night\, 7:45 to 10:00
URL:https://canadianamericanclub.com/event/scottish-country-dancing/2026-06-22
LOCATION:Canadian American Club\, 202 Arlington Street\, Watertown\, MA\, United States
CATEGORIES:Dance,Scottish
END:VEVENT
BEGIN:VEVENT
DTSTART;TZID=America/New_York:20260623T193000
DTEND;TZID=America/New_York:20260623T210000
DTSTAMP:20260425T223029
CREATED:20240327T191347Z
LAST-MODIFIED:20240402T185757Z
UID:10000916-1782243000-1782248400@canadianamericanclub.com
SUMMARY:Irish Set Dancing workshop
DESCRIPTION:Watertown Set/Ceili Dance Workshop Tuesday evenings from 7:30pm- 9:00pm. Schedule can be found at ceboston.org/branch-activities
URL:https://canadianamericanclub.com/event/irish-set-dancing/2026-06-23
LOCATION:Canadian American Club\, 202 Arlington Street\, Watertown\, MA\, United States
CATEGORIES:Irish,workshop
END:VEVENT
BEGIN:VEVENT
DTSTART;TZID=America/New_York:20260626T200000
DTEND;TZID=America/New_York:20260626T230000
DTSTAMP:20260425T223029
CREATED:20240326T234522Z
LAST-MODIFIED:20260101T032146Z
UID:10000160-1782504000-1782514800@canadianamericanclub.com
SUMMARY:Friday Pub Night
DESCRIPTION:The downstairs pub is open to the public most Friday nights! This low-key event is a chance for club members to socialize and enjoy some live music. If you’re new to the club\, this is a perfect time to stop in and introduce yourself! \nThis is an open-mic event. Everyone is invited to bring an instrument if you play\, or just hang out at the bar and enjoy good music and company. \nWord on the street is that we are the cheapest bar in town! Potluck snacks and desserts; no cover charge.
URL:https://canadianamericanclub.com/event/friday-pub-night-10/2026-06-26
LOCATION:Canadian American Club\, 202 Arlington Street\, Watertown\, MA\, United States
CATEGORIES:open mic
ORGANIZER;CN="Canadian American Club":MAILTO:Canadianamericanclub@gmail.com
END:VEVENT
BEGIN:VEVENT
DTSTART;TZID=America/New_York:20260629T194500
DTEND;TZID=America/New_York:20260629T220000
DTSTAMP:20260425T223029
CREATED:20240327T180336Z
LAST-MODIFIED:20240327T180512Z
UID:10000421-1782762300-1782770400@canadianamericanclub.com
SUMMARY:Scottish Country Dancing
DESCRIPTION:Scottish Country Dancing with RSCDS Cambridge Class. \nEvery Monday night\, 7:45 to 10:00
URL:https://canadianamericanclub.com/event/scottish-country-dancing/2026-06-29
LOCATION:Canadian American Club\, 202 Arlington Street\, Watertown\, MA\, United States
CATEGORIES:Dance,Scottish
END:VEVENT
BEGIN:VEVENT
DTSTART;TZID=America/New_York:20260630T193000
DTEND;TZID=America/New_York:20260630T210000
DTSTAMP:20260425T223029
CREATED:20240327T191347Z
LAST-MODIFIED:20240402T185757Z
UID:10000917-1782847800-1782853200@canadianamericanclub.com
SUMMARY:Irish Set Dancing workshop
DESCRIPTION:Watertown Set/Ceili Dance Workshop Tuesday evenings from 7:30pm- 9:00pm. Schedule can be found at ceboston.org/branch-activities
URL:https://canadianamericanclub.com/event/irish-set-dancing/2026-06-30
LOCATION:Canadian American Club\, 202 Arlington Street\, Watertown\, MA\, United States
CATEGORIES:Irish,workshop
END:VEVENT
BEGIN:VEVENT
DTSTART;TZID=America/New_York:20260702T193000
DTEND;TZID=America/New_York:20260702T220000
DTSTAMP:20260425T223029
CREATED:20240327T181228Z
LAST-MODIFIED:20250113T012130Z
UID:10001264-1783020600-1783029600@canadianamericanclub.com
SUMMARY:First Thursday Irish session
DESCRIPTION:
URL:https://canadianamericanclub.com/event/first-thursday-irish-session/2026-07-02
LOCATION:Canadian American Club\, 202 Arlington Street\, Watertown\, MA\, United States
CATEGORIES:Irish,Session
END:VEVENT
BEGIN:VEVENT
DTSTART;TZID=America/New_York:20260703T200000
DTEND;TZID=America/New_York:20260703T230000
DTSTAMP:20260425T223029
CREATED:20240326T234522Z
LAST-MODIFIED:20260101T032146Z
UID:10000161-1783108800-1783119600@canadianamericanclub.com
SUMMARY:Friday Pub Night
DESCRIPTION:The downstairs pub is open to the public most Friday nights! This low-key event is a chance for club members to socialize and enjoy some live music. If you’re new to the club\, this is a perfect time to stop in and introduce yourself! \nThis is an open-mic event. Everyone is invited to bring an instrument if you play\, or just hang out at the bar and enjoy good music and company. \nWord on the street is that we are the cheapest bar in town! Potluck snacks and desserts; no cover charge.
URL:https://canadianamericanclub.com/event/friday-pub-night-10/2026-07-03
LOCATION:Canadian American Club\, 202 Arlington Street\, Watertown\, MA\, United States
CATEGORIES:open mic
ORGANIZER;CN="Canadian American Club":MAILTO:Canadianamericanclub@gmail.com
END:VEVENT
BEGIN:VEVENT
DTSTART;TZID=America/New_York:20260705T150000
DTEND;TZID=America/New_York:20260705T190000
DTSTAMP:20260425T223029
CREATED:20250308T010635Z
LAST-MODIFIED:20250308T010636Z
UID:10000767-1783263600-1783278000@canadianamericanclub.com
SUMMARY:Comhaltas Monthly Seisiún
DESCRIPTION:The Reynolds-Hanafin-Cooley branch holds monthly Seisiúns October through June.
URL:https://canadianamericanclub.com/event/comhaltas-monthly-seisiun-2/2026-07-05
LOCATION:Canadian American Club\, 202 Arlington Street\, Watertown\, MA\, United States
CATEGORIES:Irish,Session
END:VEVENT
BEGIN:VEVENT
DTSTART;TZID=America/New_York:20260706T194500
DTEND;TZID=America/New_York:20260706T220000
DTSTAMP:20260425T223029
CREATED:20240327T180336Z
LAST-MODIFIED:20240327T180512Z
UID:10000422-1783367100-1783375200@canadianamericanclub.com
SUMMARY:Scottish Country Dancing
DESCRIPTION:Scottish Country Dancing with RSCDS Cambridge Class. \nEvery Monday night\, 7:45 to 10:00
URL:https://canadianamericanclub.com/event/scottish-country-dancing/2026-07-06
LOCATION:Canadian American Club\, 202 Arlington Street\, Watertown\, MA\, United States
CATEGORIES:Dance,Scottish
END:VEVENT
BEGIN:VEVENT
DTSTART;TZID=America/New_York:20260707T193000
DTEND;TZID=America/New_York:20260707T210000
DTSTAMP:20260425T223029
CREATED:20240327T191347Z
LAST-MODIFIED:20240402T185757Z
UID:10000918-1783452600-1783458000@canadianamericanclub.com
SUMMARY:Irish Set Dancing workshop
DESCRIPTION:Watertown Set/Ceili Dance Workshop Tuesday evenings from 7:30pm- 9:00pm. Schedule can be found at ceboston.org/branch-activities
URL:https://canadianamericanclub.com/event/irish-set-dancing/2026-07-07
LOCATION:Canadian American Club\, 202 Arlington Street\, Watertown\, MA\, United States
CATEGORIES:Irish,workshop
END:VEVENT
BEGIN:VEVENT
DTSTART;TZID=America/New_York:20260708T190000
DTEND;TZID=America/New_York:20260708T220000
DTSTAMP:20260425T223029
CREATED:20240327T181714Z
LAST-MODIFIED:20240327T181714Z
UID:10000652-1783537200-1783548000@canadianamericanclub.com
SUMMARY:Quebecois Session
DESCRIPTION:Every second Wednesday from 7 to 10 pm.
URL:https://canadianamericanclub.com/event/quebecois-session-2/2026-07-08
LOCATION:Canadian American Club\, 202 Arlington Street\, Watertown\, MA\, United States
CATEGORIES:Quebecois,Session
END:VEVENT
BEGIN:VEVENT
DTSTART;TZID=America/New_York:20260710T200000
DTEND;TZID=America/New_York:20260710T230000
DTSTAMP:20260425T223029
CREATED:20240326T234522Z
LAST-MODIFIED:20260101T032146Z
UID:10000162-1783713600-1783724400@canadianamericanclub.com
SUMMARY:Friday Pub Night
DESCRIPTION:The downstairs pub is open to the public most Friday nights! This low-key event is a chance for club members to socialize and enjoy some live music. If you’re new to the club\, this is a perfect time to stop in and introduce yourself! \nThis is an open-mic event. Everyone is invited to bring an instrument if you play\, or just hang out at the bar and enjoy good music and company. \nWord on the street is that we are the cheapest bar in town! Potluck snacks and desserts; no cover charge.
URL:https://canadianamericanclub.com/event/friday-pub-night-10/2026-07-10
LOCATION:Canadian American Club\, 202 Arlington Street\, Watertown\, MA\, United States
CATEGORIES:open mic
ORGANIZER;CN="Canadian American Club":MAILTO:Canadianamericanclub@gmail.com
END:VEVENT
BEGIN:VEVENT
DTSTART;TZID=America/New_York:20260713T194500
DTEND;TZID=America/New_York:20260713T220000
DTSTAMP:20260425T223029
CREATED:20240327T180336Z
LAST-MODIFIED:20240327T180512Z
UID:10000423-1783971900-1783980000@canadianamericanclub.com
SUMMARY:Scottish Country Dancing
DESCRIPTION:Scottish Country Dancing with RSCDS Cambridge Class. \nEvery Monday night\, 7:45 to 10:00
URL:https://canadianamericanclub.com/event/scottish-country-dancing/2026-07-13
LOCATION:Canadian American Club\, 202 Arlington Street\, Watertown\, MA\, United States
CATEGORIES:Dance,Scottish
END:VEVENT
BEGIN:VEVENT
DTSTART;TZID=America/New_York:20260714T193000
DTEND;TZID=America/New_York:20260714T210000
DTSTAMP:20260425T223029
CREATED:20240327T191347Z
LAST-MODIFIED:20240402T185757Z
UID:10000919-1784057400-1784062800@canadianamericanclub.com
SUMMARY:Irish Set Dancing workshop
DESCRIPTION:Watertown Set/Ceili Dance Workshop Tuesday evenings from 7:30pm- 9:00pm. Schedule can be found at ceboston.org/branch-activities
URL:https://canadianamericanclub.com/event/irish-set-dancing/2026-07-14
LOCATION:Canadian American Club\, 202 Arlington Street\, Watertown\, MA\, United States
CATEGORIES:Irish,workshop
END:VEVENT
BEGIN:VEVENT
DTSTART;TZID=America/New_York:20260715T193000
DTEND;TZID=America/New_York:20260715T220000
DTSTAMP:20260425T223029
CREATED:20240402T131820Z
LAST-MODIFIED:20240402T152903Z
UID:10001144-1784143800-1784152800@canadianamericanclub.com
SUMMARY:Scottish Session
DESCRIPTION:The Boston Scottish Fiddle Club sponsors these Scottish and Cape Breton jam sessions.  The energetic sessions have become quite popular and there is always room for more.  Come and play your favorite tunes with old and new friends. \nhttps://www.bsfc.org/our-activities/wednesday-night-sessions/
URL:https://canadianamericanclub.com/event/1639/2026-07-15
LOCATION:Canadian American Club\, 202 Arlington Street\, Watertown\, MA\, United States
CATEGORIES:Scottish,Session
END:VEVENT
BEGIN:VEVENT
DTSTART;TZID=America/New_York:20260717T200000
DTEND;TZID=America/New_York:20260717T230000
DTSTAMP:20260425T223029
CREATED:20240326T234522Z
LAST-MODIFIED:20260101T032146Z
UID:10000163-1784318400-1784329200@canadianamericanclub.com
SUMMARY:Friday Pub Night
DESCRIPTION:The downstairs pub is open to the public most Friday nights! This low-key event is a chance for club members to socialize and enjoy some live music. If you’re new to the club\, this is a perfect time to stop in and introduce yourself! \nThis is an open-mic event. Everyone is invited to bring an instrument if you play\, or just hang out at the bar and enjoy good music and company. \nWord on the street is that we are the cheapest bar in town! Potluck snacks and desserts; no cover charge.
URL:https://canadianamericanclub.com/event/friday-pub-night-10/2026-07-17
LOCATION:Canadian American Club\, 202 Arlington Street\, Watertown\, MA\, United States
CATEGORIES:open mic
ORGANIZER;CN="Canadian American Club":MAILTO:Canadianamericanclub@gmail.com
END:VEVENT
BEGIN:VEVENT
DTSTART;TZID=America/New_York:20260720T194500
DTEND;TZID=America/New_York:20260720T220000
DTSTAMP:20260425T223029
CREATED:20240327T180336Z
LAST-MODIFIED:20240327T180512Z
UID:10000424-1784576700-1784584800@canadianamericanclub.com
SUMMARY:Scottish Country Dancing
DESCRIPTION:Scottish Country Dancing with RSCDS Cambridge Class. \nEvery Monday night\, 7:45 to 10:00
URL:https://canadianamericanclub.com/event/scottish-country-dancing/2026-07-20
LOCATION:Canadian American Club\, 202 Arlington Street\, Watertown\, MA\, United States
CATEGORIES:Dance,Scottish
END:VEVENT
BEGIN:VEVENT
DTSTART;TZID=America/New_York:20260721T193000
DTEND;TZID=America/New_York:20260721T210000
DTSTAMP:20260425T223029
CREATED:20240327T191347Z
LAST-MODIFIED:20240402T185757Z
UID:10000920-1784662200-1784667600@canadianamericanclub.com
SUMMARY:Irish Set Dancing workshop
DESCRIPTION:Watertown Set/Ceili Dance Workshop Tuesday evenings from 7:30pm- 9:00pm. Schedule can be found at ceboston.org/branch-activities
URL:https://canadianamericanclub.com/event/irish-set-dancing/2026-07-21
LOCATION:Canadian American Club\, 202 Arlington Street\, Watertown\, MA\, United States
CATEGORIES:Irish,workshop
END:VEVENT
BEGIN:VEVENT
DTSTART;TZID=America/New_York:20260724T200000
DTEND;TZID=America/New_York:20260724T230000
DTSTAMP:20260425T223029
CREATED:20240326T234522Z
LAST-MODIFIED:20260101T032146Z
UID:10000164-1784923200-1784934000@canadianamericanclub.com
SUMMARY:Friday Pub Night
DESCRIPTION:The downstairs pub is open to the public most Friday nights! This low-key event is a chance for club members to socialize and enjoy some live music. If you’re new to the club\, this is a perfect time to stop in and introduce yourself! \nThis is an open-mic event. Everyone is invited to bring an instrument if you play\, or just hang out at the bar and enjoy good music and company. \nWord on the street is that we are the cheapest bar in town! Potluck snacks and desserts; no cover charge.
URL:https://canadianamericanclub.com/event/friday-pub-night-10/2026-07-24
LOCATION:Canadian American Club\, 202 Arlington Street\, Watertown\, MA\, United States
CATEGORIES:open mic
ORGANIZER;CN="Canadian American Club":MAILTO:Canadianamericanclub@gmail.com
END:VEVENT
BEGIN:VEVENT
DTSTART;TZID=America/New_York:20260727T194500
DTEND;TZID=America/New_York:20260727T220000
DTSTAMP:20260425T223029
CREATED:20240327T180336Z
LAST-MODIFIED:20240327T180512Z
UID:10000425-1785181500-1785189600@canadianamericanclub.com
SUMMARY:Scottish Country Dancing
DESCRIPTION:Scottish Country Dancing with RSCDS Cambridge Class. \nEvery Monday night\, 7:45 to 10:00
URL:https://canadianamericanclub.com/event/scottish-country-dancing/2026-07-27
LOCATION:Canadian American Club\, 202 Arlington Street\, Watertown\, MA\, United States
CATEGORIES:Dance,Scottish
END:VEVENT
BEGIN:VEVENT
DTSTART;TZID=America/New_York:20260728T193000
DTEND;TZID=America/New_York:20260728T210000
DTSTAMP:20260425T223029
CREATED:20240327T191347Z
LAST-MODIFIED:20240402T185757Z
UID:10000921-1785267000-1785272400@canadianamericanclub.com
SUMMARY:Irish Set Dancing workshop
DESCRIPTION:Watertown Set/Ceili Dance Workshop Tuesday evenings from 7:30pm- 9:00pm. Schedule can be found at ceboston.org/branch-activities
URL:https://canadianamericanclub.com/event/irish-set-dancing/2026-07-28
LOCATION:Canadian American Club\, 202 Arlington Street\, Watertown\, MA\, United States
CATEGORIES:Irish,workshop
END:VEVENT
BEGIN:VEVENT
DTSTART;TZID=America/New_York:20260731T200000
DTEND;TZID=America/New_York:20260731T230000
DTSTAMP:20260425T223029
CREATED:20240326T234522Z
LAST-MODIFIED:20260101T032146Z
UID:10000165-1785528000-1785538800@canadianamericanclub.com
SUMMARY:Friday Pub Night
DESCRIPTION:The downstairs pub is open to the public most Friday nights! This low-key event is a chance for club members to socialize and enjoy some live music. If you’re new to the club\, this is a perfect time to stop in and introduce yourself! \nThis is an open-mic event. Everyone is invited to bring an instrument if you play\, or just hang out at the bar and enjoy good music and company. \nWord on the street is that we are the cheapest bar in town! Potluck snacks and desserts; no cover charge.
URL:https://canadianamericanclub.com/event/friday-pub-night-10/2026-07-31
LOCATION:Canadian American Club\, 202 Arlington Street\, Watertown\, MA\, United States
CATEGORIES:open mic
ORGANIZER;CN="Canadian American Club":MAILTO:Canadianamericanclub@gmail.com
END:VEVENT
BEGIN:VEVENT
DTSTART;TZID=America/New_York:20260802T150000
DTEND;TZID=America/New_York:20260802T190000
DTSTAMP:20260425T223029
CREATED:20250308T010635Z
LAST-MODIFIED:20250308T010636Z
UID:10000768-1785682800-1785697200@canadianamericanclub.com
SUMMARY:Comhaltas Monthly Seisiún
DESCRIPTION:The Reynolds-Hanafin-Cooley branch holds monthly Seisiúns October through June.
URL:https://canadianamericanclub.com/event/comhaltas-monthly-seisiun-2/2026-08-02
LOCATION:Canadian American Club\, 202 Arlington Street\, Watertown\, MA\, United States
CATEGORIES:Irish,Session
END:VEVENT
BEGIN:VEVENT
DTSTART;TZID=America/New_York:20260803T194500
DTEND;TZID=America/New_York:20260803T220000
DTSTAMP:20260425T223029
CREATED:20240327T180336Z
LAST-MODIFIED:20240327T180512Z
UID:10000426-1785786300-1785794400@canadianamericanclub.com
SUMMARY:Scottish Country Dancing
DESCRIPTION:Scottish Country Dancing with RSCDS Cambridge Class. \nEvery Monday night\, 7:45 to 10:00
URL:https://canadianamericanclub.com/event/scottish-country-dancing/2026-08-03
LOCATION:Canadian American Club\, 202 Arlington Street\, Watertown\, MA\, United States
CATEGORIES:Dance,Scottish
END:VEVENT
BEGIN:VEVENT
DTSTART;TZID=America/New_York:20260804T193000
DTEND;TZID=America/New_York:20260804T210000
DTSTAMP:20260425T223029
CREATED:20240327T191347Z
LAST-MODIFIED:20240402T185757Z
UID:10000922-1785871800-1785877200@canadianamericanclub.com
SUMMARY:Irish Set Dancing workshop
DESCRIPTION:Watertown Set/Ceili Dance Workshop Tuesday evenings from 7:30pm- 9:00pm. Schedule can be found at ceboston.org/branch-activities
URL:https://canadianamericanclub.com/event/irish-set-dancing/2026-08-04
LOCATION:Canadian American Club\, 202 Arlington Street\, Watertown\, MA\, United States
CATEGORIES:Irish,workshop
END:VEVENT
BEGIN:VEVENT
DTSTART;TZID=America/New_York:20260806T193000
DTEND;TZID=America/New_York:20260806T220000
DTSTAMP:20260425T223029
CREATED:20240327T181228Z
LAST-MODIFIED:20250113T012130Z
UID:10001265-1786044600-1786053600@canadianamericanclub.com
SUMMARY:First Thursday Irish session
DESCRIPTION:
URL:https://canadianamericanclub.com/event/first-thursday-irish-session/2026-08-06
LOCATION:Canadian American Club\, 202 Arlington Street\, Watertown\, MA\, United States
CATEGORIES:Irish,Session
END:VEVENT
BEGIN:VEVENT
DTSTART;TZID=America/New_York:20260807T200000
DTEND;TZID=America/New_York:20260807T230000
DTSTAMP:20260425T223029
CREATED:20240326T234522Z
LAST-MODIFIED:20260101T032146Z
UID:10000166-1786132800-1786143600@canadianamericanclub.com
SUMMARY:Friday Pub Night
DESCRIPTION:The downstairs pub is open to the public most Friday nights! This low-key event is a chance for club members to socialize and enjoy some live music. If you’re new to the club\, this is a perfect time to stop in and introduce yourself! \nThis is an open-mic event. Everyone is invited to bring an instrument if you play\, or just hang out at the bar and enjoy good music and company. \nWord on the street is that we are the cheapest bar in town! Potluck snacks and desserts; no cover charge.
URL:https://canadianamericanclub.com/event/friday-pub-night-10/2026-08-07
LOCATION:Canadian American Club\, 202 Arlington Street\, Watertown\, MA\, United States
CATEGORIES:open mic
ORGANIZER;CN="Canadian American Club":MAILTO:Canadianamericanclub@gmail.com
END:VEVENT
BEGIN:VEVENT
DTSTART;TZID=America/New_York:20260810T194500
DTEND;TZID=America/New_York:20260810T220000
DTSTAMP:20260425T223029
CREATED:20240327T180336Z
LAST-MODIFIED:20240327T180512Z
UID:10000427-1786391100-1786399200@canadianamericanclub.com
SUMMARY:Scottish Country Dancing
DESCRIPTION:Scottish Country Dancing with RSCDS Cambridge Class. \nEvery Monday night\, 7:45 to 10:00
URL:https://canadianamericanclub.com/event/scottish-country-dancing/2026-08-10
LOCATION:Canadian American Club\, 202 Arlington Street\, Watertown\, MA\, United States
CATEGORIES:Dance,Scottish
END:VEVENT
END:VCALENDAR