BEGIN:VCALENDAR
VERSION:2.0
PRODID:-//Canadian American Club - ECPv6.15.20//NONSGML v1.0//EN
CALSCALE:GREGORIAN
METHOD:PUBLISH
X-ORIGINAL-URL:https://canadianamericanclub.com
X-WR-CALDESC:Events for Canadian American Club
REFRESH-INTERVAL;VALUE=DURATION:PT1H
X-Robots-Tag:noindex
X-PUBLISHED-TTL:PT1H
BEGIN:VTIMEZONE
TZID:America/New_York
BEGIN:DAYLIGHT
TZOFFSETFROM:-0500
TZOFFSETTO:-0400
TZNAME:EDT
DTSTART:20250309T070000
END:DAYLIGHT
BEGIN:STANDARD
TZOFFSETFROM:-0400
TZOFFSETTO:-0500
TZNAME:EST
DTSTART:20251102T060000
END:STANDARD
BEGIN:DAYLIGHT
TZOFFSETFROM:-0500
TZOFFSETTO:-0400
TZNAME:EDT
DTSTART:20260308T070000
END:DAYLIGHT
BEGIN:STANDARD
TZOFFSETFROM:-0400
TZOFFSETTO:-0500
TZNAME:EST
DTSTART:20261101T060000
END:STANDARD
BEGIN:DAYLIGHT
TZOFFSETFROM:-0500
TZOFFSETTO:-0400
TZNAME:EDT
DTSTART:20270314T070000
END:DAYLIGHT
BEGIN:STANDARD
TZOFFSETFROM:-0400
TZOFFSETTO:-0500
TZNAME:EST
DTSTART:20271107T060000
END:STANDARD
END:VTIMEZONE
BEGIN:VEVENT
DTSTART;TZID=America/New_York:20260109T200000
DTEND;TZID=America/New_York:20260109T230000
DTSTAMP:20260425T235913
CREATED:20240326T234522Z
LAST-MODIFIED:20260101T032146Z
UID:10000136-1767988800-1767999600@canadianamericanclub.com
SUMMARY:Friday Pub Night
DESCRIPTION:The downstairs pub is open to the public most Friday nights! This low-key event is a chance for club members to socialize and enjoy some live music. If you’re new to the club\, this is a perfect time to stop in and introduce yourself! \nThis is an open-mic event. Everyone is invited to bring an instrument if you play\, or just hang out at the bar and enjoy good music and company. \nWord on the street is that we are the cheapest bar in town! Potluck snacks and desserts; no cover charge.
URL:https://canadianamericanclub.com/event/friday-pub-night-10/2026-01-09
LOCATION:Canadian American Club\, 202 Arlington Street\, Watertown\, MA\, United States
CATEGORIES:open mic
ORGANIZER;CN="Canadian American Club":MAILTO:Canadianamericanclub@gmail.com
END:VEVENT
BEGIN:VEVENT
DTSTART;TZID=America/New_York:20260112T194500
DTEND;TZID=America/New_York:20260112T220000
DTSTAMP:20260425T235913
CREATED:20240327T180336Z
LAST-MODIFIED:20240327T180512Z
UID:10000397-1768247100-1768255200@canadianamericanclub.com
SUMMARY:Scottish Country Dancing
DESCRIPTION:Scottish Country Dancing with RSCDS Cambridge Class. \nEvery Monday night\, 7:45 to 10:00
URL:https://canadianamericanclub.com/event/scottish-country-dancing/2026-01-12
LOCATION:Canadian American Club\, 202 Arlington Street\, Watertown\, MA\, United States
CATEGORIES:Dance,Scottish
END:VEVENT
BEGIN:VEVENT
DTSTART;TZID=America/New_York:20260113T193000
DTEND;TZID=America/New_York:20260113T210000
DTSTAMP:20260425T235913
CREATED:20240327T191347Z
LAST-MODIFIED:20240402T185757Z
UID:10000893-1768332600-1768338000@canadianamericanclub.com
SUMMARY:Irish Set Dancing workshop
DESCRIPTION:Watertown Set/Ceili Dance Workshop Tuesday evenings from 7:30pm- 9:00pm. Schedule can be found at ceboston.org/branch-activities
URL:https://canadianamericanclub.com/event/irish-set-dancing/2026-01-13
LOCATION:Canadian American Club\, 202 Arlington Street\, Watertown\, MA\, United States
CATEGORIES:Irish,workshop
END:VEVENT
BEGIN:VEVENT
DTSTART;TZID=America/New_York:20260114T190000
DTEND;TZID=America/New_York:20260114T220000
DTSTAMP:20260425T235913
CREATED:20240327T181714Z
LAST-MODIFIED:20240327T181714Z
UID:10000646-1768417200-1768428000@canadianamericanclub.com
SUMMARY:Quebecois Session
DESCRIPTION:Every second Wednesday from 7 to 10 pm.
URL:https://canadianamericanclub.com/event/quebecois-session-2/2026-01-14
LOCATION:Canadian American Club\, 202 Arlington Street\, Watertown\, MA\, United States
CATEGORIES:Quebecois,Session
END:VEVENT
BEGIN:VEVENT
DTSTART;TZID=America/New_York:20260116T200000
DTEND;TZID=America/New_York:20260116T230000
DTSTAMP:20260425T235913
CREATED:20240326T234522Z
LAST-MODIFIED:20260101T032146Z
UID:10000137-1768593600-1768604400@canadianamericanclub.com
SUMMARY:Friday Pub Night
DESCRIPTION:The downstairs pub is open to the public most Friday nights! This low-key event is a chance for club members to socialize and enjoy some live music. If you’re new to the club\, this is a perfect time to stop in and introduce yourself! \nThis is an open-mic event. Everyone is invited to bring an instrument if you play\, or just hang out at the bar and enjoy good music and company. \nWord on the street is that we are the cheapest bar in town! Potluck snacks and desserts; no cover charge.
URL:https://canadianamericanclub.com/event/friday-pub-night-10/2026-01-16
LOCATION:Canadian American Club\, 202 Arlington Street\, Watertown\, MA\, United States
CATEGORIES:open mic
ORGANIZER;CN="Canadian American Club":MAILTO:Canadianamericanclub@gmail.com
END:VEVENT
BEGIN:VEVENT
DTSTART;TZID=America/New_York:20260118T153000
DTEND;TZID=America/New_York:20260118T190000
DTSTAMP:20260425T235913
CREATED:20240327T182402Z
LAST-MODIFIED:20260315T114121Z
UID:10000704-1768750200-1768762800@canadianamericanclub.com
SUMMARY:Gaelic Club
DESCRIPTION:The Cape Breton Gaelic Club invites you to a Ceilidh every third Sunday (Sept through June) at 3:30pm. We will have live fiddle music\, Gaelic singing\, and probably a square set too! Bring your instruments if you play and a snack or dessert to share. The Bar will be open. $7 admission. \nIf you’d like to join the Gaelic singers\, please come early at 3:00 for practice.
URL:https://canadianamericanclub.com/event/gaelic-club/2026-01-18
LOCATION:Canadian American Club\, 202 Arlington Street\, Watertown\, MA\, United States
CATEGORIES:Cape Breton,Session
END:VEVENT
BEGIN:VEVENT
DTSTART;TZID=America/New_York:20260119T194500
DTEND;TZID=America/New_York:20260119T220000
DTSTAMP:20260425T235913
CREATED:20240327T180336Z
LAST-MODIFIED:20240327T180512Z
UID:10000398-1768851900-1768860000@canadianamericanclub.com
SUMMARY:Scottish Country Dancing
DESCRIPTION:Scottish Country Dancing with RSCDS Cambridge Class. \nEvery Monday night\, 7:45 to 10:00
URL:https://canadianamericanclub.com/event/scottish-country-dancing/2026-01-19
LOCATION:Canadian American Club\, 202 Arlington Street\, Watertown\, MA\, United States
CATEGORIES:Dance,Scottish
END:VEVENT
BEGIN:VEVENT
DTSTART;TZID=America/New_York:20260120T193000
DTEND;TZID=America/New_York:20260120T210000
DTSTAMP:20260425T235913
CREATED:20240327T191347Z
LAST-MODIFIED:20240402T185757Z
UID:10000894-1768937400-1768942800@canadianamericanclub.com
SUMMARY:Irish Set Dancing workshop
DESCRIPTION:Watertown Set/Ceili Dance Workshop Tuesday evenings from 7:30pm- 9:00pm. Schedule can be found at ceboston.org/branch-activities
URL:https://canadianamericanclub.com/event/irish-set-dancing/2026-01-20
LOCATION:Canadian American Club\, 202 Arlington Street\, Watertown\, MA\, United States
CATEGORIES:Irish,workshop
END:VEVENT
BEGIN:VEVENT
DTSTART;TZID=America/New_York:20260121T193000
DTEND;TZID=America/New_York:20260121T220000
DTSTAMP:20260425T235913
CREATED:20240402T131820Z
LAST-MODIFIED:20240402T152903Z
UID:10001138-1769023800-1769032800@canadianamericanclub.com
SUMMARY:Scottish Session
DESCRIPTION:The Boston Scottish Fiddle Club sponsors these Scottish and Cape Breton jam sessions.  The energetic sessions have become quite popular and there is always room for more.  Come and play your favorite tunes with old and new friends. \nhttps://www.bsfc.org/our-activities/wednesday-night-sessions/
URL:https://canadianamericanclub.com/event/1639/2026-01-21
LOCATION:Canadian American Club\, 202 Arlington Street\, Watertown\, MA\, United States
CATEGORIES:Scottish,Session
END:VEVENT
BEGIN:VEVENT
DTSTART;TZID=America/New_York:20260123T200000
DTEND;TZID=America/New_York:20260123T230000
DTSTAMP:20260425T235913
CREATED:20240326T234522Z
LAST-MODIFIED:20260101T032146Z
UID:10000138-1769198400-1769209200@canadianamericanclub.com
SUMMARY:Friday Pub Night
DESCRIPTION:The downstairs pub is open to the public most Friday nights! This low-key event is a chance for club members to socialize and enjoy some live music. If you’re new to the club\, this is a perfect time to stop in and introduce yourself! \nThis is an open-mic event. Everyone is invited to bring an instrument if you play\, or just hang out at the bar and enjoy good music and company. \nWord on the street is that we are the cheapest bar in town! Potluck snacks and desserts; no cover charge.
URL:https://canadianamericanclub.com/event/friday-pub-night-10/2026-01-23
LOCATION:Canadian American Club\, 202 Arlington Street\, Watertown\, MA\, United States
CATEGORIES:open mic
ORGANIZER;CN="Canadian American Club":MAILTO:Canadianamericanclub@gmail.com
END:VEVENT
BEGIN:VEVENT
DTSTART;TZID=America/New_York:20260126T194500
DTEND;TZID=America/New_York:20260126T220000
DTSTAMP:20260425T235913
CREATED:20240327T180336Z
LAST-MODIFIED:20240327T180512Z
UID:10000399-1769456700-1769464800@canadianamericanclub.com
SUMMARY:Scottish Country Dancing
DESCRIPTION:Scottish Country Dancing with RSCDS Cambridge Class. \nEvery Monday night\, 7:45 to 10:00
URL:https://canadianamericanclub.com/event/scottish-country-dancing/2026-01-26
LOCATION:Canadian American Club\, 202 Arlington Street\, Watertown\, MA\, United States
CATEGORIES:Dance,Scottish
END:VEVENT
BEGIN:VEVENT
DTSTART;TZID=America/New_York:20260127T193000
DTEND;TZID=America/New_York:20260127T210000
DTSTAMP:20260425T235913
CREATED:20240327T191347Z
LAST-MODIFIED:20240402T185757Z
UID:10000895-1769542200-1769547600@canadianamericanclub.com
SUMMARY:Irish Set Dancing workshop
DESCRIPTION:Watertown Set/Ceili Dance Workshop Tuesday evenings from 7:30pm- 9:00pm. Schedule can be found at ceboston.org/branch-activities
URL:https://canadianamericanclub.com/event/irish-set-dancing/2026-01-27
LOCATION:Canadian American Club\, 202 Arlington Street\, Watertown\, MA\, United States
CATEGORIES:Irish,workshop
END:VEVENT
BEGIN:VEVENT
DTSTART;TZID=America/New_York:20260130T200000
DTEND;TZID=America/New_York:20260130T230000
DTSTAMP:20260425T235913
CREATED:20240326T234522Z
LAST-MODIFIED:20260101T032146Z
UID:10000139-1769803200-1769814000@canadianamericanclub.com
SUMMARY:Friday Pub Night
DESCRIPTION:The downstairs pub is open to the public most Friday nights! This low-key event is a chance for club members to socialize and enjoy some live music. If you’re new to the club\, this is a perfect time to stop in and introduce yourself! \nThis is an open-mic event. Everyone is invited to bring an instrument if you play\, or just hang out at the bar and enjoy good music and company. \nWord on the street is that we are the cheapest bar in town! Potluck snacks and desserts; no cover charge.
URL:https://canadianamericanclub.com/event/friday-pub-night-10/2026-01-30
LOCATION:Canadian American Club\, 202 Arlington Street\, Watertown\, MA\, United States
CATEGORIES:open mic
ORGANIZER;CN="Canadian American Club":MAILTO:Canadianamericanclub@gmail.com
END:VEVENT
BEGIN:VEVENT
DTSTART;TZID=America/New_York:20260201T150000
DTEND;TZID=America/New_York:20260201T190000
DTSTAMP:20260425T235913
CREATED:20250308T010635Z
LAST-MODIFIED:20250308T010636Z
UID:10000762-1769958000-1769972400@canadianamericanclub.com
SUMMARY:Comhaltas Monthly Seisiún
DESCRIPTION:The Reynolds-Hanafin-Cooley branch holds monthly Seisiúns October through June.
URL:https://canadianamericanclub.com/event/comhaltas-monthly-seisiun-2/2026-02-01
LOCATION:Canadian American Club\, 202 Arlington Street\, Watertown\, MA\, United States
CATEGORIES:Irish,Session
END:VEVENT
BEGIN:VEVENT
DTSTART;TZID=America/New_York:20260202T194500
DTEND;TZID=America/New_York:20260202T220000
DTSTAMP:20260425T235913
CREATED:20240327T180336Z
LAST-MODIFIED:20240327T180512Z
UID:10000400-1770061500-1770069600@canadianamericanclub.com
SUMMARY:Scottish Country Dancing
DESCRIPTION:Scottish Country Dancing with RSCDS Cambridge Class. \nEvery Monday night\, 7:45 to 10:00
URL:https://canadianamericanclub.com/event/scottish-country-dancing/2026-02-02
LOCATION:Canadian American Club\, 202 Arlington Street\, Watertown\, MA\, United States
CATEGORIES:Dance,Scottish
END:VEVENT
BEGIN:VEVENT
DTSTART;TZID=America/New_York:20260203T193000
DTEND;TZID=America/New_York:20260203T210000
DTSTAMP:20260425T235913
CREATED:20240327T191347Z
LAST-MODIFIED:20240402T185757Z
UID:10000896-1770147000-1770152400@canadianamericanclub.com
SUMMARY:Irish Set Dancing workshop
DESCRIPTION:Watertown Set/Ceili Dance Workshop Tuesday evenings from 7:30pm- 9:00pm. Schedule can be found at ceboston.org/branch-activities
URL:https://canadianamericanclub.com/event/irish-set-dancing/2026-02-03
LOCATION:Canadian American Club\, 202 Arlington Street\, Watertown\, MA\, United States
CATEGORIES:Irish,workshop
END:VEVENT
BEGIN:VEVENT
DTSTART;TZID=America/New_York:20260205T193000
DTEND;TZID=America/New_York:20260205T220000
DTSTAMP:20260425T235913
CREATED:20240327T181228Z
LAST-MODIFIED:20250113T012130Z
UID:10001259-1770319800-1770328800@canadianamericanclub.com
SUMMARY:First Thursday Irish session
DESCRIPTION:
URL:https://canadianamericanclub.com/event/first-thursday-irish-session/2026-02-05
LOCATION:Canadian American Club\, 202 Arlington Street\, Watertown\, MA\, United States
CATEGORIES:Irish,Session
END:VEVENT
BEGIN:VEVENT
DTSTART;TZID=America/New_York:20260206T200000
DTEND;TZID=America/New_York:20260206T230000
DTSTAMP:20260425T235913
CREATED:20240326T234522Z
LAST-MODIFIED:20260101T032146Z
UID:10000140-1770408000-1770418800@canadianamericanclub.com
SUMMARY:Friday Pub Night
DESCRIPTION:The downstairs pub is open to the public most Friday nights! This low-key event is a chance for club members to socialize and enjoy some live music. If you’re new to the club\, this is a perfect time to stop in and introduce yourself! \nThis is an open-mic event. Everyone is invited to bring an instrument if you play\, or just hang out at the bar and enjoy good music and company. \nWord on the street is that we are the cheapest bar in town! Potluck snacks and desserts; no cover charge.
URL:https://canadianamericanclub.com/event/friday-pub-night-10/2026-02-06
LOCATION:Canadian American Club\, 202 Arlington Street\, Watertown\, MA\, United States
CATEGORIES:open mic
ORGANIZER;CN="Canadian American Club":MAILTO:Canadianamericanclub@gmail.com
END:VEVENT
BEGIN:VEVENT
DTSTART;TZID=America/New_York:20260208T170000
DTEND;TZID=America/New_York:20260208T230000
DTSTAMP:20260425T235913
CREATED:20260207T010131Z
LAST-MODIFIED:20260207T010131Z
UID:10001380-1770570000-1770591600@canadianamericanclub.com
SUMMARY:Superbowl Watch Party
DESCRIPTION:Come on down to the club to watch the game! We’ll have refreshments and the bar will be open starting at 5 pm.
URL:https://canadianamericanclub.com/event/superbowl-watch-party
CATEGORIES:Party
END:VEVENT
BEGIN:VEVENT
DTSTART;TZID=America/New_York:20260209T194500
DTEND;TZID=America/New_York:20260209T220000
DTSTAMP:20260425T235913
CREATED:20240327T180336Z
LAST-MODIFIED:20240327T180512Z
UID:10000401-1770666300-1770674400@canadianamericanclub.com
SUMMARY:Scottish Country Dancing
DESCRIPTION:Scottish Country Dancing with RSCDS Cambridge Class. \nEvery Monday night\, 7:45 to 10:00
URL:https://canadianamericanclub.com/event/scottish-country-dancing/2026-02-09
LOCATION:Canadian American Club\, 202 Arlington Street\, Watertown\, MA\, United States
CATEGORIES:Dance,Scottish
END:VEVENT
BEGIN:VEVENT
DTSTART;TZID=America/New_York:20260210T193000
DTEND;TZID=America/New_York:20260210T210000
DTSTAMP:20260425T235913
CREATED:20240327T191347Z
LAST-MODIFIED:20240402T185757Z
UID:10000897-1770751800-1770757200@canadianamericanclub.com
SUMMARY:Irish Set Dancing workshop
DESCRIPTION:Watertown Set/Ceili Dance Workshop Tuesday evenings from 7:30pm- 9:00pm. Schedule can be found at ceboston.org/branch-activities
URL:https://canadianamericanclub.com/event/irish-set-dancing/2026-02-10
LOCATION:Canadian American Club\, 202 Arlington Street\, Watertown\, MA\, United States
CATEGORIES:Irish,workshop
END:VEVENT
BEGIN:VEVENT
DTSTART;TZID=America/New_York:20260211T190000
DTEND;TZID=America/New_York:20260211T220000
DTSTAMP:20260425T235913
CREATED:20240327T181714Z
LAST-MODIFIED:20240327T181714Z
UID:10000647-1770836400-1770847200@canadianamericanclub.com
SUMMARY:Quebecois Session
DESCRIPTION:Every second Wednesday from 7 to 10 pm.
URL:https://canadianamericanclub.com/event/quebecois-session-2/2026-02-11
LOCATION:Canadian American Club\, 202 Arlington Street\, Watertown\, MA\, United States
CATEGORIES:Quebecois,Session
END:VEVENT
BEGIN:VEVENT
DTSTART;TZID=America/New_York:20260213T200000
DTEND;TZID=America/New_York:20260213T230000
DTSTAMP:20260425T235913
CREATED:20240326T234522Z
LAST-MODIFIED:20260101T032146Z
UID:10000141-1771012800-1771023600@canadianamericanclub.com
SUMMARY:Friday Pub Night
DESCRIPTION:The downstairs pub is open to the public most Friday nights! This low-key event is a chance for club members to socialize and enjoy some live music. If you’re new to the club\, this is a perfect time to stop in and introduce yourself! \nThis is an open-mic event. Everyone is invited to bring an instrument if you play\, or just hang out at the bar and enjoy good music and company. \nWord on the street is that we are the cheapest bar in town! Potluck snacks and desserts; no cover charge.
URL:https://canadianamericanclub.com/event/friday-pub-night-10/2026-02-13
LOCATION:Canadian American Club\, 202 Arlington Street\, Watertown\, MA\, United States
CATEGORIES:open mic
ORGANIZER;CN="Canadian American Club":MAILTO:Canadianamericanclub@gmail.com
END:VEVENT
BEGIN:VEVENT
DTSTART;TZID=America/New_York:20260215T153000
DTEND;TZID=America/New_York:20260215T190000
DTSTAMP:20260425T235913
CREATED:20240327T182402Z
LAST-MODIFIED:20260315T114121Z
UID:10000705-1771169400-1771182000@canadianamericanclub.com
SUMMARY:Gaelic Club
DESCRIPTION:The Cape Breton Gaelic Club invites you to a Ceilidh every third Sunday (Sept through June) at 3:30pm. We will have live fiddle music\, Gaelic singing\, and probably a square set too! Bring your instruments if you play and a snack or dessert to share. The Bar will be open. $7 admission. \nIf you’d like to join the Gaelic singers\, please come early at 3:00 for practice.
URL:https://canadianamericanclub.com/event/gaelic-club/2026-02-15
LOCATION:Canadian American Club\, 202 Arlington Street\, Watertown\, MA\, United States
CATEGORIES:Cape Breton,Session
END:VEVENT
BEGIN:VEVENT
DTSTART;TZID=America/New_York:20260216T194500
DTEND;TZID=America/New_York:20260216T220000
DTSTAMP:20260425T235913
CREATED:20240327T180336Z
LAST-MODIFIED:20240327T180512Z
UID:10000402-1771271100-1771279200@canadianamericanclub.com
SUMMARY:Scottish Country Dancing
DESCRIPTION:Scottish Country Dancing with RSCDS Cambridge Class. \nEvery Monday night\, 7:45 to 10:00
URL:https://canadianamericanclub.com/event/scottish-country-dancing/2026-02-16
LOCATION:Canadian American Club\, 202 Arlington Street\, Watertown\, MA\, United States
CATEGORIES:Dance,Scottish
END:VEVENT
BEGIN:VEVENT
DTSTART;TZID=America/New_York:20260217T193000
DTEND;TZID=America/New_York:20260217T210000
DTSTAMP:20260425T235913
CREATED:20240327T191347Z
LAST-MODIFIED:20240402T185757Z
UID:10000898-1771356600-1771362000@canadianamericanclub.com
SUMMARY:Irish Set Dancing workshop
DESCRIPTION:Watertown Set/Ceili Dance Workshop Tuesday evenings from 7:30pm- 9:00pm. Schedule can be found at ceboston.org/branch-activities
URL:https://canadianamericanclub.com/event/irish-set-dancing/2026-02-17
LOCATION:Canadian American Club\, 202 Arlington Street\, Watertown\, MA\, United States
CATEGORIES:Irish,workshop
END:VEVENT
BEGIN:VEVENT
DTSTART;TZID=America/New_York:20260218T193000
DTEND;TZID=America/New_York:20260218T220000
DTSTAMP:20260425T235913
CREATED:20240402T131820Z
LAST-MODIFIED:20240402T152903Z
UID:10001139-1771443000-1771452000@canadianamericanclub.com
SUMMARY:Scottish Session
DESCRIPTION:The Boston Scottish Fiddle Club sponsors these Scottish and Cape Breton jam sessions.  The energetic sessions have become quite popular and there is always room for more.  Come and play your favorite tunes with old and new friends. \nhttps://www.bsfc.org/our-activities/wednesday-night-sessions/
URL:https://canadianamericanclub.com/event/1639/2026-02-18
LOCATION:Canadian American Club\, 202 Arlington Street\, Watertown\, MA\, United States
CATEGORIES:Scottish,Session
END:VEVENT
BEGIN:VEVENT
DTSTART;TZID=America/New_York:20260220T200000
DTEND;TZID=America/New_York:20260220T230000
DTSTAMP:20260425T235913
CREATED:20240326T234522Z
LAST-MODIFIED:20260101T032146Z
UID:10000142-1771617600-1771628400@canadianamericanclub.com
SUMMARY:Friday Pub Night
DESCRIPTION:The downstairs pub is open to the public most Friday nights! This low-key event is a chance for club members to socialize and enjoy some live music. If you’re new to the club\, this is a perfect time to stop in and introduce yourself! \nThis is an open-mic event. Everyone is invited to bring an instrument if you play\, or just hang out at the bar and enjoy good music and company. \nWord on the street is that we are the cheapest bar in town! Potluck snacks and desserts; no cover charge.
URL:https://canadianamericanclub.com/event/friday-pub-night-10/2026-02-20
LOCATION:Canadian American Club\, 202 Arlington Street\, Watertown\, MA\, United States
CATEGORIES:open mic
ORGANIZER;CN="Canadian American Club":MAILTO:Canadianamericanclub@gmail.com
END:VEVENT
BEGIN:VEVENT
DTSTART;TZID=America/New_York:20260223T194500
DTEND;TZID=America/New_York:20260223T220000
DTSTAMP:20260425T235913
CREATED:20240327T180336Z
LAST-MODIFIED:20240327T180512Z
UID:10000403-1771875900-1771884000@canadianamericanclub.com
SUMMARY:Scottish Country Dancing
DESCRIPTION:Scottish Country Dancing with RSCDS Cambridge Class. \nEvery Monday night\, 7:45 to 10:00
URL:https://canadianamericanclub.com/event/scottish-country-dancing/2026-02-23
LOCATION:Canadian American Club\, 202 Arlington Street\, Watertown\, MA\, United States
CATEGORIES:Dance,Scottish
END:VEVENT
BEGIN:VEVENT
DTSTART;TZID=America/New_York:20260224T193000
DTEND;TZID=America/New_York:20260224T210000
DTSTAMP:20260425T235913
CREATED:20240327T191347Z
LAST-MODIFIED:20240402T185757Z
UID:10000899-1771961400-1771966800@canadianamericanclub.com
SUMMARY:Irish Set Dancing workshop
DESCRIPTION:Watertown Set/Ceili Dance Workshop Tuesday evenings from 7:30pm- 9:00pm. Schedule can be found at ceboston.org/branch-activities
URL:https://canadianamericanclub.com/event/irish-set-dancing/2026-02-24
LOCATION:Canadian American Club\, 202 Arlington Street\, Watertown\, MA\, United States
CATEGORIES:Irish,workshop
END:VEVENT
END:VCALENDAR