BEGIN:VCALENDAR
VERSION:2.0
PRODID:-//Canadian American Club - ECPv6.15.20//NONSGML v1.0//EN
CALSCALE:GREGORIAN
METHOD:PUBLISH
X-WR-CALNAME:Canadian American Club
X-ORIGINAL-URL:https://canadianamericanclub.com
X-WR-CALDESC:Events for Canadian American Club
REFRESH-INTERVAL;VALUE=DURATION:PT1H
X-Robots-Tag:noindex
X-PUBLISHED-TTL:PT1H
BEGIN:VTIMEZONE
TZID:America/New_York
BEGIN:DAYLIGHT
TZOFFSETFROM:-0500
TZOFFSETTO:-0400
TZNAME:EDT
DTSTART:20250309T070000
END:DAYLIGHT
BEGIN:STANDARD
TZOFFSETFROM:-0400
TZOFFSETTO:-0500
TZNAME:EST
DTSTART:20251102T060000
END:STANDARD
BEGIN:DAYLIGHT
TZOFFSETFROM:-0500
TZOFFSETTO:-0400
TZNAME:EDT
DTSTART:20260308T070000
END:DAYLIGHT
BEGIN:STANDARD
TZOFFSETFROM:-0400
TZOFFSETTO:-0500
TZNAME:EST
DTSTART:20261101T060000
END:STANDARD
BEGIN:DAYLIGHT
TZOFFSETFROM:-0500
TZOFFSETTO:-0400
TZNAME:EDT
DTSTART:20270314T070000
END:DAYLIGHT
BEGIN:STANDARD
TZOFFSETFROM:-0400
TZOFFSETTO:-0500
TZNAME:EST
DTSTART:20271107T060000
END:STANDARD
BEGIN:DAYLIGHT
TZOFFSETFROM:-0500
TZOFFSETTO:-0400
TZNAME:EDT
DTSTART:20280312T070000
END:DAYLIGHT
BEGIN:STANDARD
TZOFFSETFROM:-0400
TZOFFSETTO:-0500
TZNAME:EST
DTSTART:20281105T060000
END:STANDARD
END:VTIMEZONE
BEGIN:VEVENT
DTSTART;TZID=America/New_York:20260819T193000
DTEND;TZID=America/New_York:20260819T220000
DTSTAMP:20260425T222247
CREATED:20240402T131820Z
LAST-MODIFIED:20240402T152903Z
UID:10001145-1787167800-1787176800@canadianamericanclub.com
SUMMARY:Scottish Session
DESCRIPTION:The Boston Scottish Fiddle Club sponsors these Scottish and Cape Breton jam sessions.  The energetic sessions have become quite popular and there is always room for more.  Come and play your favorite tunes with old and new friends. \nhttps://www.bsfc.org/our-activities/wednesday-night-sessions/
URL:https://canadianamericanclub.com/event/1639/2026-08-19
LOCATION:Canadian American Club\, 202 Arlington Street\, Watertown\, MA\, United States
CATEGORIES:Scottish,Session
END:VEVENT
BEGIN:VEVENT
DTSTART;TZID=America/New_York:20260903T193000
DTEND;TZID=America/New_York:20260903T220000
DTSTAMP:20260425T222247
CREATED:20240327T181228Z
LAST-MODIFIED:20250113T012130Z
UID:10001266-1788463800-1788472800@canadianamericanclub.com
SUMMARY:First Thursday Irish session
DESCRIPTION:
URL:https://canadianamericanclub.com/event/first-thursday-irish-session/2026-09-03
LOCATION:Canadian American Club\, 202 Arlington Street\, Watertown\, MA\, United States
CATEGORIES:Irish,Session
END:VEVENT
BEGIN:VEVENT
DTSTART;TZID=America/New_York:20260906T150000
DTEND;TZID=America/New_York:20260906T190000
DTSTAMP:20260425T222247
CREATED:20250308T010635Z
LAST-MODIFIED:20250308T010636Z
UID:10000769-1788706800-1788721200@canadianamericanclub.com
SUMMARY:Comhaltas Monthly Seisiún
DESCRIPTION:The Reynolds-Hanafin-Cooley branch holds monthly Seisiúns October through June.
URL:https://canadianamericanclub.com/event/comhaltas-monthly-seisiun-2/2026-09-06
LOCATION:Canadian American Club\, 202 Arlington Street\, Watertown\, MA\, United States
CATEGORIES:Irish,Session
END:VEVENT
BEGIN:VEVENT
DTSTART;TZID=America/New_York:20260909T190000
DTEND;TZID=America/New_York:20260909T220000
DTSTAMP:20260425T222247
CREATED:20240327T181714Z
LAST-MODIFIED:20240327T181714Z
UID:10000654-1788980400-1788991200@canadianamericanclub.com
SUMMARY:Quebecois Session
DESCRIPTION:Every second Wednesday from 7 to 10 pm.
URL:https://canadianamericanclub.com/event/quebecois-session-2/2026-09-09
LOCATION:Canadian American Club\, 202 Arlington Street\, Watertown\, MA\, United States
CATEGORIES:Quebecois,Session
END:VEVENT
BEGIN:VEVENT
DTSTART;TZID=America/New_York:20260916T193000
DTEND;TZID=America/New_York:20260916T220000
DTSTAMP:20260425T222247
CREATED:20240402T131820Z
LAST-MODIFIED:20240402T152903Z
UID:10001146-1789587000-1789596000@canadianamericanclub.com
SUMMARY:Scottish Session
DESCRIPTION:The Boston Scottish Fiddle Club sponsors these Scottish and Cape Breton jam sessions.  The energetic sessions have become quite popular and there is always room for more.  Come and play your favorite tunes with old and new friends. \nhttps://www.bsfc.org/our-activities/wednesday-night-sessions/
URL:https://canadianamericanclub.com/event/1639/2026-09-16
LOCATION:Canadian American Club\, 202 Arlington Street\, Watertown\, MA\, United States
CATEGORIES:Scottish,Session
END:VEVENT
BEGIN:VEVENT
DTSTART;TZID=America/New_York:20260920T153000
DTEND;TZID=America/New_York:20260920T190000
DTSTAMP:20260425T222247
CREATED:20240327T182402Z
LAST-MODIFIED:20260315T114121Z
UID:10000712-1789918200-1789930800@canadianamericanclub.com
SUMMARY:Gaelic Club
DESCRIPTION:The Cape Breton Gaelic Club invites you to a Ceilidh every third Sunday (Sept through June) at 3:30pm. We will have live fiddle music\, Gaelic singing\, and probably a square set too! Bring your instruments if you play and a snack or dessert to share. The Bar will be open. $7 admission. \nIf you’d like to join the Gaelic singers\, please come early at 3:00 for practice.
URL:https://canadianamericanclub.com/event/gaelic-club/2026-09-20
LOCATION:Canadian American Club\, 202 Arlington Street\, Watertown\, MA\, United States
CATEGORIES:Cape Breton,Session
END:VEVENT
BEGIN:VEVENT
DTSTART;TZID=America/New_York:20261001T193000
DTEND;TZID=America/New_York:20261001T220000
DTSTAMP:20260425T222247
CREATED:20240327T181228Z
LAST-MODIFIED:20250113T012130Z
UID:10001267-1790883000-1790892000@canadianamericanclub.com
SUMMARY:First Thursday Irish session
DESCRIPTION:
URL:https://canadianamericanclub.com/event/first-thursday-irish-session/2026-10-01
LOCATION:Canadian American Club\, 202 Arlington Street\, Watertown\, MA\, United States
CATEGORIES:Irish,Session
END:VEVENT
BEGIN:VEVENT
DTSTART;TZID=America/New_York:20261004T150000
DTEND;TZID=America/New_York:20261004T190000
DTSTAMP:20260425T222247
CREATED:20250308T010635Z
LAST-MODIFIED:20250308T010636Z
UID:10000770-1791126000-1791140400@canadianamericanclub.com
SUMMARY:Comhaltas Monthly Seisiún
DESCRIPTION:The Reynolds-Hanafin-Cooley branch holds monthly Seisiúns October through June.
URL:https://canadianamericanclub.com/event/comhaltas-monthly-seisiun-2/2026-10-04
LOCATION:Canadian American Club\, 202 Arlington Street\, Watertown\, MA\, United States
CATEGORIES:Irish,Session
END:VEVENT
BEGIN:VEVENT
DTSTART;TZID=America/New_York:20261014T190000
DTEND;TZID=America/New_York:20261014T220000
DTSTAMP:20260425T222247
CREATED:20240327T181714Z
LAST-MODIFIED:20240327T181714Z
UID:10000655-1792004400-1792015200@canadianamericanclub.com
SUMMARY:Quebecois Session
DESCRIPTION:Every second Wednesday from 7 to 10 pm.
URL:https://canadianamericanclub.com/event/quebecois-session-2/2026-10-14
LOCATION:Canadian American Club\, 202 Arlington Street\, Watertown\, MA\, United States
CATEGORIES:Quebecois,Session
END:VEVENT
BEGIN:VEVENT
DTSTART;TZID=America/New_York:20261018T153000
DTEND;TZID=America/New_York:20261018T190000
DTSTAMP:20260425T222247
CREATED:20240327T182402Z
LAST-MODIFIED:20260315T114121Z
UID:10000713-1792337400-1792350000@canadianamericanclub.com
SUMMARY:Gaelic Club
DESCRIPTION:The Cape Breton Gaelic Club invites you to a Ceilidh every third Sunday (Sept through June) at 3:30pm. We will have live fiddle music\, Gaelic singing\, and probably a square set too! Bring your instruments if you play and a snack or dessert to share. The Bar will be open. $7 admission. \nIf you’d like to join the Gaelic singers\, please come early at 3:00 for practice.
URL:https://canadianamericanclub.com/event/gaelic-club/2026-10-18
LOCATION:Canadian American Club\, 202 Arlington Street\, Watertown\, MA\, United States
CATEGORIES:Cape Breton,Session
END:VEVENT
BEGIN:VEVENT
DTSTART;TZID=America/New_York:20261021T193000
DTEND;TZID=America/New_York:20261021T220000
DTSTAMP:20260425T222247
CREATED:20240402T131820Z
LAST-MODIFIED:20240402T152903Z
UID:10001147-1792611000-1792620000@canadianamericanclub.com
SUMMARY:Scottish Session
DESCRIPTION:The Boston Scottish Fiddle Club sponsors these Scottish and Cape Breton jam sessions.  The energetic sessions have become quite popular and there is always room for more.  Come and play your favorite tunes with old and new friends. \nhttps://www.bsfc.org/our-activities/wednesday-night-sessions/
URL:https://canadianamericanclub.com/event/1639/2026-10-21
LOCATION:Canadian American Club\, 202 Arlington Street\, Watertown\, MA\, United States
CATEGORIES:Scottish,Session
END:VEVENT
BEGIN:VEVENT
DTSTART;TZID=America/New_York:20261101T150000
DTEND;TZID=America/New_York:20261101T190000
DTSTAMP:20260425T222247
CREATED:20250308T010635Z
LAST-MODIFIED:20250308T010636Z
UID:10000771-1793545200-1793559600@canadianamericanclub.com
SUMMARY:Comhaltas Monthly Seisiún
DESCRIPTION:The Reynolds-Hanafin-Cooley branch holds monthly Seisiúns October through June.
URL:https://canadianamericanclub.com/event/comhaltas-monthly-seisiun-2/2026-11-01
LOCATION:Canadian American Club\, 202 Arlington Street\, Watertown\, MA\, United States
CATEGORIES:Irish,Session
END:VEVENT
BEGIN:VEVENT
DTSTART;TZID=America/New_York:20261105T193000
DTEND;TZID=America/New_York:20261105T220000
DTSTAMP:20260425T222247
CREATED:20240327T181228Z
LAST-MODIFIED:20250113T012130Z
UID:10001268-1793907000-1793916000@canadianamericanclub.com
SUMMARY:First Thursday Irish session
DESCRIPTION:
URL:https://canadianamericanclub.com/event/first-thursday-irish-session/2026-11-05
LOCATION:Canadian American Club\, 202 Arlington Street\, Watertown\, MA\, United States
CATEGORIES:Irish,Session
END:VEVENT
BEGIN:VEVENT
DTSTART;TZID=America/New_York:20261111T190000
DTEND;TZID=America/New_York:20261111T220000
DTSTAMP:20260425T222247
CREATED:20240327T181714Z
LAST-MODIFIED:20240327T181714Z
UID:10000656-1794423600-1794434400@canadianamericanclub.com
SUMMARY:Quebecois Session
DESCRIPTION:Every second Wednesday from 7 to 10 pm.
URL:https://canadianamericanclub.com/event/quebecois-session-2/2026-11-11
LOCATION:Canadian American Club\, 202 Arlington Street\, Watertown\, MA\, United States
CATEGORIES:Quebecois,Session
END:VEVENT
BEGIN:VEVENT
DTSTART;TZID=America/New_York:20261115T153000
DTEND;TZID=America/New_York:20261115T190000
DTSTAMP:20260425T222247
CREATED:20240327T182402Z
LAST-MODIFIED:20260315T114121Z
UID:10000714-1794756600-1794769200@canadianamericanclub.com
SUMMARY:Gaelic Club
DESCRIPTION:The Cape Breton Gaelic Club invites you to a Ceilidh every third Sunday (Sept through June) at 3:30pm. We will have live fiddle music\, Gaelic singing\, and probably a square set too! Bring your instruments if you play and a snack or dessert to share. The Bar will be open. $7 admission. \nIf you’d like to join the Gaelic singers\, please come early at 3:00 for practice.
URL:https://canadianamericanclub.com/event/gaelic-club/2026-11-15
LOCATION:Canadian American Club\, 202 Arlington Street\, Watertown\, MA\, United States
CATEGORIES:Cape Breton,Session
END:VEVENT
BEGIN:VEVENT
DTSTART;TZID=America/New_York:20261118T193000
DTEND;TZID=America/New_York:20261118T220000
DTSTAMP:20260425T222247
CREATED:20240402T131820Z
LAST-MODIFIED:20240402T152903Z
UID:10001148-1795030200-1795039200@canadianamericanclub.com
SUMMARY:Scottish Session
DESCRIPTION:The Boston Scottish Fiddle Club sponsors these Scottish and Cape Breton jam sessions.  The energetic sessions have become quite popular and there is always room for more.  Come and play your favorite tunes with old and new friends. \nhttps://www.bsfc.org/our-activities/wednesday-night-sessions/
URL:https://canadianamericanclub.com/event/1639/2026-11-18
LOCATION:Canadian American Club\, 202 Arlington Street\, Watertown\, MA\, United States
CATEGORIES:Scottish,Session
END:VEVENT
BEGIN:VEVENT
DTSTART;TZID=America/New_York:20261203T193000
DTEND;TZID=America/New_York:20261203T220000
DTSTAMP:20260425T222247
CREATED:20240327T181228Z
LAST-MODIFIED:20250113T012130Z
UID:10001269-1796326200-1796335200@canadianamericanclub.com
SUMMARY:First Thursday Irish session
DESCRIPTION:
URL:https://canadianamericanclub.com/event/first-thursday-irish-session/2026-12-03
LOCATION:Canadian American Club\, 202 Arlington Street\, Watertown\, MA\, United States
CATEGORIES:Irish,Session
END:VEVENT
BEGIN:VEVENT
DTSTART;TZID=America/New_York:20261206T150000
DTEND;TZID=America/New_York:20261206T190000
DTSTAMP:20260425T222247
CREATED:20250308T010635Z
LAST-MODIFIED:20250308T010636Z
UID:10000772-1796569200-1796583600@canadianamericanclub.com
SUMMARY:Comhaltas Monthly Seisiún
DESCRIPTION:The Reynolds-Hanafin-Cooley branch holds monthly Seisiúns October through June.
URL:https://canadianamericanclub.com/event/comhaltas-monthly-seisiun-2/2026-12-06
LOCATION:Canadian American Club\, 202 Arlington Street\, Watertown\, MA\, United States
CATEGORIES:Irish,Session
END:VEVENT
BEGIN:VEVENT
DTSTART;TZID=America/New_York:20261209T190000
DTEND;TZID=America/New_York:20261209T220000
DTSTAMP:20260425T222247
CREATED:20240327T181714Z
LAST-MODIFIED:20240327T181714Z
UID:10000657-1796842800-1796853600@canadianamericanclub.com
SUMMARY:Quebecois Session
DESCRIPTION:Every second Wednesday from 7 to 10 pm.
URL:https://canadianamericanclub.com/event/quebecois-session-2/2026-12-09
LOCATION:Canadian American Club\, 202 Arlington Street\, Watertown\, MA\, United States
CATEGORIES:Quebecois,Session
END:VEVENT
BEGIN:VEVENT
DTSTART;TZID=America/New_York:20261216T193000
DTEND;TZID=America/New_York:20261216T220000
DTSTAMP:20260425T222247
CREATED:20240402T131820Z
LAST-MODIFIED:20240402T152903Z
UID:10001149-1797449400-1797458400@canadianamericanclub.com
SUMMARY:Scottish Session
DESCRIPTION:The Boston Scottish Fiddle Club sponsors these Scottish and Cape Breton jam sessions.  The energetic sessions have become quite popular and there is always room for more.  Come and play your favorite tunes with old and new friends. \nhttps://www.bsfc.org/our-activities/wednesday-night-sessions/
URL:https://canadianamericanclub.com/event/1639/2026-12-16
LOCATION:Canadian American Club\, 202 Arlington Street\, Watertown\, MA\, United States
CATEGORIES:Scottish,Session
END:VEVENT
BEGIN:VEVENT
DTSTART;TZID=America/New_York:20261220T153000
DTEND;TZID=America/New_York:20261220T190000
DTSTAMP:20260425T222247
CREATED:20240327T182402Z
LAST-MODIFIED:20260315T114121Z
UID:10000715-1797780600-1797793200@canadianamericanclub.com
SUMMARY:Gaelic Club
DESCRIPTION:The Cape Breton Gaelic Club invites you to a Ceilidh every third Sunday (Sept through June) at 3:30pm. We will have live fiddle music\, Gaelic singing\, and probably a square set too! Bring your instruments if you play and a snack or dessert to share. The Bar will be open. $7 admission. \nIf you’d like to join the Gaelic singers\, please come early at 3:00 for practice.
URL:https://canadianamericanclub.com/event/gaelic-club/2026-12-20
LOCATION:Canadian American Club\, 202 Arlington Street\, Watertown\, MA\, United States
CATEGORIES:Cape Breton,Session
END:VEVENT
BEGIN:VEVENT
DTSTART;TZID=America/New_York:20270103T150000
DTEND;TZID=America/New_York:20270103T190000
DTSTAMP:20260425T222247
CREATED:20250308T010635Z
LAST-MODIFIED:20250308T010636Z
UID:10000773-1798988400-1799002800@canadianamericanclub.com
SUMMARY:Comhaltas Monthly Seisiún
DESCRIPTION:The Reynolds-Hanafin-Cooley branch holds monthly Seisiúns October through June.
URL:https://canadianamericanclub.com/event/comhaltas-monthly-seisiun-2/2027-01-03
LOCATION:Canadian American Club\, 202 Arlington Street\, Watertown\, MA\, United States
CATEGORIES:Irish,Session
END:VEVENT
BEGIN:VEVENT
DTSTART;TZID=America/New_York:20270107T193000
DTEND;TZID=America/New_York:20270107T220000
DTSTAMP:20260425T222247
CREATED:20240327T181228Z
LAST-MODIFIED:20250113T012130Z
UID:10001270-1799350200-1799359200@canadianamericanclub.com
SUMMARY:First Thursday Irish session
DESCRIPTION:
URL:https://canadianamericanclub.com/event/first-thursday-irish-session/2027-01-07
LOCATION:Canadian American Club\, 202 Arlington Street\, Watertown\, MA\, United States
CATEGORIES:Irish,Session
END:VEVENT
BEGIN:VEVENT
DTSTART;TZID=America/New_York:20270113T190000
DTEND;TZID=America/New_York:20270113T220000
DTSTAMP:20260425T222247
CREATED:20240327T181714Z
LAST-MODIFIED:20240327T181714Z
UID:10000658-1799866800-1799877600@canadianamericanclub.com
SUMMARY:Quebecois Session
DESCRIPTION:Every second Wednesday from 7 to 10 pm.
URL:https://canadianamericanclub.com/event/quebecois-session-2/2027-01-13
LOCATION:Canadian American Club\, 202 Arlington Street\, Watertown\, MA\, United States
CATEGORIES:Quebecois,Session
END:VEVENT
BEGIN:VEVENT
DTSTART;TZID=America/New_York:20270117T153000
DTEND;TZID=America/New_York:20270117T190000
DTSTAMP:20260425T222247
CREATED:20240327T182402Z
LAST-MODIFIED:20260315T114121Z
UID:10000716-1800199800-1800212400@canadianamericanclub.com
SUMMARY:Gaelic Club
DESCRIPTION:The Cape Breton Gaelic Club invites you to a Ceilidh every third Sunday (Sept through June) at 3:30pm. We will have live fiddle music\, Gaelic singing\, and probably a square set too! Bring your instruments if you play and a snack or dessert to share. The Bar will be open. $7 admission. \nIf you’d like to join the Gaelic singers\, please come early at 3:00 for practice.
URL:https://canadianamericanclub.com/event/gaelic-club/2027-01-17
LOCATION:Canadian American Club\, 202 Arlington Street\, Watertown\, MA\, United States
CATEGORIES:Cape Breton,Session
END:VEVENT
BEGIN:VEVENT
DTSTART;TZID=America/New_York:20270120T193000
DTEND;TZID=America/New_York:20270120T220000
DTSTAMP:20260425T222247
CREATED:20240402T131820Z
LAST-MODIFIED:20240402T152903Z
UID:10001150-1800473400-1800482400@canadianamericanclub.com
SUMMARY:Scottish Session
DESCRIPTION:The Boston Scottish Fiddle Club sponsors these Scottish and Cape Breton jam sessions.  The energetic sessions have become quite popular and there is always room for more.  Come and play your favorite tunes with old and new friends. \nhttps://www.bsfc.org/our-activities/wednesday-night-sessions/
URL:https://canadianamericanclub.com/event/1639/2027-01-20
LOCATION:Canadian American Club\, 202 Arlington Street\, Watertown\, MA\, United States
CATEGORIES:Scottish,Session
END:VEVENT
BEGIN:VEVENT
DTSTART;TZID=America/New_York:20270204T193000
DTEND;TZID=America/New_York:20270204T220000
DTSTAMP:20260425T222247
CREATED:20240327T181228Z
LAST-MODIFIED:20250113T012130Z
UID:10001271-1801769400-1801778400@canadianamericanclub.com
SUMMARY:First Thursday Irish session
DESCRIPTION:
URL:https://canadianamericanclub.com/event/first-thursday-irish-session/2027-02-04
LOCATION:Canadian American Club\, 202 Arlington Street\, Watertown\, MA\, United States
CATEGORIES:Irish,Session
END:VEVENT
BEGIN:VEVENT
DTSTART;TZID=America/New_York:20270207T150000
DTEND;TZID=America/New_York:20270207T190000
DTSTAMP:20260425T222247
CREATED:20250308T010635Z
LAST-MODIFIED:20250308T010636Z
UID:10000774-1802012400-1802026800@canadianamericanclub.com
SUMMARY:Comhaltas Monthly Seisiún
DESCRIPTION:The Reynolds-Hanafin-Cooley branch holds monthly Seisiúns October through June.
URL:https://canadianamericanclub.com/event/comhaltas-monthly-seisiun-2/2027-02-07
LOCATION:Canadian American Club\, 202 Arlington Street\, Watertown\, MA\, United States
CATEGORIES:Irish,Session
END:VEVENT
BEGIN:VEVENT
DTSTART;TZID=America/New_York:20270210T190000
DTEND;TZID=America/New_York:20270210T220000
DTSTAMP:20260425T222247
CREATED:20240327T181714Z
LAST-MODIFIED:20240327T181714Z
UID:10000659-1802286000-1802296800@canadianamericanclub.com
SUMMARY:Quebecois Session
DESCRIPTION:Every second Wednesday from 7 to 10 pm.
URL:https://canadianamericanclub.com/event/quebecois-session-2/2027-02-10
LOCATION:Canadian American Club\, 202 Arlington Street\, Watertown\, MA\, United States
CATEGORIES:Quebecois,Session
END:VEVENT
BEGIN:VEVENT
DTSTART;TZID=America/New_York:20270217T193000
DTEND;TZID=America/New_York:20270217T220000
DTSTAMP:20260425T222247
CREATED:20240402T131820Z
LAST-MODIFIED:20240402T152903Z
UID:10001151-1802892600-1802901600@canadianamericanclub.com
SUMMARY:Scottish Session
DESCRIPTION:The Boston Scottish Fiddle Club sponsors these Scottish and Cape Breton jam sessions.  The energetic sessions have become quite popular and there is always room for more.  Come and play your favorite tunes with old and new friends. \nhttps://www.bsfc.org/our-activities/wednesday-night-sessions/
URL:https://canadianamericanclub.com/event/1639/2027-02-17
LOCATION:Canadian American Club\, 202 Arlington Street\, Watertown\, MA\, United States
CATEGORIES:Scottish,Session
END:VEVENT
END:VCALENDAR