BEGIN:VCALENDAR
VERSION:2.0
PRODID:-//Canadian American Club - ECPv6.15.20//NONSGML v1.0//EN
CALSCALE:GREGORIAN
METHOD:PUBLISH
X-ORIGINAL-URL:https://canadianamericanclub.com
X-WR-CALDESC:Events for Canadian American Club
REFRESH-INTERVAL;VALUE=DURATION:PT1H
X-Robots-Tag:noindex
X-PUBLISHED-TTL:PT1H
BEGIN:VTIMEZONE
TZID:America/New_York
BEGIN:DAYLIGHT
TZOFFSETFROM:-0500
TZOFFSETTO:-0400
TZNAME:EDT
DTSTART:20250309T070000
END:DAYLIGHT
BEGIN:STANDARD
TZOFFSETFROM:-0400
TZOFFSETTO:-0500
TZNAME:EST
DTSTART:20251102T060000
END:STANDARD
BEGIN:DAYLIGHT
TZOFFSETFROM:-0500
TZOFFSETTO:-0400
TZNAME:EDT
DTSTART:20260308T070000
END:DAYLIGHT
BEGIN:STANDARD
TZOFFSETFROM:-0400
TZOFFSETTO:-0500
TZNAME:EST
DTSTART:20261101T060000
END:STANDARD
BEGIN:DAYLIGHT
TZOFFSETFROM:-0500
TZOFFSETTO:-0400
TZNAME:EDT
DTSTART:20270314T070000
END:DAYLIGHT
BEGIN:STANDARD
TZOFFSETFROM:-0400
TZOFFSETTO:-0500
TZNAME:EST
DTSTART:20271107T060000
END:STANDARD
END:VTIMEZONE
BEGIN:VEVENT
DTSTART;TZID=America/New_York:20260504T194500
DTEND;TZID=America/New_York:20260504T220000
DTSTAMP:20260425T141353
CREATED:20240327T180336Z
LAST-MODIFIED:20240327T180512Z
UID:10000413-1777923900-1777932000@canadianamericanclub.com
SUMMARY:Scottish Country Dancing
DESCRIPTION:Scottish Country Dancing with RSCDS Cambridge Class. \nEvery Monday night\, 7:45 to 10:00
URL:https://canadianamericanclub.com/event/scottish-country-dancing/2026-05-04
LOCATION:Canadian American Club\, 202 Arlington Street\, Watertown\, MA\, United States
CATEGORIES:Dance,Scottish
END:VEVENT
BEGIN:VEVENT
DTSTART;TZID=America/New_York:20260511T194500
DTEND;TZID=America/New_York:20260511T220000
DTSTAMP:20260425T141353
CREATED:20240327T180336Z
LAST-MODIFIED:20240327T180512Z
UID:10000414-1778528700-1778536800@canadianamericanclub.com
SUMMARY:Scottish Country Dancing
DESCRIPTION:Scottish Country Dancing with RSCDS Cambridge Class. \nEvery Monday night\, 7:45 to 10:00
URL:https://canadianamericanclub.com/event/scottish-country-dancing/2026-05-11
LOCATION:Canadian American Club\, 202 Arlington Street\, Watertown\, MA\, United States
CATEGORIES:Dance,Scottish
END:VEVENT
BEGIN:VEVENT
DTSTART;TZID=America/New_York:20260518T194500
DTEND;TZID=America/New_York:20260518T220000
DTSTAMP:20260425T141353
CREATED:20240327T180336Z
LAST-MODIFIED:20240327T180512Z
UID:10000415-1779133500-1779141600@canadianamericanclub.com
SUMMARY:Scottish Country Dancing
DESCRIPTION:Scottish Country Dancing with RSCDS Cambridge Class. \nEvery Monday night\, 7:45 to 10:00
URL:https://canadianamericanclub.com/event/scottish-country-dancing/2026-05-18
LOCATION:Canadian American Club\, 202 Arlington Street\, Watertown\, MA\, United States
CATEGORIES:Dance,Scottish
END:VEVENT
BEGIN:VEVENT
DTSTART;TZID=America/New_York:20260520T193000
DTEND;TZID=America/New_York:20260520T220000
DTSTAMP:20260425T141353
CREATED:20240402T131820Z
LAST-MODIFIED:20240402T152903Z
UID:10001142-1779305400-1779314400@canadianamericanclub.com
SUMMARY:Scottish Session
DESCRIPTION:The Boston Scottish Fiddle Club sponsors these Scottish and Cape Breton jam sessions.  The energetic sessions have become quite popular and there is always room for more.  Come and play your favorite tunes with old and new friends. \nhttps://www.bsfc.org/our-activities/wednesday-night-sessions/
URL:https://canadianamericanclub.com/event/1639/2026-05-20
LOCATION:Canadian American Club\, 202 Arlington Street\, Watertown\, MA\, United States
CATEGORIES:Scottish,Session
END:VEVENT
BEGIN:VEVENT
DTSTART;TZID=America/New_York:20260525T194500
DTEND;TZID=America/New_York:20260525T220000
DTSTAMP:20260425T141353
CREATED:20240327T180336Z
LAST-MODIFIED:20240327T180512Z
UID:10000416-1779738300-1779746400@canadianamericanclub.com
SUMMARY:Scottish Country Dancing
DESCRIPTION:Scottish Country Dancing with RSCDS Cambridge Class. \nEvery Monday night\, 7:45 to 10:00
URL:https://canadianamericanclub.com/event/scottish-country-dancing/2026-05-25
LOCATION:Canadian American Club\, 202 Arlington Street\, Watertown\, MA\, United States
CATEGORIES:Dance,Scottish
END:VEVENT
END:VCALENDAR