BEGIN:VCALENDAR
VERSION:2.0
PRODID:-//Canadian American Club - ECPv6.15.20//NONSGML v1.0//EN
CALSCALE:GREGORIAN
METHOD:PUBLISH
X-ORIGINAL-URL:https://canadianamericanclub.com
X-WR-CALDESC:Events for Canadian American Club
REFRESH-INTERVAL;VALUE=DURATION:PT1H
X-Robots-Tag:noindex
X-PUBLISHED-TTL:PT1H
BEGIN:VTIMEZONE
TZID:America/New_York
BEGIN:DAYLIGHT
TZOFFSETFROM:-0500
TZOFFSETTO:-0400
TZNAME:EDT
DTSTART:20270314T070000
END:DAYLIGHT
BEGIN:STANDARD
TZOFFSETFROM:-0400
TZOFFSETTO:-0500
TZNAME:EST
DTSTART:20271107T060000
END:STANDARD
BEGIN:DAYLIGHT
TZOFFSETFROM:-0500
TZOFFSETTO:-0400
TZNAME:EDT
DTSTART:20280312T070000
END:DAYLIGHT
BEGIN:STANDARD
TZOFFSETFROM:-0400
TZOFFSETTO:-0500
TZNAME:EST
DTSTART:20281105T060000
END:STANDARD
BEGIN:DAYLIGHT
TZOFFSETFROM:-0500
TZOFFSETTO:-0400
TZNAME:EDT
DTSTART:20290311T070000
END:DAYLIGHT
BEGIN:STANDARD
TZOFFSETFROM:-0400
TZOFFSETTO:-0500
TZNAME:EST
DTSTART:20291104T060000
END:STANDARD
BEGIN:DAYLIGHT
TZOFFSETFROM:-0500
TZOFFSETTO:-0400
TZNAME:EDT
DTSTART:20300310T070000
END:DAYLIGHT
BEGIN:STANDARD
TZOFFSETFROM:-0400
TZOFFSETTO:-0500
TZNAME:EST
DTSTART:20301103T060000
END:STANDARD
END:VTIMEZONE
BEGIN:VEVENT
DTSTART;TZID=America/New_York:20280412T190000
DTEND;TZID=America/New_York:20280412T220000
DTSTAMP:20260426T002119
CREATED:20240327T181714Z
LAST-MODIFIED:20240327T181714Z
UID:10000673-1839178800-1839189600@canadianamericanclub.com
SUMMARY:Quebecois Session
DESCRIPTION:Every second Wednesday from 7 to 10 pm.
URL:https://canadianamericanclub.com/event/quebecois-session-2/2028-04-12
LOCATION:Canadian American Club\, 202 Arlington Street\, Watertown\, MA\, United States
CATEGORIES:Quebecois,Session
END:VEVENT
BEGIN:VEVENT
DTSTART;TZID=America/New_York:20280510T190000
DTEND;TZID=America/New_York:20280510T220000
DTSTAMP:20260426T002119
CREATED:20240327T181714Z
LAST-MODIFIED:20240327T181714Z
UID:10000674-1841598000-1841608800@canadianamericanclub.com
SUMMARY:Quebecois Session
DESCRIPTION:Every second Wednesday from 7 to 10 pm.
URL:https://canadianamericanclub.com/event/quebecois-session-2/2028-05-10
LOCATION:Canadian American Club\, 202 Arlington Street\, Watertown\, MA\, United States
CATEGORIES:Quebecois,Session
END:VEVENT
BEGIN:VEVENT
DTSTART;TZID=America/New_York:20280614T190000
DTEND;TZID=America/New_York:20280614T220000
DTSTAMP:20260426T002119
CREATED:20240327T181714Z
LAST-MODIFIED:20240327T181714Z
UID:10000675-1844622000-1844632800@canadianamericanclub.com
SUMMARY:Quebecois Session
DESCRIPTION:Every second Wednesday from 7 to 10 pm.
URL:https://canadianamericanclub.com/event/quebecois-session-2/2028-06-14
LOCATION:Canadian American Club\, 202 Arlington Street\, Watertown\, MA\, United States
CATEGORIES:Quebecois,Session
END:VEVENT
BEGIN:VEVENT
DTSTART;TZID=America/New_York:20280712T190000
DTEND;TZID=America/New_York:20280712T220000
DTSTAMP:20260426T002119
CREATED:20240327T181714Z
LAST-MODIFIED:20240327T181714Z
UID:10000676-1847041200-1847052000@canadianamericanclub.com
SUMMARY:Quebecois Session
DESCRIPTION:Every second Wednesday from 7 to 10 pm.
URL:https://canadianamericanclub.com/event/quebecois-session-2/2028-07-12
LOCATION:Canadian American Club\, 202 Arlington Street\, Watertown\, MA\, United States
CATEGORIES:Quebecois,Session
END:VEVENT
BEGIN:VEVENT
DTSTART;TZID=America/New_York:20280809T190000
DTEND;TZID=America/New_York:20280809T220000
DTSTAMP:20260426T002119
CREATED:20240327T181714Z
LAST-MODIFIED:20240327T181714Z
UID:10000677-1849460400-1849471200@canadianamericanclub.com
SUMMARY:Quebecois Session
DESCRIPTION:Every second Wednesday from 7 to 10 pm.
URL:https://canadianamericanclub.com/event/quebecois-session-2/2028-08-09
LOCATION:Canadian American Club\, 202 Arlington Street\, Watertown\, MA\, United States
CATEGORIES:Quebecois,Session
END:VEVENT
BEGIN:VEVENT
DTSTART;TZID=America/New_York:20280913T190000
DTEND;TZID=America/New_York:20280913T220000
DTSTAMP:20260426T002119
CREATED:20240327T181714Z
LAST-MODIFIED:20240327T181714Z
UID:10000678-1852484400-1852495200@canadianamericanclub.com
SUMMARY:Quebecois Session
DESCRIPTION:Every second Wednesday from 7 to 10 pm.
URL:https://canadianamericanclub.com/event/quebecois-session-2/2028-09-13
LOCATION:Canadian American Club\, 202 Arlington Street\, Watertown\, MA\, United States
CATEGORIES:Quebecois,Session
END:VEVENT
BEGIN:VEVENT
DTSTART;TZID=America/New_York:20281011T190000
DTEND;TZID=America/New_York:20281011T220000
DTSTAMP:20260426T002119
CREATED:20240327T181714Z
LAST-MODIFIED:20240327T181714Z
UID:10000679-1854903600-1854914400@canadianamericanclub.com
SUMMARY:Quebecois Session
DESCRIPTION:Every second Wednesday from 7 to 10 pm.
URL:https://canadianamericanclub.com/event/quebecois-session-2/2028-10-11
LOCATION:Canadian American Club\, 202 Arlington Street\, Watertown\, MA\, United States
CATEGORIES:Quebecois,Session
END:VEVENT
BEGIN:VEVENT
DTSTART;TZID=America/New_York:20281108T190000
DTEND;TZID=America/New_York:20281108T220000
DTSTAMP:20260426T002119
CREATED:20240327T181714Z
LAST-MODIFIED:20240327T181714Z
UID:10000680-1857322800-1857333600@canadianamericanclub.com
SUMMARY:Quebecois Session
DESCRIPTION:Every second Wednesday from 7 to 10 pm.
URL:https://canadianamericanclub.com/event/quebecois-session-2/2028-11-08
LOCATION:Canadian American Club\, 202 Arlington Street\, Watertown\, MA\, United States
CATEGORIES:Quebecois,Session
END:VEVENT
BEGIN:VEVENT
DTSTART;TZID=America/New_York:20281213T190000
DTEND;TZID=America/New_York:20281213T220000
DTSTAMP:20260426T002119
CREATED:20240327T181714Z
LAST-MODIFIED:20240327T181714Z
UID:10000681-1860346800-1860357600@canadianamericanclub.com
SUMMARY:Quebecois Session
DESCRIPTION:Every second Wednesday from 7 to 10 pm.
URL:https://canadianamericanclub.com/event/quebecois-session-2/2028-12-13
LOCATION:Canadian American Club\, 202 Arlington Street\, Watertown\, MA\, United States
CATEGORIES:Quebecois,Session
END:VEVENT
BEGIN:VEVENT
DTSTART;TZID=America/New_York:20290110T190000
DTEND;TZID=America/New_York:20290110T220000
DTSTAMP:20260426T002119
CREATED:20240327T181714Z
LAST-MODIFIED:20240327T181714Z
UID:10000682-1862766000-1862776800@canadianamericanclub.com
SUMMARY:Quebecois Session
DESCRIPTION:Every second Wednesday from 7 to 10 pm.
URL:https://canadianamericanclub.com/event/quebecois-session-2/2029-01-10
LOCATION:Canadian American Club\, 202 Arlington Street\, Watertown\, MA\, United States
CATEGORIES:Quebecois,Session
END:VEVENT
BEGIN:VEVENT
DTSTART;TZID=America/New_York:20290214T190000
DTEND;TZID=America/New_York:20290214T220000
DTSTAMP:20260426T002119
CREATED:20240327T181714Z
LAST-MODIFIED:20240327T181714Z
UID:10000683-1865790000-1865800800@canadianamericanclub.com
SUMMARY:Quebecois Session
DESCRIPTION:Every second Wednesday from 7 to 10 pm.
URL:https://canadianamericanclub.com/event/quebecois-session-2/2029-02-14
LOCATION:Canadian American Club\, 202 Arlington Street\, Watertown\, MA\, United States
CATEGORIES:Quebecois,Session
END:VEVENT
BEGIN:VEVENT
DTSTART;TZID=America/New_York:20290314T190000
DTEND;TZID=America/New_York:20290314T220000
DTSTAMP:20260426T002119
CREATED:20240327T181714Z
LAST-MODIFIED:20240327T181714Z
UID:10000684-1868209200-1868220000@canadianamericanclub.com
SUMMARY:Quebecois Session
DESCRIPTION:Every second Wednesday from 7 to 10 pm.
URL:https://canadianamericanclub.com/event/quebecois-session-2/2029-03-14
LOCATION:Canadian American Club\, 202 Arlington Street\, Watertown\, MA\, United States
CATEGORIES:Quebecois,Session
END:VEVENT
END:VCALENDAR