BEGIN:VCALENDAR
VERSION:2.0
PRODID:-//Canadian American Club - ECPv6.15.20//NONSGML v1.0//EN
CALSCALE:GREGORIAN
METHOD:PUBLISH
X-ORIGINAL-URL:https://canadianamericanclub.com
X-WR-CALDESC:Events for Canadian American Club
REFRESH-INTERVAL;VALUE=DURATION:PT1H
X-Robots-Tag:noindex
X-PUBLISHED-TTL:PT1H
BEGIN:VTIMEZONE
TZID:America/New_York
BEGIN:DAYLIGHT
TZOFFSETFROM:-0500
TZOFFSETTO:-0400
TZNAME:EDT
DTSTART:20220313T070000
END:DAYLIGHT
BEGIN:STANDARD
TZOFFSETFROM:-0400
TZOFFSETTO:-0500
TZNAME:EST
DTSTART:20221106T060000
END:STANDARD
BEGIN:DAYLIGHT
TZOFFSETFROM:-0500
TZOFFSETTO:-0400
TZNAME:EDT
DTSTART:20230312T070000
END:DAYLIGHT
BEGIN:STANDARD
TZOFFSETFROM:-0400
TZOFFSETTO:-0500
TZNAME:EST
DTSTART:20231105T060000
END:STANDARD
BEGIN:DAYLIGHT
TZOFFSETFROM:-0500
TZOFFSETTO:-0400
TZNAME:EDT
DTSTART:20240310T070000
END:DAYLIGHT
BEGIN:STANDARD
TZOFFSETFROM:-0400
TZOFFSETTO:-0500
TZNAME:EST
DTSTART:20241103T060000
END:STANDARD
BEGIN:DAYLIGHT
TZOFFSETFROM:-0500
TZOFFSETTO:-0400
TZNAME:EDT
DTSTART:20250309T070000
END:DAYLIGHT
BEGIN:STANDARD
TZOFFSETFROM:-0400
TZOFFSETTO:-0500
TZNAME:EST
DTSTART:20251102T060000
END:STANDARD
END:VTIMEZONE
BEGIN:VTIMEZONE
TZID:America/New_York
BEGIN:DAYLIGHT
TZOFFSETFROM:-0500
TZOFFSETTO:-0400
TZNAME:EDT
DTSTART:20220313T070000
END:DAYLIGHT
BEGIN:STANDARD
TZOFFSETFROM:-0400
TZOFFSETTO:-0500
TZNAME:EST
DTSTART:20221106T060000
END:STANDARD
BEGIN:DAYLIGHT
TZOFFSETFROM:-0500
TZOFFSETTO:-0400
TZNAME:EDT
DTSTART:20230312T070000
END:DAYLIGHT
BEGIN:STANDARD
TZOFFSETFROM:-0400
TZOFFSETTO:-0500
TZNAME:EST
DTSTART:20231105T060000
END:STANDARD
BEGIN:DAYLIGHT
TZOFFSETFROM:-0500
TZOFFSETTO:-0400
TZNAME:EDT
DTSTART:20240310T070000
END:DAYLIGHT
BEGIN:STANDARD
TZOFFSETFROM:-0400
TZOFFSETTO:-0500
TZNAME:EST
DTSTART:20241103T060000
END:STANDARD
END:VTIMEZONE
BEGIN:VEVENT
DTSTART;TZID=America/New_York:20240410T190000
DTEND;TZID=America/New_York:20240410T220000
DTSTAMP:20260425T194834
CREATED:20240327T181714Z
LAST-MODIFIED:20240327T181714Z
UID:10000625-1712775600-1712786400@canadianamericanclub.com
SUMMARY:Quebecois Session
DESCRIPTION:Every second Wednesday from 7 to 10 pm.
URL:https://canadianamericanclub.com/event/quebecois-session-2/2024-04-10
LOCATION:Canadian American Club\, 202 Arlington Street\, Watertown\, MA\, United States
CATEGORIES:Quebecois,Session
END:VEVENT
BEGIN:VEVENT
DTSTART;TZID=America/New_York:20231029T130000
DTEND;TZID=America/New_York:20231029T190000
DTSTAMP:20260425T194834
CREATED:20231010T150207Z
LAST-MODIFIED:20231023T153728Z
UID:10000028-1698584400-1698606000@canadianamericanclub.com
SUMMARY:Canadian American Club annual Fundraiser Gala 2023
DESCRIPTION:The Canadian American Club is hosting its annual Gala on Sunday\, October 29th beginning at 1pm. The Gala will feature a fabulous array of musicians who donate their time and talent. Come by to enjoy fiddling\, square dancing\, piping\, step and set dancing and of course a song or two! Please join us and bring a friend! \nThere will also be food & drink\, as well as several raffle and door prizes. Feel free to contribute a dessert\, or a plate of finger sandwiches or something like that. \nIf you’d like to volunteer some time\, please let us know. We can always use help setting up tables & chairs the day before\, and cleaning up after the event is over. \nThis event is a major source of income for the club and helps to pay for on-going expenses as well as fund building repairs. This year\, major repairs included rebuilding the emergency exit stairs\, replacing door locks\, and repairs to the HVAC systems. \nSuggested Donation: $20.\nThe bar will be open and accepts cash or credit. \nPerformers: \n\nAdrienne Howard and Friends – Quebecois\nJackie O’Riley’s Dancers\nDown East Revival – Rick Nelson & John Becker\nRachel Reeds – Cape Breton Fiddle\nComhaltas Ceilidh Band – Irish Traditional Music\nGawain Thomas – Cape Breton Fiddle\nBoston Scottish Fiddle Orchestra\nLorraine Lynch – PEI Fiddler\nPlanet Banjo – Old Style Country Music\nLeland Martin – Cape Breton Fiddle\nPatrick Kennedy and Friends – Irish Songs and Traditional Music
URL:https://canadianamericanclub.com/event/canadian-american-club-annual-fundraiser-gala-2023
LOCATION:Canadian American Club\, 202 Arlington Street\, Watertown\, MA\, United States
CATEGORIES:Cape Breton,Concert,Dance,Fundraiser,Irish,PEI,Quebecois,Scottish
ORGANIZER;CN="Canadian American Club":MAILTO:Canadianamericanclub@gmail.com
END:VEVENT
BEGIN:VEVENT
DTSTART;TZID=America/New_York:20230913T193000
DTEND;TZID=America/New_York:20230913T220000
DTSTAMP:20260425T194834
CREATED:20230910T021122Z
LAST-MODIFIED:20230910T021122Z
UID:10000023-1694633400-1694642400@canadianamericanclub.com
SUMMARY:Quebecois Session
DESCRIPTION:Quebecois Session hosted by Adrienne Howard & Paul Musow. 2nd Wednesday of the month from 7:30-10pm. For more information: facebook.com/QueSesBo
URL:https://canadianamericanclub.com/event/quebecois-session
LOCATION:Canadian American Club\, 202 Arlington Street\, Watertown\, MA\, United States
CATEGORIES:Quebecois,Session
END:VEVENT
END:VCALENDAR