BEGIN:VCALENDAR
VERSION:2.0
PRODID:-//Canadian American Club - ECPv6.15.20//NONSGML v1.0//EN
CALSCALE:GREGORIAN
METHOD:PUBLISH
X-ORIGINAL-URL:https://canadianamericanclub.com
X-WR-CALDESC:Events for Canadian American Club
REFRESH-INTERVAL;VALUE=DURATION:PT1H
X-Robots-Tag:noindex
X-PUBLISHED-TTL:PT1H
BEGIN:VTIMEZONE
TZID:America/New_York
BEGIN:DAYLIGHT
TZOFFSETFROM:-0500
TZOFFSETTO:-0400
TZNAME:EDT
DTSTART:20230312T070000
END:DAYLIGHT
BEGIN:STANDARD
TZOFFSETFROM:-0400
TZOFFSETTO:-0500
TZNAME:EST
DTSTART:20231105T060000
END:STANDARD
BEGIN:DAYLIGHT
TZOFFSETFROM:-0500
TZOFFSETTO:-0400
TZNAME:EDT
DTSTART:20240310T070000
END:DAYLIGHT
BEGIN:STANDARD
TZOFFSETFROM:-0400
TZOFFSETTO:-0500
TZNAME:EST
DTSTART:20241103T060000
END:STANDARD
BEGIN:DAYLIGHT
TZOFFSETFROM:-0500
TZOFFSETTO:-0400
TZNAME:EDT
DTSTART:20250309T070000
END:DAYLIGHT
BEGIN:STANDARD
TZOFFSETFROM:-0400
TZOFFSETTO:-0500
TZNAME:EST
DTSTART:20251102T060000
END:STANDARD
BEGIN:DAYLIGHT
TZOFFSETFROM:-0500
TZOFFSETTO:-0400
TZNAME:EDT
DTSTART:20260308T070000
END:DAYLIGHT
BEGIN:STANDARD
TZOFFSETFROM:-0400
TZOFFSETTO:-0500
TZNAME:EST
DTSTART:20261101T060000
END:STANDARD
END:VTIMEZONE
BEGIN:VEVENT
DTSTART;TZID=America/New_York:20250524T200000
DTEND;TZID=America/New_York:20250524T230000
DTSTAMP:20260425T214137
CREATED:20250210T171611Z
LAST-MODIFIED:20250412T005700Z
UID:10001308-1748116800-1748127600@canadianamericanclub.com
SUMMARY:Cape Breton Square Dance with Doug Lamey & Neil Pearlman
DESCRIPTION:Join us for a square dance upstairs at the Canadian American Club! We will have live music provided by Doug Lamey & Neil Pearlman. \n$20 at the door. Bar will be open and accepts cash or credit.
URL:https://canadianamericanclub.com/event/cape-breton-square-dance-with-doug-lamey-janine-randall
LOCATION:Canadian American Club\, 202 Arlington Street\, Watertown\, MA\, United States
CATEGORIES:Cape Breton,Dance
ORGANIZER;CN="Canadian American Club":MAILTO:Canadianamericanclub@gmail.com
END:VEVENT
BEGIN:VEVENT
DTSTART;TZID=America/New_York:20250519T194500
DTEND;TZID=America/New_York:20250519T220000
DTSTAMP:20260425T214137
CREATED:20240327T180336Z
LAST-MODIFIED:20240327T180512Z
UID:10000363-1747683900-1747692000@canadianamericanclub.com
SUMMARY:Scottish Country Dancing
DESCRIPTION:Scottish Country Dancing with RSCDS Cambridge Class. \nEvery Monday night\, 7:45 to 10:00
URL:https://canadianamericanclub.com/event/scottish-country-dancing/2025-05-19
LOCATION:Canadian American Club\, 202 Arlington Street\, Watertown\, MA\, United States
CATEGORIES:Dance,Scottish
END:VEVENT
BEGIN:VEVENT
DTSTART;TZID=America/New_York:20250512T194500
DTEND;TZID=America/New_York:20250512T220000
DTSTAMP:20260425T214137
CREATED:20240327T180336Z
LAST-MODIFIED:20240327T180512Z
UID:10000362-1747079100-1747087200@canadianamericanclub.com
SUMMARY:Scottish Country Dancing
DESCRIPTION:Scottish Country Dancing with RSCDS Cambridge Class. \nEvery Monday night\, 7:45 to 10:00
URL:https://canadianamericanclub.com/event/scottish-country-dancing/2025-05-12
LOCATION:Canadian American Club\, 202 Arlington Street\, Watertown\, MA\, United States
CATEGORIES:Dance,Scottish
END:VEVENT
BEGIN:VEVENT
DTSTART;TZID=America/New_York:20250505T194500
DTEND;TZID=America/New_York:20250505T220000
DTSTAMP:20260425T214137
CREATED:20240327T180336Z
LAST-MODIFIED:20240327T180512Z
UID:10000361-1746474300-1746482400@canadianamericanclub.com
SUMMARY:Scottish Country Dancing
DESCRIPTION:Scottish Country Dancing with RSCDS Cambridge Class. \nEvery Monday night\, 7:45 to 10:00
URL:https://canadianamericanclub.com/event/scottish-country-dancing/2025-05-05
LOCATION:Canadian American Club\, 202 Arlington Street\, Watertown\, MA\, United States
CATEGORIES:Dance,Scottish
END:VEVENT
BEGIN:VEVENT
DTSTART;TZID=America/New_York:20250428T194500
DTEND;TZID=America/New_York:20250428T220000
DTSTAMP:20260425T214137
CREATED:20240327T180336Z
LAST-MODIFIED:20240327T180512Z
UID:10000360-1745869500-1745877600@canadianamericanclub.com
SUMMARY:Scottish Country Dancing
DESCRIPTION:Scottish Country Dancing with RSCDS Cambridge Class. \nEvery Monday night\, 7:45 to 10:00
URL:https://canadianamericanclub.com/event/scottish-country-dancing/2025-04-28
LOCATION:Canadian American Club\, 202 Arlington Street\, Watertown\, MA\, United States
CATEGORIES:Dance,Scottish
END:VEVENT
BEGIN:VEVENT
DTSTART;TZID=America/New_York:20250421T194500
DTEND;TZID=America/New_York:20250421T220000
DTSTAMP:20260425T214137
CREATED:20240327T180336Z
LAST-MODIFIED:20240327T180512Z
UID:10000359-1745264700-1745272800@canadianamericanclub.com
SUMMARY:Scottish Country Dancing
DESCRIPTION:Scottish Country Dancing with RSCDS Cambridge Class. \nEvery Monday night\, 7:45 to 10:00
URL:https://canadianamericanclub.com/event/scottish-country-dancing/2025-04-21
LOCATION:Canadian American Club\, 202 Arlington Street\, Watertown\, MA\, United States
CATEGORIES:Dance,Scottish
END:VEVENT
BEGIN:VEVENT
DTSTART;TZID=America/New_York:20250414T194500
DTEND;TZID=America/New_York:20250414T220000
DTSTAMP:20260425T214137
CREATED:20240327T180336Z
LAST-MODIFIED:20240327T180512Z
UID:10000358-1744659900-1744668000@canadianamericanclub.com
SUMMARY:Scottish Country Dancing
DESCRIPTION:Scottish Country Dancing with RSCDS Cambridge Class. \nEvery Monday night\, 7:45 to 10:00
URL:https://canadianamericanclub.com/event/scottish-country-dancing/2025-04-14
LOCATION:Canadian American Club\, 202 Arlington Street\, Watertown\, MA\, United States
CATEGORIES:Dance,Scottish
END:VEVENT
BEGIN:VEVENT
DTSTART;TZID=America/New_York:20250407T194500
DTEND;TZID=America/New_York:20250407T220000
DTSTAMP:20260425T214137
CREATED:20240327T180336Z
LAST-MODIFIED:20240327T180512Z
UID:10000357-1744055100-1744063200@canadianamericanclub.com
SUMMARY:Scottish Country Dancing
DESCRIPTION:Scottish Country Dancing with RSCDS Cambridge Class. \nEvery Monday night\, 7:45 to 10:00
URL:https://canadianamericanclub.com/event/scottish-country-dancing/2025-04-07
LOCATION:Canadian American Club\, 202 Arlington Street\, Watertown\, MA\, United States
CATEGORIES:Dance,Scottish
END:VEVENT
BEGIN:VEVENT
DTSTART;TZID=America/New_York:20250331T194500
DTEND;TZID=America/New_York:20250331T220000
DTSTAMP:20260425T214137
CREATED:20240327T180336Z
LAST-MODIFIED:20240327T180512Z
UID:10000356-1743450300-1743458400@canadianamericanclub.com
SUMMARY:Scottish Country Dancing
DESCRIPTION:Scottish Country Dancing with RSCDS Cambridge Class. \nEvery Monday night\, 7:45 to 10:00
URL:https://canadianamericanclub.com/event/scottish-country-dancing/2025-03-31
LOCATION:Canadian American Club\, 202 Arlington Street\, Watertown\, MA\, United States
CATEGORIES:Dance,Scottish
END:VEVENT
BEGIN:VEVENT
DTSTART;TZID=America/New_York:20250324T194500
DTEND;TZID=America/New_York:20250324T220000
DTSTAMP:20260425T214137
CREATED:20240327T180336Z
LAST-MODIFIED:20240327T180512Z
UID:10000355-1742845500-1742853600@canadianamericanclub.com
SUMMARY:Scottish Country Dancing
DESCRIPTION:Scottish Country Dancing with RSCDS Cambridge Class. \nEvery Monday night\, 7:45 to 10:00
URL:https://canadianamericanclub.com/event/scottish-country-dancing/2025-03-24
LOCATION:Canadian American Club\, 202 Arlington Street\, Watertown\, MA\, United States
CATEGORIES:Dance,Scottish
END:VEVENT
BEGIN:VEVENT
DTSTART;TZID=America/New_York:20250317T194500
DTEND;TZID=America/New_York:20250317T220000
DTSTAMP:20260425T214137
CREATED:20240327T180336Z
LAST-MODIFIED:20240327T180512Z
UID:10000354-1742240700-1742248800@canadianamericanclub.com
SUMMARY:Scottish Country Dancing
DESCRIPTION:Scottish Country Dancing with RSCDS Cambridge Class. \nEvery Monday night\, 7:45 to 10:00
URL:https://canadianamericanclub.com/event/scottish-country-dancing/2025-03-17
LOCATION:Canadian American Club\, 202 Arlington Street\, Watertown\, MA\, United States
CATEGORIES:Dance,Scottish
END:VEVENT
BEGIN:VEVENT
DTSTART;TZID=America/New_York:20250310T194500
DTEND;TZID=America/New_York:20250310T220000
DTSTAMP:20260425T214137
CREATED:20240327T180336Z
LAST-MODIFIED:20240327T180512Z
UID:10000353-1741635900-1741644000@canadianamericanclub.com
SUMMARY:Scottish Country Dancing
DESCRIPTION:Scottish Country Dancing with RSCDS Cambridge Class. \nEvery Monday night\, 7:45 to 10:00
URL:https://canadianamericanclub.com/event/scottish-country-dancing/2025-03-10
LOCATION:Canadian American Club\, 202 Arlington Street\, Watertown\, MA\, United States
CATEGORIES:Dance,Scottish
END:VEVENT
BEGIN:VEVENT
DTSTART;TZID=America/New_York:20250303T194500
DTEND;TZID=America/New_York:20250303T220000
DTSTAMP:20260425T214137
CREATED:20240327T180336Z
LAST-MODIFIED:20240327T180512Z
UID:10000352-1741031100-1741039200@canadianamericanclub.com
SUMMARY:Scottish Country Dancing
DESCRIPTION:Scottish Country Dancing with RSCDS Cambridge Class. \nEvery Monday night\, 7:45 to 10:00
URL:https://canadianamericanclub.com/event/scottish-country-dancing/2025-03-03
LOCATION:Canadian American Club\, 202 Arlington Street\, Watertown\, MA\, United States
CATEGORIES:Dance,Scottish
END:VEVENT
BEGIN:VEVENT
DTSTART;TZID=America/New_York:20250224T194500
DTEND;TZID=America/New_York:20250224T220000
DTSTAMP:20260425T214137
CREATED:20240327T180336Z
LAST-MODIFIED:20240327T180512Z
UID:10000351-1740426300-1740434400@canadianamericanclub.com
SUMMARY:Scottish Country Dancing
DESCRIPTION:Scottish Country Dancing with RSCDS Cambridge Class. \nEvery Monday night\, 7:45 to 10:00
URL:https://canadianamericanclub.com/event/scottish-country-dancing/2025-02-24
LOCATION:Canadian American Club\, 202 Arlington Street\, Watertown\, MA\, United States
CATEGORIES:Dance,Scottish
END:VEVENT
BEGIN:VEVENT
DTSTART;TZID=America/New_York:20250217T194500
DTEND;TZID=America/New_York:20250217T220000
DTSTAMP:20260425T214137
CREATED:20240327T180336Z
LAST-MODIFIED:20240327T180512Z
UID:10000350-1739821500-1739829600@canadianamericanclub.com
SUMMARY:Scottish Country Dancing
DESCRIPTION:Scottish Country Dancing with RSCDS Cambridge Class. \nEvery Monday night\, 7:45 to 10:00
URL:https://canadianamericanclub.com/event/scottish-country-dancing/2025-02-17
LOCATION:Canadian American Club\, 202 Arlington Street\, Watertown\, MA\, United States
CATEGORIES:Dance,Scottish
END:VEVENT
BEGIN:VEVENT
DTSTART;TZID=America/New_York:20250210T194500
DTEND;TZID=America/New_York:20250210T220000
DTSTAMP:20260425T214137
CREATED:20240327T180336Z
LAST-MODIFIED:20240327T180512Z
UID:10000349-1739216700-1739224800@canadianamericanclub.com
SUMMARY:Scottish Country Dancing
DESCRIPTION:Scottish Country Dancing with RSCDS Cambridge Class. \nEvery Monday night\, 7:45 to 10:00
URL:https://canadianamericanclub.com/event/scottish-country-dancing/2025-02-10
LOCATION:Canadian American Club\, 202 Arlington Street\, Watertown\, MA\, United States
CATEGORIES:Dance,Scottish
END:VEVENT
BEGIN:VEVENT
DTSTART;TZID=America/New_York:20250203T194500
DTEND;TZID=America/New_York:20250203T220000
DTSTAMP:20260425T214137
CREATED:20240327T180336Z
LAST-MODIFIED:20240327T180512Z
UID:10000348-1738611900-1738620000@canadianamericanclub.com
SUMMARY:Scottish Country Dancing
DESCRIPTION:Scottish Country Dancing with RSCDS Cambridge Class. \nEvery Monday night\, 7:45 to 10:00
URL:https://canadianamericanclub.com/event/scottish-country-dancing/2025-02-03
LOCATION:Canadian American Club\, 202 Arlington Street\, Watertown\, MA\, United States
CATEGORIES:Dance,Scottish
END:VEVENT
BEGIN:VEVENT
DTSTART;TZID=America/New_York:20250127T194500
DTEND;TZID=America/New_York:20250127T220000
DTSTAMP:20260425T214137
CREATED:20240327T180336Z
LAST-MODIFIED:20240327T180512Z
UID:10000347-1738007100-1738015200@canadianamericanclub.com
SUMMARY:Scottish Country Dancing
DESCRIPTION:Scottish Country Dancing with RSCDS Cambridge Class. \nEvery Monday night\, 7:45 to 10:00
URL:https://canadianamericanclub.com/event/scottish-country-dancing/2025-01-27
LOCATION:Canadian American Club\, 202 Arlington Street\, Watertown\, MA\, United States
CATEGORIES:Dance,Scottish
END:VEVENT
BEGIN:VEVENT
DTSTART;TZID=America/New_York:20250120T194500
DTEND;TZID=America/New_York:20250120T220000
DTSTAMP:20260425T214137
CREATED:20240327T180336Z
LAST-MODIFIED:20240327T180512Z
UID:10000346-1737402300-1737410400@canadianamericanclub.com
SUMMARY:Scottish Country Dancing
DESCRIPTION:Scottish Country Dancing with RSCDS Cambridge Class. \nEvery Monday night\, 7:45 to 10:00
URL:https://canadianamericanclub.com/event/scottish-country-dancing/2025-01-20
LOCATION:Canadian American Club\, 202 Arlington Street\, Watertown\, MA\, United States
CATEGORIES:Dance,Scottish
END:VEVENT
BEGIN:VEVENT
DTSTART;TZID=America/New_York:20250113T194500
DTEND;TZID=America/New_York:20250113T220000
DTSTAMP:20260425T214137
CREATED:20240327T180336Z
LAST-MODIFIED:20240327T180512Z
UID:10000345-1736797500-1736805600@canadianamericanclub.com
SUMMARY:Scottish Country Dancing
DESCRIPTION:Scottish Country Dancing with RSCDS Cambridge Class. \nEvery Monday night\, 7:45 to 10:00
URL:https://canadianamericanclub.com/event/scottish-country-dancing/2025-01-13
LOCATION:Canadian American Club\, 202 Arlington Street\, Watertown\, MA\, United States
CATEGORIES:Dance,Scottish
END:VEVENT
BEGIN:VEVENT
DTSTART;TZID=America/New_York:20250112T140000
DTEND;TZID=America/New_York:20250112T170000
DTSTAMP:20260425T214137
CREATED:20240219T182535Z
LAST-MODIFIED:20241208T174310Z
UID:10000040-1736690400-1736701200@canadianamericanclub.com
SUMMARY:Sunday Dance Cèilidh
DESCRIPTION:We’re planning a Dance Cèilidh on Sunday\, January 12! Fun\, accessible dances and Mabou Sets will be on the program. Will be an afternoon of great energy! Admission will be $10 / $5 students & kids.
URL:https://canadianamericanclub.com/event/sunday-dance-ceilidh
LOCATION:Canadian American Club\, 202 Arlington Street\, Watertown\, MA\, United States
CATEGORIES:Cape Breton,Dance
ORGANIZER;CN="Canadian American Club":MAILTO:Canadianamericanclub@gmail.com
END:VEVENT
BEGIN:VEVENT
DTSTART;TZID=America/New_York:20250106T194500
DTEND;TZID=America/New_York:20250106T220000
DTSTAMP:20260425T214137
CREATED:20240327T180336Z
LAST-MODIFIED:20240327T180512Z
UID:10000344-1736192700-1736200800@canadianamericanclub.com
SUMMARY:Scottish Country Dancing
DESCRIPTION:Scottish Country Dancing with RSCDS Cambridge Class. \nEvery Monday night\, 7:45 to 10:00
URL:https://canadianamericanclub.com/event/scottish-country-dancing/2025-01-06
LOCATION:Canadian American Club\, 202 Arlington Street\, Watertown\, MA\, United States
CATEGORIES:Dance,Scottish
END:VEVENT
BEGIN:VEVENT
DTSTART;TZID=America/New_York:20241230T194500
DTEND;TZID=America/New_York:20241230T220000
DTSTAMP:20260425T214138
CREATED:20240327T180336Z
LAST-MODIFIED:20240327T180512Z
UID:10000343-1735587900-1735596000@canadianamericanclub.com
SUMMARY:Scottish Country Dancing
DESCRIPTION:Scottish Country Dancing with RSCDS Cambridge Class. \nEvery Monday night\, 7:45 to 10:00
URL:https://canadianamericanclub.com/event/scottish-country-dancing/2024-12-30
LOCATION:Canadian American Club\, 202 Arlington Street\, Watertown\, MA\, United States
CATEGORIES:Dance,Scottish
END:VEVENT
BEGIN:VEVENT
DTSTART;TZID=America/New_York:20241223T194500
DTEND;TZID=America/New_York:20241223T220000
DTSTAMP:20260425T214138
CREATED:20240327T180336Z
LAST-MODIFIED:20240327T180512Z
UID:10000342-1734983100-1734991200@canadianamericanclub.com
SUMMARY:Scottish Country Dancing
DESCRIPTION:Scottish Country Dancing with RSCDS Cambridge Class. \nEvery Monday night\, 7:45 to 10:00
URL:https://canadianamericanclub.com/event/scottish-country-dancing/2024-12-23
LOCATION:Canadian American Club\, 202 Arlington Street\, Watertown\, MA\, United States
CATEGORIES:Dance,Scottish
END:VEVENT
BEGIN:VEVENT
DTSTART;TZID=America/New_York:20241216T194500
DTEND;TZID=America/New_York:20241216T220000
DTSTAMP:20260425T214138
CREATED:20240327T180336Z
LAST-MODIFIED:20240327T180512Z
UID:10000341-1734378300-1734386400@canadianamericanclub.com
SUMMARY:Scottish Country Dancing
DESCRIPTION:Scottish Country Dancing with RSCDS Cambridge Class. \nEvery Monday night\, 7:45 to 10:00
URL:https://canadianamericanclub.com/event/scottish-country-dancing/2024-12-16
LOCATION:Canadian American Club\, 202 Arlington Street\, Watertown\, MA\, United States
CATEGORIES:Dance,Scottish
END:VEVENT
BEGIN:VEVENT
DTSTART;TZID=America/New_York:20241209T194500
DTEND;TZID=America/New_York:20241209T220000
DTSTAMP:20260425T214138
CREATED:20240327T180336Z
LAST-MODIFIED:20240327T180512Z
UID:10000340-1733773500-1733781600@canadianamericanclub.com
SUMMARY:Scottish Country Dancing
DESCRIPTION:Scottish Country Dancing with RSCDS Cambridge Class. \nEvery Monday night\, 7:45 to 10:00
URL:https://canadianamericanclub.com/event/scottish-country-dancing/2024-12-09
LOCATION:Canadian American Club\, 202 Arlington Street\, Watertown\, MA\, United States
CATEGORIES:Dance,Scottish
END:VEVENT
BEGIN:VEVENT
DTSTART;TZID=America/New_York:20241202T194500
DTEND;TZID=America/New_York:20241202T220000
DTSTAMP:20260425T214138
CREATED:20240327T180336Z
LAST-MODIFIED:20240327T180512Z
UID:10000339-1733168700-1733176800@canadianamericanclub.com
SUMMARY:Scottish Country Dancing
DESCRIPTION:Scottish Country Dancing with RSCDS Cambridge Class. \nEvery Monday night\, 7:45 to 10:00
URL:https://canadianamericanclub.com/event/scottish-country-dancing/2024-12-02
LOCATION:Canadian American Club\, 202 Arlington Street\, Watertown\, MA\, United States
CATEGORIES:Dance,Scottish
END:VEVENT
BEGIN:VEVENT
DTSTART;TZID=America/New_York:20241125T194500
DTEND;TZID=America/New_York:20241125T220000
DTSTAMP:20260425T214138
CREATED:20240327T180336Z
LAST-MODIFIED:20240327T180512Z
UID:10000338-1732563900-1732572000@canadianamericanclub.com
SUMMARY:Scottish Country Dancing
DESCRIPTION:Scottish Country Dancing with RSCDS Cambridge Class. \nEvery Monday night\, 7:45 to 10:00
URL:https://canadianamericanclub.com/event/scottish-country-dancing/2024-11-25
LOCATION:Canadian American Club\, 202 Arlington Street\, Watertown\, MA\, United States
CATEGORIES:Dance,Scottish
END:VEVENT
BEGIN:VEVENT
DTSTART;TZID=America/New_York:20241118T194500
DTEND;TZID=America/New_York:20241118T220000
DTSTAMP:20260425T214138
CREATED:20240327T180336Z
LAST-MODIFIED:20240327T180512Z
UID:10000337-1731959100-1731967200@canadianamericanclub.com
SUMMARY:Scottish Country Dancing
DESCRIPTION:Scottish Country Dancing with RSCDS Cambridge Class. \nEvery Monday night\, 7:45 to 10:00
URL:https://canadianamericanclub.com/event/scottish-country-dancing/2024-11-18
LOCATION:Canadian American Club\, 202 Arlington Street\, Watertown\, MA\, United States
CATEGORIES:Dance,Scottish
END:VEVENT
BEGIN:VEVENT
DTSTART;TZID=America/New_York:20241111T194500
DTEND;TZID=America/New_York:20241111T220000
DTSTAMP:20260425T214138
CREATED:20240327T180336Z
LAST-MODIFIED:20240327T180512Z
UID:10000336-1731354300-1731362400@canadianamericanclub.com
SUMMARY:Scottish Country Dancing
DESCRIPTION:Scottish Country Dancing with RSCDS Cambridge Class. \nEvery Monday night\, 7:45 to 10:00
URL:https://canadianamericanclub.com/event/scottish-country-dancing/2024-11-11
LOCATION:Canadian American Club\, 202 Arlington Street\, Watertown\, MA\, United States
CATEGORIES:Dance,Scottish
END:VEVENT
END:VCALENDAR