BEGIN:VCALENDAR
VERSION:2.0
PRODID:-//Canadian American Club - ECPv6.15.20//NONSGML v1.0//EN
CALSCALE:GREGORIAN
METHOD:PUBLISH
X-ORIGINAL-URL:https://canadianamericanclub.com
X-WR-CALDESC:Events for Canadian American Club
REFRESH-INTERVAL;VALUE=DURATION:PT1H
X-Robots-Tag:noindex
X-PUBLISHED-TTL:PT1H
BEGIN:VTIMEZONE
TZID:America/New_York
BEGIN:DAYLIGHT
TZOFFSETFROM:-0500
TZOFFSETTO:-0400
TZNAME:EDT
DTSTART:20250309T070000
END:DAYLIGHT
BEGIN:STANDARD
TZOFFSETFROM:-0400
TZOFFSETTO:-0500
TZNAME:EST
DTSTART:20251102T060000
END:STANDARD
BEGIN:DAYLIGHT
TZOFFSETFROM:-0500
TZOFFSETTO:-0400
TZNAME:EDT
DTSTART:20260308T070000
END:DAYLIGHT
BEGIN:STANDARD
TZOFFSETFROM:-0400
TZOFFSETTO:-0500
TZNAME:EST
DTSTART:20261101T060000
END:STANDARD
BEGIN:DAYLIGHT
TZOFFSETFROM:-0500
TZOFFSETTO:-0400
TZNAME:EDT
DTSTART:20270314T070000
END:DAYLIGHT
BEGIN:STANDARD
TZOFFSETFROM:-0400
TZOFFSETTO:-0500
TZNAME:EST
DTSTART:20271107T060000
END:STANDARD
BEGIN:DAYLIGHT
TZOFFSETFROM:-0500
TZOFFSETTO:-0400
TZNAME:EDT
DTSTART:20280312T070000
END:DAYLIGHT
BEGIN:STANDARD
TZOFFSETFROM:-0400
TZOFFSETTO:-0500
TZNAME:EST
DTSTART:20281105T060000
END:STANDARD
END:VTIMEZONE
BEGIN:VEVENT
DTSTART;TZID=America/New_York:20260824T194500
DTEND;TZID=America/New_York:20260824T220000
DTSTAMP:20260425T214548
CREATED:20240327T180336Z
LAST-MODIFIED:20240327T180512Z
UID:10000429-1787600700-1787608800@canadianamericanclub.com
SUMMARY:Scottish Country Dancing
DESCRIPTION:Scottish Country Dancing with RSCDS Cambridge Class. \nEvery Monday night\, 7:45 to 10:00
URL:https://canadianamericanclub.com/event/scottish-country-dancing/2026-08-24
LOCATION:Canadian American Club\, 202 Arlington Street\, Watertown\, MA\, United States
CATEGORIES:Dance,Scottish
END:VEVENT
BEGIN:VEVENT
DTSTART;TZID=America/New_York:20260831T194500
DTEND;TZID=America/New_York:20260831T220000
DTSTAMP:20260425T214548
CREATED:20240327T180336Z
LAST-MODIFIED:20240327T180512Z
UID:10000430-1788205500-1788213600@canadianamericanclub.com
SUMMARY:Scottish Country Dancing
DESCRIPTION:Scottish Country Dancing with RSCDS Cambridge Class. \nEvery Monday night\, 7:45 to 10:00
URL:https://canadianamericanclub.com/event/scottish-country-dancing/2026-08-31
LOCATION:Canadian American Club\, 202 Arlington Street\, Watertown\, MA\, United States
CATEGORIES:Dance,Scottish
END:VEVENT
BEGIN:VEVENT
DTSTART;TZID=America/New_York:20260907T194500
DTEND;TZID=America/New_York:20260907T220000
DTSTAMP:20260425T214548
CREATED:20240327T180336Z
LAST-MODIFIED:20240327T180512Z
UID:10000431-1788810300-1788818400@canadianamericanclub.com
SUMMARY:Scottish Country Dancing
DESCRIPTION:Scottish Country Dancing with RSCDS Cambridge Class. \nEvery Monday night\, 7:45 to 10:00
URL:https://canadianamericanclub.com/event/scottish-country-dancing/2026-09-07
LOCATION:Canadian American Club\, 202 Arlington Street\, Watertown\, MA\, United States
CATEGORIES:Dance,Scottish
END:VEVENT
BEGIN:VEVENT
DTSTART;TZID=America/New_York:20260914T194500
DTEND;TZID=America/New_York:20260914T220000
DTSTAMP:20260425T214548
CREATED:20240327T180336Z
LAST-MODIFIED:20240327T180512Z
UID:10000432-1789415100-1789423200@canadianamericanclub.com
SUMMARY:Scottish Country Dancing
DESCRIPTION:Scottish Country Dancing with RSCDS Cambridge Class. \nEvery Monday night\, 7:45 to 10:00
URL:https://canadianamericanclub.com/event/scottish-country-dancing/2026-09-14
LOCATION:Canadian American Club\, 202 Arlington Street\, Watertown\, MA\, United States
CATEGORIES:Dance,Scottish
END:VEVENT
BEGIN:VEVENT
DTSTART;TZID=America/New_York:20260921T194500
DTEND;TZID=America/New_York:20260921T220000
DTSTAMP:20260425T214548
CREATED:20240327T180336Z
LAST-MODIFIED:20240327T180512Z
UID:10000433-1790019900-1790028000@canadianamericanclub.com
SUMMARY:Scottish Country Dancing
DESCRIPTION:Scottish Country Dancing with RSCDS Cambridge Class. \nEvery Monday night\, 7:45 to 10:00
URL:https://canadianamericanclub.com/event/scottish-country-dancing/2026-09-21
LOCATION:Canadian American Club\, 202 Arlington Street\, Watertown\, MA\, United States
CATEGORIES:Dance,Scottish
END:VEVENT
BEGIN:VEVENT
DTSTART;TZID=America/New_York:20260928T194500
DTEND;TZID=America/New_York:20260928T220000
DTSTAMP:20260425T214548
CREATED:20240327T180336Z
LAST-MODIFIED:20240327T180512Z
UID:10000434-1790624700-1790632800@canadianamericanclub.com
SUMMARY:Scottish Country Dancing
DESCRIPTION:Scottish Country Dancing with RSCDS Cambridge Class. \nEvery Monday night\, 7:45 to 10:00
URL:https://canadianamericanclub.com/event/scottish-country-dancing/2026-09-28
LOCATION:Canadian American Club\, 202 Arlington Street\, Watertown\, MA\, United States
CATEGORIES:Dance,Scottish
END:VEVENT
BEGIN:VEVENT
DTSTART;TZID=America/New_York:20261005T194500
DTEND;TZID=America/New_York:20261005T220000
DTSTAMP:20260425T214548
CREATED:20240327T180336Z
LAST-MODIFIED:20240327T180512Z
UID:10000435-1791229500-1791237600@canadianamericanclub.com
SUMMARY:Scottish Country Dancing
DESCRIPTION:Scottish Country Dancing with RSCDS Cambridge Class. \nEvery Monday night\, 7:45 to 10:00
URL:https://canadianamericanclub.com/event/scottish-country-dancing/2026-10-05
LOCATION:Canadian American Club\, 202 Arlington Street\, Watertown\, MA\, United States
CATEGORIES:Dance,Scottish
END:VEVENT
BEGIN:VEVENT
DTSTART;TZID=America/New_York:20261012T194500
DTEND;TZID=America/New_York:20261012T220000
DTSTAMP:20260425T214548
CREATED:20240327T180336Z
LAST-MODIFIED:20240327T180512Z
UID:10000436-1791834300-1791842400@canadianamericanclub.com
SUMMARY:Scottish Country Dancing
DESCRIPTION:Scottish Country Dancing with RSCDS Cambridge Class. \nEvery Monday night\, 7:45 to 10:00
URL:https://canadianamericanclub.com/event/scottish-country-dancing/2026-10-12
LOCATION:Canadian American Club\, 202 Arlington Street\, Watertown\, MA\, United States
CATEGORIES:Dance,Scottish
END:VEVENT
BEGIN:VEVENT
DTSTART;TZID=America/New_York:20261019T194500
DTEND;TZID=America/New_York:20261019T220000
DTSTAMP:20260425T214548
CREATED:20240327T180336Z
LAST-MODIFIED:20240327T180512Z
UID:10000437-1792439100-1792447200@canadianamericanclub.com
SUMMARY:Scottish Country Dancing
DESCRIPTION:Scottish Country Dancing with RSCDS Cambridge Class. \nEvery Monday night\, 7:45 to 10:00
URL:https://canadianamericanclub.com/event/scottish-country-dancing/2026-10-19
LOCATION:Canadian American Club\, 202 Arlington Street\, Watertown\, MA\, United States
CATEGORIES:Dance,Scottish
END:VEVENT
BEGIN:VEVENT
DTSTART;TZID=America/New_York:20261026T194500
DTEND;TZID=America/New_York:20261026T220000
DTSTAMP:20260425T214548
CREATED:20240327T180336Z
LAST-MODIFIED:20240327T180512Z
UID:10000438-1793043900-1793052000@canadianamericanclub.com
SUMMARY:Scottish Country Dancing
DESCRIPTION:Scottish Country Dancing with RSCDS Cambridge Class. \nEvery Monday night\, 7:45 to 10:00
URL:https://canadianamericanclub.com/event/scottish-country-dancing/2026-10-26
LOCATION:Canadian American Club\, 202 Arlington Street\, Watertown\, MA\, United States
CATEGORIES:Dance,Scottish
END:VEVENT
BEGIN:VEVENT
DTSTART;TZID=America/New_York:20261102T194500
DTEND;TZID=America/New_York:20261102T220000
DTSTAMP:20260425T214548
CREATED:20240327T180336Z
LAST-MODIFIED:20240327T180512Z
UID:10000439-1793648700-1793656800@canadianamericanclub.com
SUMMARY:Scottish Country Dancing
DESCRIPTION:Scottish Country Dancing with RSCDS Cambridge Class. \nEvery Monday night\, 7:45 to 10:00
URL:https://canadianamericanclub.com/event/scottish-country-dancing/2026-11-02
LOCATION:Canadian American Club\, 202 Arlington Street\, Watertown\, MA\, United States
CATEGORIES:Dance,Scottish
END:VEVENT
BEGIN:VEVENT
DTSTART;TZID=America/New_York:20261109T194500
DTEND;TZID=America/New_York:20261109T220000
DTSTAMP:20260425T214548
CREATED:20240327T180336Z
LAST-MODIFIED:20240327T180512Z
UID:10000440-1794253500-1794261600@canadianamericanclub.com
SUMMARY:Scottish Country Dancing
DESCRIPTION:Scottish Country Dancing with RSCDS Cambridge Class. \nEvery Monday night\, 7:45 to 10:00
URL:https://canadianamericanclub.com/event/scottish-country-dancing/2026-11-09
LOCATION:Canadian American Club\, 202 Arlington Street\, Watertown\, MA\, United States
CATEGORIES:Dance,Scottish
END:VEVENT
BEGIN:VEVENT
DTSTART;TZID=America/New_York:20261116T194500
DTEND;TZID=America/New_York:20261116T220000
DTSTAMP:20260425T214548
CREATED:20240327T180336Z
LAST-MODIFIED:20240327T180512Z
UID:10000441-1794858300-1794866400@canadianamericanclub.com
SUMMARY:Scottish Country Dancing
DESCRIPTION:Scottish Country Dancing with RSCDS Cambridge Class. \nEvery Monday night\, 7:45 to 10:00
URL:https://canadianamericanclub.com/event/scottish-country-dancing/2026-11-16
LOCATION:Canadian American Club\, 202 Arlington Street\, Watertown\, MA\, United States
CATEGORIES:Dance,Scottish
END:VEVENT
BEGIN:VEVENT
DTSTART;TZID=America/New_York:20261123T194500
DTEND;TZID=America/New_York:20261123T220000
DTSTAMP:20260425T214548
CREATED:20240327T180336Z
LAST-MODIFIED:20240327T180512Z
UID:10000442-1795463100-1795471200@canadianamericanclub.com
SUMMARY:Scottish Country Dancing
DESCRIPTION:Scottish Country Dancing with RSCDS Cambridge Class. \nEvery Monday night\, 7:45 to 10:00
URL:https://canadianamericanclub.com/event/scottish-country-dancing/2026-11-23
LOCATION:Canadian American Club\, 202 Arlington Street\, Watertown\, MA\, United States
CATEGORIES:Dance,Scottish
END:VEVENT
BEGIN:VEVENT
DTSTART;TZID=America/New_York:20261130T194500
DTEND;TZID=America/New_York:20261130T220000
DTSTAMP:20260425T214548
CREATED:20240327T180336Z
LAST-MODIFIED:20240327T180512Z
UID:10000443-1796067900-1796076000@canadianamericanclub.com
SUMMARY:Scottish Country Dancing
DESCRIPTION:Scottish Country Dancing with RSCDS Cambridge Class. \nEvery Monday night\, 7:45 to 10:00
URL:https://canadianamericanclub.com/event/scottish-country-dancing/2026-11-30
LOCATION:Canadian American Club\, 202 Arlington Street\, Watertown\, MA\, United States
CATEGORIES:Dance,Scottish
END:VEVENT
BEGIN:VEVENT
DTSTART;TZID=America/New_York:20261207T194500
DTEND;TZID=America/New_York:20261207T220000
DTSTAMP:20260425T214548
CREATED:20240327T180336Z
LAST-MODIFIED:20240327T180512Z
UID:10000444-1796672700-1796680800@canadianamericanclub.com
SUMMARY:Scottish Country Dancing
DESCRIPTION:Scottish Country Dancing with RSCDS Cambridge Class. \nEvery Monday night\, 7:45 to 10:00
URL:https://canadianamericanclub.com/event/scottish-country-dancing/2026-12-07
LOCATION:Canadian American Club\, 202 Arlington Street\, Watertown\, MA\, United States
CATEGORIES:Dance,Scottish
END:VEVENT
BEGIN:VEVENT
DTSTART;TZID=America/New_York:20261214T194500
DTEND;TZID=America/New_York:20261214T220000
DTSTAMP:20260425T214548
CREATED:20240327T180336Z
LAST-MODIFIED:20240327T180512Z
UID:10000445-1797277500-1797285600@canadianamericanclub.com
SUMMARY:Scottish Country Dancing
DESCRIPTION:Scottish Country Dancing with RSCDS Cambridge Class. \nEvery Monday night\, 7:45 to 10:00
URL:https://canadianamericanclub.com/event/scottish-country-dancing/2026-12-14
LOCATION:Canadian American Club\, 202 Arlington Street\, Watertown\, MA\, United States
CATEGORIES:Dance,Scottish
END:VEVENT
BEGIN:VEVENT
DTSTART;TZID=America/New_York:20261221T194500
DTEND;TZID=America/New_York:20261221T220000
DTSTAMP:20260425T214548
CREATED:20240327T180336Z
LAST-MODIFIED:20240327T180512Z
UID:10000446-1797882300-1797890400@canadianamericanclub.com
SUMMARY:Scottish Country Dancing
DESCRIPTION:Scottish Country Dancing with RSCDS Cambridge Class. \nEvery Monday night\, 7:45 to 10:00
URL:https://canadianamericanclub.com/event/scottish-country-dancing/2026-12-21
LOCATION:Canadian American Club\, 202 Arlington Street\, Watertown\, MA\, United States
CATEGORIES:Dance,Scottish
END:VEVENT
BEGIN:VEVENT
DTSTART;TZID=America/New_York:20261228T194500
DTEND;TZID=America/New_York:20261228T220000
DTSTAMP:20260425T214548
CREATED:20240327T180336Z
LAST-MODIFIED:20240327T180512Z
UID:10000447-1798487100-1798495200@canadianamericanclub.com
SUMMARY:Scottish Country Dancing
DESCRIPTION:Scottish Country Dancing with RSCDS Cambridge Class. \nEvery Monday night\, 7:45 to 10:00
URL:https://canadianamericanclub.com/event/scottish-country-dancing/2026-12-28
LOCATION:Canadian American Club\, 202 Arlington Street\, Watertown\, MA\, United States
CATEGORIES:Dance,Scottish
END:VEVENT
BEGIN:VEVENT
DTSTART;TZID=America/New_York:20270104T194500
DTEND;TZID=America/New_York:20270104T220000
DTSTAMP:20260425T214548
CREATED:20240327T180336Z
LAST-MODIFIED:20240327T180512Z
UID:10000448-1799091900-1799100000@canadianamericanclub.com
SUMMARY:Scottish Country Dancing
DESCRIPTION:Scottish Country Dancing with RSCDS Cambridge Class. \nEvery Monday night\, 7:45 to 10:00
URL:https://canadianamericanclub.com/event/scottish-country-dancing/2027-01-04
LOCATION:Canadian American Club\, 202 Arlington Street\, Watertown\, MA\, United States
CATEGORIES:Dance,Scottish
END:VEVENT
BEGIN:VEVENT
DTSTART;TZID=America/New_York:20270111T194500
DTEND;TZID=America/New_York:20270111T220000
DTSTAMP:20260425T214548
CREATED:20240327T180336Z
LAST-MODIFIED:20240327T180512Z
UID:10000449-1799696700-1799704800@canadianamericanclub.com
SUMMARY:Scottish Country Dancing
DESCRIPTION:Scottish Country Dancing with RSCDS Cambridge Class. \nEvery Monday night\, 7:45 to 10:00
URL:https://canadianamericanclub.com/event/scottish-country-dancing/2027-01-11
LOCATION:Canadian American Club\, 202 Arlington Street\, Watertown\, MA\, United States
CATEGORIES:Dance,Scottish
END:VEVENT
BEGIN:VEVENT
DTSTART;TZID=America/New_York:20270118T194500
DTEND;TZID=America/New_York:20270118T220000
DTSTAMP:20260425T214548
CREATED:20240327T180336Z
LAST-MODIFIED:20240327T180512Z
UID:10000450-1800301500-1800309600@canadianamericanclub.com
SUMMARY:Scottish Country Dancing
DESCRIPTION:Scottish Country Dancing with RSCDS Cambridge Class. \nEvery Monday night\, 7:45 to 10:00
URL:https://canadianamericanclub.com/event/scottish-country-dancing/2027-01-18
LOCATION:Canadian American Club\, 202 Arlington Street\, Watertown\, MA\, United States
CATEGORIES:Dance,Scottish
END:VEVENT
BEGIN:VEVENT
DTSTART;TZID=America/New_York:20270125T194500
DTEND;TZID=America/New_York:20270125T220000
DTSTAMP:20260425T214548
CREATED:20240327T180336Z
LAST-MODIFIED:20240327T180512Z
UID:10000451-1800906300-1800914400@canadianamericanclub.com
SUMMARY:Scottish Country Dancing
DESCRIPTION:Scottish Country Dancing with RSCDS Cambridge Class. \nEvery Monday night\, 7:45 to 10:00
URL:https://canadianamericanclub.com/event/scottish-country-dancing/2027-01-25
LOCATION:Canadian American Club\, 202 Arlington Street\, Watertown\, MA\, United States
CATEGORIES:Dance,Scottish
END:VEVENT
BEGIN:VEVENT
DTSTART;TZID=America/New_York:20270201T194500
DTEND;TZID=America/New_York:20270201T220000
DTSTAMP:20260425T214548
CREATED:20240327T180336Z
LAST-MODIFIED:20240327T180512Z
UID:10000452-1801511100-1801519200@canadianamericanclub.com
SUMMARY:Scottish Country Dancing
DESCRIPTION:Scottish Country Dancing with RSCDS Cambridge Class. \nEvery Monday night\, 7:45 to 10:00
URL:https://canadianamericanclub.com/event/scottish-country-dancing/2027-02-01
LOCATION:Canadian American Club\, 202 Arlington Street\, Watertown\, MA\, United States
CATEGORIES:Dance,Scottish
END:VEVENT
BEGIN:VEVENT
DTSTART;TZID=America/New_York:20270208T194500
DTEND;TZID=America/New_York:20270208T220000
DTSTAMP:20260425T214548
CREATED:20240327T180336Z
LAST-MODIFIED:20240327T180512Z
UID:10000453-1802115900-1802124000@canadianamericanclub.com
SUMMARY:Scottish Country Dancing
DESCRIPTION:Scottish Country Dancing with RSCDS Cambridge Class. \nEvery Monday night\, 7:45 to 10:00
URL:https://canadianamericanclub.com/event/scottish-country-dancing/2027-02-08
LOCATION:Canadian American Club\, 202 Arlington Street\, Watertown\, MA\, United States
CATEGORIES:Dance,Scottish
END:VEVENT
BEGIN:VEVENT
DTSTART;TZID=America/New_York:20270215T194500
DTEND;TZID=America/New_York:20270215T220000
DTSTAMP:20260425T214548
CREATED:20240327T180336Z
LAST-MODIFIED:20240327T180512Z
UID:10000454-1802720700-1802728800@canadianamericanclub.com
SUMMARY:Scottish Country Dancing
DESCRIPTION:Scottish Country Dancing with RSCDS Cambridge Class. \nEvery Monday night\, 7:45 to 10:00
URL:https://canadianamericanclub.com/event/scottish-country-dancing/2027-02-15
LOCATION:Canadian American Club\, 202 Arlington Street\, Watertown\, MA\, United States
CATEGORIES:Dance,Scottish
END:VEVENT
BEGIN:VEVENT
DTSTART;TZID=America/New_York:20270222T194500
DTEND;TZID=America/New_York:20270222T220000
DTSTAMP:20260425T214548
CREATED:20240327T180336Z
LAST-MODIFIED:20240327T180512Z
UID:10000455-1803325500-1803333600@canadianamericanclub.com
SUMMARY:Scottish Country Dancing
DESCRIPTION:Scottish Country Dancing with RSCDS Cambridge Class. \nEvery Monday night\, 7:45 to 10:00
URL:https://canadianamericanclub.com/event/scottish-country-dancing/2027-02-22
LOCATION:Canadian American Club\, 202 Arlington Street\, Watertown\, MA\, United States
CATEGORIES:Dance,Scottish
END:VEVENT
BEGIN:VEVENT
DTSTART;TZID=America/New_York:20270301T194500
DTEND;TZID=America/New_York:20270301T220000
DTSTAMP:20260425T214548
CREATED:20240327T180336Z
LAST-MODIFIED:20240327T180512Z
UID:10000456-1803930300-1803938400@canadianamericanclub.com
SUMMARY:Scottish Country Dancing
DESCRIPTION:Scottish Country Dancing with RSCDS Cambridge Class. \nEvery Monday night\, 7:45 to 10:00
URL:https://canadianamericanclub.com/event/scottish-country-dancing/2027-03-01
LOCATION:Canadian American Club\, 202 Arlington Street\, Watertown\, MA\, United States
CATEGORIES:Dance,Scottish
END:VEVENT
BEGIN:VEVENT
DTSTART;TZID=America/New_York:20270308T194500
DTEND;TZID=America/New_York:20270308T220000
DTSTAMP:20260425T214548
CREATED:20240327T180336Z
LAST-MODIFIED:20240327T180512Z
UID:10000457-1804535100-1804543200@canadianamericanclub.com
SUMMARY:Scottish Country Dancing
DESCRIPTION:Scottish Country Dancing with RSCDS Cambridge Class. \nEvery Monday night\, 7:45 to 10:00
URL:https://canadianamericanclub.com/event/scottish-country-dancing/2027-03-08
LOCATION:Canadian American Club\, 202 Arlington Street\, Watertown\, MA\, United States
CATEGORIES:Dance,Scottish
END:VEVENT
BEGIN:VEVENT
DTSTART;TZID=America/New_York:20270315T194500
DTEND;TZID=America/New_York:20270315T220000
DTSTAMP:20260425T214548
CREATED:20240327T180336Z
LAST-MODIFIED:20240327T180512Z
UID:10000458-1805139900-1805148000@canadianamericanclub.com
SUMMARY:Scottish Country Dancing
DESCRIPTION:Scottish Country Dancing with RSCDS Cambridge Class. \nEvery Monday night\, 7:45 to 10:00
URL:https://canadianamericanclub.com/event/scottish-country-dancing/2027-03-15
LOCATION:Canadian American Club\, 202 Arlington Street\, Watertown\, MA\, United States
CATEGORIES:Dance,Scottish
END:VEVENT
END:VCALENDAR